BEGIN:VCALENDAR
VERSION:2.0
PRODID:IEEE vTools.Events//EN
CALSCALE:GREGORIAN
BEGIN:VTIMEZONE
TZID:America/New_York
BEGIN:DAYLIGHT
DTSTART:20260308T030000
TZOFFSETFROM:-0500
TZOFFSETTO:-0400
RRULE:FREQ=YEARLY;BYDAY=2SU;BYMONTH=3
TZNAME:EDT
END:DAYLIGHT
BEGIN:STANDARD
DTSTART:20251102T010000
TZOFFSETFROM:-0400
TZOFFSETTO:-0500
RRULE:FREQ=YEARLY;BYDAY=1SU;BYMONTH=11
TZNAME:EST
END:STANDARD
END:VTIMEZONE
BEGIN:VEVENT
DTSTAMP:20251206T170153Z
UID:89BA23B5-E03C-4D79-B47D-1E9D203F83F1
DTSTART;TZID=America/New_York:20251120T180000
DTEND;TZID=America/New_York:20251120T200000
DESCRIPTION:Excom update on how we will get funding to the Youngstown Secti
 on at YSU\n\nAgenda: \nWe will speak with financial and EKN this week on d
 eveloping a new point of contact for YSU.\n\nRobert (Bob) at YSU will take
  lead for EKN. Hopefully the meeting is informative.\n\nWe are also speaki
 ng with finances this week on getting finances to YSU for Capstone project
 s.\n\nNiles\, Ohio\, United States\, Virtual: https://events.vtools.ieee.o
 rg/m/515508
LOCATION:Niles\, Ohio\, United States\, Virtual: https://events.vtools.ieee
 .org/m/515508
ORGANIZER:acnuzzi@gmail.com
SEQUENCE:12
SUMMARY:Officers Event - November 2025
URL;VALUE=URI:https://events.vtools.ieee.org/m/515508
X-ALT-DESC:Description: &lt;br /&gt;&lt;p&gt;Excom update&amp;nbsp\; on how we will get fun
 ding to the Youngstown Section at YSU&lt;/p&gt;&lt;br /&gt;&lt;br /&gt;Agenda: &lt;br /&gt;&lt;p&gt;We w
 ill speak with financial and EKN this week on developing a new point of co
 ntact for YSU.&amp;nbsp\;&lt;/p&gt;\n&lt;p&gt;Robert (Bob) at YSU will take lead for EKN. 
 Hopefully the meeting is informative.&amp;nbsp\;&lt;/p&gt;\n&lt;p&gt;We are also speaking 
 with finances this week on getting finances to YSU for Capstone projects.&lt;
 /p&gt;
END:VEVENT
END:VCALENDAR

