BEGIN:VCALENDAR
VERSION:2.0
PRODID:IEEE vTools.Events//EN
CALSCALE:GREGORIAN
BEGIN:VTIMEZONE
TZID:America/Mexico_City
BEGIN:STANDARD
DTSTART:20221030T010000
TZOFFSETFROM:-0500
TZOFFSETTO:-0600
TZNAME:CST
END:STANDARD
END:VTIMEZONE
BEGIN:VEVENT
DTSTAMP:20251121T161157Z
UID:8D21D51A-E66B-4CE0-9736-4A8E1FACB489
DTSTART;TZID=America/Mexico_City:20250905T140000
DTEND;TZID=America/Mexico_City:20251118T152000
DESCRIPTION:El pasado viernes 05 de septiembre se llevó a cabo la ceremoni
 a de presentación oficial de la Rama Estudiantil IEEE del TecNM Campus Mi
 santla\, un evento que marca el inicio de una nueva etapa de crecimiento a
 cadémico y profesional para nuestros estudiantes. [🙌][💡]\n\nDurante
  la ceremonia contamos con la presencia de distinguidas autoridades y pers
 onalidades:\n[👩‍💼] Dra. Sacsi Xhanat Cervantes Herrera\, directora
  general del ITSM.\n[👨‍🏫] Dr. David Lara Alabazares\, consejero de
  la Rama Estudiantil.\n[👩‍🏫] Mtra. Paulina Gutiérrez León\, con 
 la plática “El IEEE en la formación estudiantil”.\n[👨‍🔬] Dr.
  Jaime Martínez Castillo\, con la plática “El IEEE y la trayectoria en
  la investigación”.\n[👨‍💼] Dr. Jesús García Guzmán\, preside
 nte de la Sección IEEE Veracruz.\n\nAsí mismo\, se llevó a cabo la toma
  de protesta del comité estudiantil\, conformado por alumnos comprometido
 s con el desarrollo tecnológico y científico de nuestra comunidad. [🌎
 ][🔧][⚡]\n\n[📸] Al final\, se realizó la foto oficial con todos lo
 s integrantes y autoridades que nos acompañaron en este día tan importan
 te.\n\nAgradecemos profundamente a[] todos los invitados\, coordinadores\,
  docentes y estudiantes que hicieron posible este gran evento.\n\nKm 1.8 C
 tra.Misantla-Loma del cojolite\, Misantla\, Veracruz-Llave\, Mexico\, 9382
 8
LOCATION:Km 1.8 Ctra.Misantla-Loma del cojolite\, Misantla\, Veracruz-Llave
 \, Mexico\, 93828
ORGANIZER:marianamartinezhernandez52@gmail.com
SEQUENCE:9
SUMMARY:PRESENTACIÓN OFICIAL DE LA RAMA ESTUDIANTIL IEEE TECNM CAMPUS MISA
 NTLA
URL;VALUE=URI:https://events.vtools.ieee.org/m/515962
X-ALT-DESC:Description: &lt;br /&gt;&lt;div class=&quot;xdj266r x14z9mp xat24cr x1lziwak 
 x1vvkbs x126k92a&quot;&gt;\n&lt;div dir=&quot;auto&quot;&gt;El pasado viernes 05 de septiembre se 
 llev&amp;oacute\; a cabo la ceremonia de presentaci&amp;oacute\;n oficial de la Ra
 ma Estudiantil IEEE del TecNM Campus Misantla\, un evento que marca el ini
 cio de una nueva etapa de crecimiento acad&amp;eacute\;mico y profesional para
  nuestros estudiantes. &lt;span class=&quot;html-span xexx8yu xyri2b x18d9i69 x1c1
 uobl x1hl2dhg x16tdsg8 x1vvkbs x3nfvp2 x1j61x8r x1fcty0u xdj266r xat24cr x
 m2jcoa x1mpyi22 xxymvpz xlup9mm x1kky2od&quot;&gt;&lt;img class=&quot;xz74otr x15mokao x1g
 a7v0g x16uus16 xbiv7yw&quot; src=&quot;https://static.xx.fbcdn.net/images/emoji.php/
 v9/tfd/1/16/1f64c.png&quot; alt=&quot;🙌&quot; width=&quot;16&quot; height=&quot;16&quot;&gt;&lt;/span&gt;&lt;span clas
 s=&quot;html-span xexx8yu xyri2b x18d9i69 x1c1uobl x1hl2dhg x16tdsg8 x1vvkbs x3
 nfvp2 x1j61x8r x1fcty0u xdj266r xat24cr xm2jcoa x1mpyi22 xxymvpz xlup9mm x
 1kky2od&quot;&gt;&lt;img class=&quot;xz74otr x15mokao x1ga7v0g x16uus16 xbiv7yw&quot; src=&quot;http
 s://static.xx.fbcdn.net/images/emoji.php/v9/t3c/1/16/1f4a1.png&quot; alt=&quot;💡&quot;
  width=&quot;16&quot; height=&quot;16&quot;&gt;&lt;/span&gt;&lt;/div&gt;\n&lt;/div&gt;\n&lt;div class=&quot;x14z9mp xat24cr
  x1lziwak x1vvkbs xtlvy1s x126k92a&quot;&gt;\n&lt;div dir=&quot;auto&quot;&gt;Durante la ceremonia
  contamos con la presencia de distinguidas autoridades y personalidades:&lt;/
 div&gt;\n&lt;div dir=&quot;auto&quot;&gt;&lt;span class=&quot;html-span xexx8yu xyri2b x18d9i69 x1c1u
 obl x1hl2dhg x16tdsg8 x1vvkbs x3nfvp2 x1j61x8r x1fcty0u xdj266r xat24cr xm
 2jcoa x1mpyi22 xxymvpz xlup9mm x1kky2od&quot;&gt;&lt;img class=&quot;xz74otr x15mokao x1ga
 7v0g x16uus16 xbiv7yw&quot; src=&quot;https://static.xx.fbcdn.net/images/emoji.php/v
 9/t79/1/16/1f469_200d_1f4bc.png&quot; alt=&quot;👩&amp;zwj\;💼&quot; width=&quot;16&quot; height=&quot;1
 6&quot;&gt;&lt;/span&gt; Dra. Sacsi Xhanat Cervantes Herrera\, directora general del ITS
 M.&lt;/div&gt;\n&lt;div dir=&quot;auto&quot;&gt;&lt;span class=&quot;html-span xexx8yu xyri2b x18d9i69 x
 1c1uobl x1hl2dhg x16tdsg8 x1vvkbs x3nfvp2 x1j61x8r x1fcty0u xdj266r xat24c
 r xm2jcoa x1mpyi22 xxymvpz xlup9mm x1kky2od&quot;&gt;&lt;img class=&quot;xz74otr x15mokao 
 x1ga7v0g x16uus16 xbiv7yw&quot; src=&quot;https://static.xx.fbcdn.net/images/emoji.p
 hp/v9/tb5/1/16/1f468_200d_1f3eb.png&quot; alt=&quot;👨&amp;zwj\;🏫&quot; width=&quot;16&quot; heigh
 t=&quot;16&quot;&gt;&lt;/span&gt; Dr. David Lara Alabazares\, consejero de la Rama Estudianti
 l.&lt;/div&gt;\n&lt;div dir=&quot;auto&quot;&gt;&lt;span class=&quot;html-span xexx8yu xyri2b x18d9i69 x
 1c1uobl x1hl2dhg x16tdsg8 x1vvkbs x3nfvp2 x1j61x8r x1fcty0u xdj266r xat24c
 r xm2jcoa x1mpyi22 xxymvpz xlup9mm x1kky2od&quot;&gt;&lt;img class=&quot;xz74otr x15mokao 
 x1ga7v0g x16uus16 xbiv7yw&quot; src=&quot;https://static.xx.fbcdn.net/images/emoji.p
 hp/v9/t94/1/16/1f469_200d_1f3eb.png&quot; alt=&quot;👩&amp;zwj\;🏫&quot; width=&quot;16&quot; heigh
 t=&quot;16&quot;&gt;&lt;/span&gt; Mtra. Paulina Guti&amp;eacute\;rrez Le&amp;oacute\;n\, con la pl&amp;aa
 cute\;tica &amp;ldquo\;El IEEE en la formaci&amp;oacute\;n estudiantil&amp;rdquo\;.&lt;/d
 iv&gt;\n&lt;div dir=&quot;auto&quot;&gt;&lt;span class=&quot;html-span xexx8yu xyri2b x18d9i69 x1c1uo
 bl x1hl2dhg x16tdsg8 x1vvkbs x3nfvp2 x1j61x8r x1fcty0u xdj266r xat24cr xm2
 jcoa x1mpyi22 xxymvpz xlup9mm x1kky2od&quot;&gt;&lt;img class=&quot;xz74otr x15mokao x1ga7
 v0g x16uus16 xbiv7yw&quot; src=&quot;https://static.xx.fbcdn.net/images/emoji.php/v9
 /tb/1/16/1f468_200d_1f52c.png&quot; alt=&quot;👨&amp;zwj\;🔬&quot; width=&quot;16&quot; height=&quot;16&quot;
 &gt;&lt;/span&gt; Dr. Jaime Mart&amp;iacute\;nez Castillo\, con la pl&amp;aacute\;tica &amp;ldq
 uo\;El IEEE y la trayectoria en la investigaci&amp;oacute\;n&amp;rdquo\;.&lt;/div&gt;\n&lt;
 div dir=&quot;auto&quot;&gt;&lt;span class=&quot;html-span xexx8yu xyri2b x18d9i69 x1c1uobl x1h
 l2dhg x16tdsg8 x1vvkbs x3nfvp2 x1j61x8r x1fcty0u xdj266r xat24cr xm2jcoa x
 1mpyi22 xxymvpz xlup9mm x1kky2od&quot;&gt;&lt;img class=&quot;xz74otr x15mokao x1ga7v0g x1
 6uus16 xbiv7yw&quot; src=&quot;https://static.xx.fbcdn.net/images/emoji.php/v9/t9a/1
 /16/1f468_200d_1f4bc.png&quot; alt=&quot;👨&amp;zwj\;💼&quot; width=&quot;16&quot; height=&quot;16&quot;&gt;&lt;/sp
 an&gt; Dr. Jes&amp;uacute\;s Garc&amp;iacute\;a Guzm&amp;aacute\;n\, presidente de la Sec
 ci&amp;oacute\;n IEEE Veracruz.&lt;/div&gt;\n&lt;/div&gt;\n&lt;div class=&quot;x14z9mp xat24cr x1l
 ziwak x1vvkbs xtlvy1s x126k92a&quot;&gt;\n&lt;div dir=&quot;auto&quot;&gt;As&amp;iacute\; mismo\, se l
 lev&amp;oacute\; a cabo la toma de protesta del comit&amp;eacute\; estudiantil\, c
 onformado por alumnos comprometidos con el desarrollo tecnol&amp;oacute\;gico 
 y cient&amp;iacute\;fico de nuestra comunidad. &lt;span class=&quot;html-span xexx8yu 
 xyri2b x18d9i69 x1c1uobl x1hl2dhg x16tdsg8 x1vvkbs x3nfvp2 x1j61x8r x1fcty
 0u xdj266r xat24cr xm2jcoa x1mpyi22 xxymvpz xlup9mm x1kky2od&quot;&gt;&lt;img class=&quot;
 xz74otr x15mokao x1ga7v0g x16uus16 xbiv7yw&quot; src=&quot;https://static.xx.fbcdn.n
 et/images/emoji.php/v9/tc0/1/16/1f30e.png&quot; alt=&quot;🌎&quot; width=&quot;16&quot; height=&quot;1
 6&quot;&gt;&lt;/span&gt;&lt;span class=&quot;html-span xexx8yu xyri2b x18d9i69 x1c1uobl x1hl2dhg
  x16tdsg8 x1vvkbs x3nfvp2 x1j61x8r x1fcty0u xdj266r xat24cr xm2jcoa x1mpyi
 22 xxymvpz xlup9mm x1kky2od&quot;&gt;&lt;img class=&quot;xz74otr x15mokao x1ga7v0g x16uus1
 6 xbiv7yw&quot; src=&quot;https://static.xx.fbcdn.net/images/emoji.php/v9/t52/1/16/1
 f527.png&quot; alt=&quot;🔧&quot; width=&quot;16&quot; height=&quot;16&quot;&gt;&lt;/span&gt;&lt;span class=&quot;html-span 
 xexx8yu xyri2b x18d9i69 x1c1uobl x1hl2dhg x16tdsg8 x1vvkbs x3nfvp2 x1j61x8
 r x1fcty0u xdj266r xat24cr xm2jcoa x1mpyi22 xxymvpz xlup9mm x1kky2od&quot;&gt;&lt;img
  class=&quot;xz74otr x15mokao x1ga7v0g x16uus16 xbiv7yw&quot; src=&quot;https://static.xx
 .fbcdn.net/images/emoji.php/v9/t5d/1/16/26a1.png&quot; alt=&quot;⚡&quot; width=&quot;16&quot; hei
 ght=&quot;16&quot;&gt;&lt;/span&gt;&lt;/div&gt;\n&lt;/div&gt;\n&lt;div class=&quot;x14z9mp xat24cr x1lziwak x1vvk
 bs xtlvy1s x126k92a&quot;&gt;\n&lt;div dir=&quot;auto&quot;&gt;&lt;span class=&quot;html-span xexx8yu xyri
 2b x18d9i69 x1c1uobl x1hl2dhg x16tdsg8 x1vvkbs x3nfvp2 x1j61x8r x1fcty0u x
 dj266r xat24cr xm2jcoa x1mpyi22 xxymvpz xlup9mm x1kky2od&quot;&gt;&lt;img class=&quot;xz74
 otr x15mokao x1ga7v0g x16uus16 xbiv7yw&quot; src=&quot;https://static.xx.fbcdn.net/i
 mages/emoji.php/v9/tde/1/16/1f4f8.png&quot; alt=&quot;📸&quot; width=&quot;16&quot; height=&quot;16&quot;&gt;&lt;
 /span&gt; Al final\, se realiz&amp;oacute\; la foto oficial con todos los integra
 ntes y autoridades que nos acompa&amp;ntilde\;aron en este d&amp;iacute\;a tan imp
 ortante.&lt;/div&gt;\n&lt;/div&gt;\n&lt;div class=&quot;x14z9mp xat24cr x1lziwak x1vvkbs xtlvy
 1s x126k92a&quot;&gt;\n&lt;div dir=&quot;auto&quot;&gt;Agradecemos profundamente a&lt;img src=&quot;https:
 //events.vtools.ieee.org/vtools_ui/media/display/4e822182-dc42-4b93-a43d-b
 041eaeff00f&quot; alt=&quot;&quot; width=&quot;1156&quot; height=&quot;651&quot;&gt; todos los invitados\, coord
 inadores\, docentes y estudiantes que hicieron posible este gran evento.&lt;/
 div&gt;\n&lt;/div&gt;
END:VEVENT
END:VCALENDAR

