BEGIN:VCALENDAR
VERSION:2.0
PRODID:IEEE vTools.Events//EN
CALSCALE:GREGORIAN
BEGIN:VTIMEZONE
TZID:Asia/Kolkata
BEGIN:STANDARD
DTSTART:19451014T230000
TZOFFSETFROM:+0630
TZOFFSETTO:+0530
TZNAME:IST
END:STANDARD
END:VTIMEZONE
BEGIN:VEVENT
DTSTAMP:20251215T165443Z
UID:85128A71-815E-4F82-B2A8-B33DAB490C4C
DTSTART;TZID=Asia/Kolkata:20251211T090000
DTEND;TZID=Asia/Kolkata:20251211T110000
DESCRIPTION:Rapid progress in materials processing and fabrication has enab
 led a new generation of sophisticated sensors with expanding roles across 
 scientific\, industrial\, and consumer sectors. Sensors—devices that tra
 nslate physical quantities such as temperature\, force\, and composition\n
 into measurable electrical signals—now underpin critical decision-making
  systems. With the global sensor market exceeding $170 billion in 2019 and
  projected to grow at a CAGR of 10% through 2026\, the demand for accurate
 \, wireless\, and robust sensing platforms continues to rise.\nMicrowave s
 ensors have gained particular attention due to their straightforward fabri
 cation\, compatibility with CMOS technologies\, and ability to perform non
 -contact interrogation. These attributes make them strong candidates for p
 ortable and integrated sensing systems capable of\nreal-time monitoring. A
 dvancements such as liquid-metal-based tunability\, chemically functionali
 zed surfaces for enhanced selectivity\, and electromagnetic loss-compensat
 ion techniques have significantly improved the precision and capability of
  microwave sensing devices. Recent\ndevelopments also integrate these sens
 ors directly with antenna structures\, enabling fully wireless remote-sens
 ing operation. This talk will introduce the fundamentals behind microwave 
 sensing\, review key technological innovations\, and highlight how these a
 dvances are enabling powerful new approaches for remote and contactless de
 tection.\n\nSpeaker(s): Prof. Mohammad  Zarifi\, \n\nVirtual: https://even
 ts.vtools.ieee.org/m/516125
LOCATION:Virtual: https://events.vtools.ieee.org/m/516125
ORGANIZER:shub@nitm.ac.in
SEQUENCE:11
SUMMARY:Decoding the Invisible World: Microwave Engineering for Remote Sens
 ing Applications
URL;VALUE=URI:https://events.vtools.ieee.org/m/516125
X-ALT-DESC:Description: &lt;br /&gt;&lt;p&gt;Rapid progress in materials processing and
  fabrication has enabled a new generation of&amp;nbsp\;sophisticated sensors w
 ith expanding roles across scientific\, industrial\, and consumer sectors.
 &amp;nbsp\;Sensors&amp;mdash\;devices that translate physical quantities such as t
 emperature\, force\, and composition&lt;br&gt;into measurable electrical signals
 &amp;mdash\;now underpin critical decision-making systems. With the global&amp;nbs
 p\;sensor market exceeding $170 billion in 2019 and projected to grow at a
  CAGR of 10% through&amp;nbsp\;2026\, the demand for accurate\, wireless\, and
  robust sensing platforms continues to rise.&lt;br&gt;Microwave sensors have gai
 ned particular attention due to their straightforward fabrication\,&amp;nbsp\;
 compatibility with CMOS technologies\, and ability to perform non-contact 
 interrogation. These&amp;nbsp\;attributes make them strong candidates for port
 able and integrated sensing systems capable of&lt;br&gt;real-time monitoring. Ad
 vancements such as liquid-metal-based tunability\, chemically&amp;nbsp\;functi
 onalized surfaces for enhanced selectivity\, and electromagnetic loss-comp
 ensation techniques&amp;nbsp\;have significantly improved the precision and ca
 pability of microwave sensing devices. Recent&lt;br&gt;developments also integra
 te these sensors directly with antenna structures\, enabling fully wireles
 s&amp;nbsp\;remote-sensing operation.&amp;nbsp\;This talk will introduce the funda
 mentals behind microwave sensing\, review key technological&amp;nbsp\;innovati
 ons\, and highlight how these advances are enabling powerful new approache
 s for remote&amp;nbsp\;and contactless detection.&lt;/p&gt;
END:VEVENT
END:VCALENDAR

