BEGIN:VCALENDAR
VERSION:2.0
PRODID:IEEE vTools.Events//EN
CALSCALE:GREGORIAN
BEGIN:VTIMEZONE
TZID:Europe/Athens
BEGIN:DAYLIGHT
DTSTART:20260329T040000
TZOFFSETFROM:+0200
TZOFFSETTO:+0300
RRULE:FREQ=YEARLY;BYDAY=-1SU;BYMONTH=3
TZNAME:EEST
END:DAYLIGHT
BEGIN:STANDARD
DTSTART:20251026T030000
TZOFFSETFROM:+0300
TZOFFSETTO:+0200
RRULE:FREQ=YEARLY;BYDAY=-1SU;BYMONTH=10
TZNAME:EET
END:STANDARD
END:VTIMEZONE
BEGIN:VEVENT
DTSTAMP:20251230T161127Z
UID:BE2E0E8B-A54B-4E2A-AB8A-4DA0AB7F2ACB
DTSTART;TZID=Europe/Athens:20251124T090000
DTEND;TZID=Europe/Athens:20251125T180000
DESCRIPTION:The IEEE Aristotle University Thessaloniki Career Day is a two-
 day event designed for students in the Department of Electrical and Comput
 er Engineering\, as well as anyone interested in the technology sector. Th
 e event features technology companies from Greece and abroad\, showcasing 
 their projects\, internship programs\, and full-time employment opportunit
 ies.\n\nParticipants have the unique chance to engage directly with compan
 y representatives\, explore career paths in the tech industry\, and share 
 their resumes\, fostering valuable connections and professional growth.\n\
 nThe event follows the tradition of similar events for more than 12 years 
 now and is organized by the IEEE Student Branch of the Aristotle Universit
 y of Thessaloniki in cooperation with the IEEE Industry Application Societ
 y and IEEE Power and Energy Society Student Branch Chapters of the Aristot
 le University of Thessaloniki and supported by IEEE Greece Young Professio
 nals\, IEEE Greece CASS/ SSCS Joint Chapter and IEEE Greece Life Members.\
 n\n[][]\n\nBldg: KEDEA Building\, AUTH \, Thessaloniki\, Macedonia\, Greec
 e
LOCATION:Bldg: KEDEA Building\, AUTH \, Thessaloniki\, Macedonia\, Greece
ORGANIZER:ieee.auth.sb@gmail.com
SEQUENCE:11
SUMMARY:IEEE Career Days 2025
URL;VALUE=URI:https://events.vtools.ieee.org/m/516425
X-ALT-DESC:Description: &lt;br /&gt;&lt;p&gt;The IEEE Aristotle University Thessaloniki
  Career Day is a two-day event designed for students in the Department of 
 Electrical and Computer Engineering\, as well as anyone interested in the 
 technology sector. The event features technology companies from Greece and
  abroad\, showcasing their projects\, internship programs\, and full-time 
 employment opportunities.&lt;/p&gt;\n&lt;p&gt;Participants have the unique chance to e
 ngage directly with company representatives\, explore career paths in the 
 tech industry\, and share their resumes\, fostering valuable connections a
 nd professional growth.&lt;/p&gt;\n&lt;p&gt;The event follows the tradition of similar
  events for more than 12 years now and is organized by the IEEE Student Br
 anch of the Aristotle University of Thessaloniki in cooperation with the I
 EEE Industry Application Society and IEEE Power and Energy Society Student
  Branch Chapters of the Aristotle University of Thessaloniki and supported
  by IEEE Greece Young Professionals\, IEEE Greece CASS/ SSCS Joint Chapter
  and IEEE Greece Life Members.&lt;/p&gt;\n&lt;p&gt;&lt;img src=&quot;https://events.vtools.iee
 e.org/vtools_ui/media/display/4fe91b4d-2b30-4666-a6ec-56c0839305b8&quot; alt=&quot;&quot;
  width=&quot;541&quot; height=&quot;360&quot;&gt;&lt;img src=&quot;https://events.vtools.ieee.org/vtools_
 ui/media/display/de692ce0-3133-4d6c-844a-fd511fcad1ef&quot; alt=&quot;&quot; width=&quot;270&quot; 
 height=&quot;361&quot;&gt;&lt;/p&gt;
END:VEVENT
END:VCALENDAR

