BEGIN:VCALENDAR
VERSION:2.0
PRODID:IEEE vTools.Events//EN
CALSCALE:GREGORIAN
BEGIN:VTIMEZONE
TZID:US/Pacific
BEGIN:DAYLIGHT
DTSTART:20260308T030000
TZOFFSETFROM:-0800
TZOFFSETTO:-0700
RRULE:FREQ=YEARLY;BYDAY=2SU;BYMONTH=3
TZNAME:PDT
END:DAYLIGHT
BEGIN:STANDARD
DTSTART:20251102T010000
TZOFFSETFROM:-0700
TZOFFSETTO:-0800
RRULE:FREQ=YEARLY;BYDAY=1SU;BYMONTH=11
TZNAME:PST
END:STANDARD
END:VTIMEZONE
BEGIN:VEVENT
DTSTAMP:20251217T060515Z
UID:C0350F4F-C3B9-421D-ADBD-A5806948207A
DTSTART;TZID=US/Pacific:20251203T183000
DTEND;TZID=US/Pacific:20251203T200000
DESCRIPTION:Our first and only Boba Night of 2025! Our treasurer Robby has 
 finally finished his PhD from UCI and this will be his last Boba Night in 
 California. Let&#39;s send Robby off with some boba\, popcorn chicken and frie
 d tofu from Cha from Tea\, the OG boba shop where these all started!\n\n[]
 \n\nPlease register with your IEEE member # - attendees showing up without
  prior registration will not be counted in the appetizer order. Dinner can
  be self purchased nearby at any time.\n\n06:30 Boba (self order)\n\n07:00
  Cha for Tea Appetizer Order\n\n08:00 End\n\nLocation: We will be at one o
 f the tables near Cha for Tea\, which is located by the fountain in the Un
 iversity Town Center by UC Irvine. Look for members in IEEE gear near the 
 fountain.\n\nCo-sponsored by: OC PES IEEE\n\nAgenda: \n6:30 Boba (self ord
 er)\n\n7:00 Cha for Tea Appetizer Order\n\n8:00 END\n\nRoom: CHA FOR TEA\,
  4237 Campus Drive\, Irvine\, California\, United States\, 92612
LOCATION:Room: CHA FOR TEA\, 4237 Campus Drive\, Irvine\, California\, Unit
 ed States\, 92612
ORGANIZER:irvin.huang@ieee.org
SEQUENCE:58
SUMMARY:OC IEEE YP - December Boba Night 2025
URL;VALUE=URI:https://events.vtools.ieee.org/m/516856
X-ALT-DESC:Description: &lt;br /&gt;&lt;p&gt;Our first and only Boba Night of 2025! Our
  treasurer Robby has finally finished his PhD from UCI and this will be hi
 s last Boba Night in California. Let&#39;s send Robby off with some boba\, pop
 corn chicken and fried tofu from Cha from Tea\, the OG boba shop where the
 se all started!&lt;/p&gt;\n&lt;p&gt;&lt;img src=&quot;https://events.vtools.ieee.org/vtools_ui
 /media/display/18613342-71a2-4944-92f7-1d9e3d637b3f&quot; alt=&quot;&quot; width=&quot;467&quot; he
 ight=&quot;350&quot;&gt;&lt;/p&gt;\n&lt;p&gt;&lt;strong&gt;Please register with your IEEE member # - atte
 ndees showing up without prior registration will not be counted in the app
 etizer order. Dinner can be self purchased nearby at any time.&lt;/strong&gt;&lt;/p
 &gt;\n&lt;p&gt;06:30 Boba (self order)&lt;/p&gt;\n&lt;p&gt;07:00 Cha for Tea Appetizer Order&lt;/p
 &gt;\n&lt;p&gt;08:00 End&lt;/p&gt;\n&lt;p&gt;&lt;strong&gt;Location&lt;/strong&gt;: We will be at one of th
 e tables near Cha for Tea\, which is located by the fountain in the Univer
 sity Town Center by UC Irvine. Look for members in IEEE gear near the foun
 tain.&lt;/p&gt;&lt;br /&gt;&lt;br /&gt;Agenda: &lt;br /&gt;&lt;p&gt;6:30&amp;nbsp\; Boba (self order)&lt;/p&gt;\n&lt;
 p&gt;7:00&amp;nbsp\; Cha for Tea Appetizer Order&lt;/p&gt;\n&lt;p&gt;8:00&amp;nbsp\; END&lt;/p&gt;
END:VEVENT
END:VCALENDAR

