BEGIN:VCALENDAR
VERSION:2.0
PRODID:IEEE vTools.Events//EN
CALSCALE:GREGORIAN
BEGIN:VTIMEZONE
TZID:America/New_York
BEGIN:DAYLIGHT
DTSTART:20260308T030000
TZOFFSETFROM:-0500
TZOFFSETTO:-0400
RRULE:FREQ=YEARLY;BYDAY=2SU;BYMONTH=3
TZNAME:EDT
END:DAYLIGHT
BEGIN:STANDARD
DTSTART:20251102T010000
TZOFFSETFROM:-0400
TZOFFSETTO:-0500
RRULE:FREQ=YEARLY;BYDAY=1SU;BYMONTH=11
TZNAME:EST
END:STANDARD
END:VTIMEZONE
BEGIN:VEVENT
DTSTAMP:20251206T041127Z
UID:C724ECC8-A82E-4ED0-AF71-50730F02D42E
DTSTART;TZID=America/New_York:20251205T140000
DTEND;TZID=America/New_York:20251205T180000
DESCRIPTION:Join IEEE and ACM UCF for the End of the Year Holiday Social to
  celebrate the end of the Fall Semester!\n\nBldg: Lake Claire Recreational
  Area\, Orlando\, Florida\, United States
LOCATION:Bldg: Lake Claire Recreational Area\, Orlando\, Florida\, United S
 tates
ORGANIZER:matias.guillen@ucf.edu
SEQUENCE:12
SUMMARY:IEEE &amp; ACM Holiday Social @ UCF
URL;VALUE=URI:https://events.vtools.ieee.org/m/517020
X-ALT-DESC:Description: &lt;br /&gt;&lt;p&gt;Join IEEE and ACM UCF for the End of the Y
 ear Holiday Social to celebrate the end of the Fall Semester!&lt;/p&gt;
END:VEVENT
END:VCALENDAR

