BEGIN:VCALENDAR
VERSION:2.0
PRODID:IEEE vTools.Events//EN
CALSCALE:GREGORIAN
BEGIN:VTIMEZONE
TZID:America/New_York
BEGIN:DAYLIGHT
DTSTART:20260308T030000
TZOFFSETFROM:-0500
TZOFFSETTO:-0400
RRULE:FREQ=YEARLY;BYDAY=2SU;BYMONTH=3
TZNAME:EDT
END:DAYLIGHT
BEGIN:STANDARD
DTSTART:20251102T010000
TZOFFSETFROM:-0400
TZOFFSETTO:-0500
RRULE:FREQ=YEARLY;BYDAY=1SU;BYMONTH=11
TZNAME:EST
END:STANDARD
END:VTIMEZONE
BEGIN:VEVENT
DTSTAMP:20251208T020637Z
UID:F29C3023-51C5-462C-B290-4146A71B49A3
DTSTART;TZID=America/New_York:20251206T100000
DTEND;TZID=America/New_York:20251206T160000
DESCRIPTION:Online Officer Training For Repeat Session for all the folks wh
 o have registered and also for newly elected officer\n\nVirtual: https://e
 vents.vtools.ieee.org/m/517037
LOCATION:Virtual: https://events.vtools.ieee.org/m/517037
ORGANIZER:gokul.pandy@ieee.org
SEQUENCE:8
SUMMARY:Online Officer Training For Repeat Session 
URL;VALUE=URI:https://events.vtools.ieee.org/m/517037
X-ALT-DESC:Description: &lt;br /&gt;&lt;p&gt;Online Officer Training For Repeat Session
  for all the folks who have registered and also for newly elected officer&amp;
 nbsp\;&lt;/p&gt;
END:VEVENT
END:VCALENDAR

