BEGIN:VCALENDAR
VERSION:2.0
PRODID:IEEE vTools.Events//EN
CALSCALE:GREGORIAN
BEGIN:VTIMEZONE
TZID:America/Chicago
BEGIN:DAYLIGHT
DTSTART:20260308T030000
TZOFFSETFROM:-0600
TZOFFSETTO:-0500
RRULE:FREQ=YEARLY;BYDAY=2SU;BYMONTH=3
TZNAME:CDT
END:DAYLIGHT
BEGIN:STANDARD
DTSTART:20261101T010000
TZOFFSETFROM:-0500
TZOFFSETTO:-0600
RRULE:FREQ=YEARLY;BYDAY=1SU;BYMONTH=11
TZNAME:CST
END:STANDARD
END:VTIMEZONE
BEGIN:VEVENT
DTSTAMP:20251205T214437Z
UID:259DA3A8-1047-4050-89D6-DD32AEA8E1E9
DTSTART;TZID=America/Chicago:20260504T160000
DTEND;TZID=America/Chicago:20260504T170000
DESCRIPTION:Brief description of program:\n\nThe power grid is undergoing a
  transformation. Distributed Energy Resources are rapidly expanding\, and 
 load patterns are shifting\, demanding a power delivery system that can ad
 apt in real-time. The solution lies in building a flexible\, scalable\, an
 d adaptable grid ready to meet the challenges of today and tomorrow.\n\nIn
  this topic\, we will explore how Digital Substations\, powered by cutting
 -edge technology\, are revolutionizing protection\, control\, and automati
 on within the power grid. We&#39;ll compare this modern approach to traditiona
 l substation designs\, highlighting the unprecedented flexibility\, cost s
 avings in engineering\, installation\, and wiring\, and the dramatic impro
 vements in operation and maintenance efficiency that digital transformatio
 n brings.\n\nFBPE Continuing Ed Provider #0010523\n\nPLEASE register for t
 his event to help have a list of participants to mark present and email PD
 H forms. Continue requesting PDHs to ensure you receive your PDH.\n\nPleas
 e email [RoyBrown@southernco.com](mailto:roybrown@southernco.com) after at
 tending the event if you want a PDH certificate.\n\nContact Roy lee brown 
 if you cannot log in: 205-842-6761 or email for help.\n\nI will email you 
 a Link that works for me.\n\nWe look forward to you joining us and sharing
  this exciting program.\n\nCo-sponsored by: Alan Shabott\n\nSpeaker(s): Vi
 ncent Duong\, Luiz Marques \, Andrew Legro\n\nAgenda: \n4:00 PM Presentati
 on\n\n5:00 PM - Adjourn\n\nVirtual: https://events.vtools.ieee.org/m/51733
 6
LOCATION:Virtual: https://events.vtools.ieee.org/m/517336
ORGANIZER:Chair-ALSect@ieee.org
SEQUENCE:74
SUMMARY:Substation Digitalization\, a key enabler of the future power grid.
URL;VALUE=URI:https://events.vtools.ieee.org/m/517336
X-ALT-DESC:Description: &lt;br /&gt;&lt;p class=&quot;MsoNormal&quot;&gt;&lt;span style=&quot;font-size: 
 11.0pt\;&quot;&gt;Brief description of program:&lt;/span&gt;&lt;/p&gt;\n&lt;p class=&quot;MsoNormal&quot;&gt;&lt;
 span style=&quot;mso-fareast-font-family: Aptos\; mso-fareast-theme-font: minor
 -latin\; color: #4e95d9\;&quot;&gt;The power grid is undergoing a transformation. 
 Distributed Energy Resources are rapidly expanding\, and load patterns are
  shifting\, demanding a power delivery system that can adapt in real-time.
  The solution lies in building a flexible\, scalable\, and adaptable grid 
 ready to meet the challenges of today and tomorrow.&lt;/span&gt;&lt;/p&gt;\n&lt;p class=&quot;
 MsoNormal&quot;&gt;&lt;span style=&quot;mso-fareast-font-family: Aptos\; mso-fareast-theme
 -font: minor-latin\; color: #4e95d9\;&quot;&gt;In this topic\, we will explore how
  Digital Substations\, powered by cutting-edge technology\, are revolution
 izing protection\, control\, and automation within the power grid. We&#39;ll c
 ompare this modern approach to traditional substation designs\, highlighti
 ng the unprecedented flexibility\, cost savings in engineering\, installat
 ion\, and wiring\, and the dramatic improvements in operation and maintena
 nce efficiency that digital transformation brings.&lt;/span&gt;&lt;/p&gt;\n&lt;p class=&quot;M
 soNormal&quot;&gt;&lt;strong&gt;&lt;span style=&quot;font-size: 11.0pt\; font-family: &#39;Aptos&#39;\,s
 ans-serif\; mso-fareast-font-family: Aptos\; mso-fareast-theme-font: minor
 -latin\; mso-bidi-font-family: Aptos\; mso-ansi-language: EN-US\; mso-fare
 ast-language: EN-US\; mso-bidi-language: AR-SA\;&quot;&gt;FBPE Continuing Ed Provi
 der #0010523&lt;/span&gt;&lt;/strong&gt;&lt;/p&gt;\n&lt;p&gt;&lt;span style=&quot;color: rgb(224\, 62\, 45
 )\;&quot;&gt;PLEASE register for this event to help have a list of participants to
  mark present and email PDH forms. Continue requesting PDHs to ensure you 
 receive your PDH.&lt;/span&gt;&lt;/p&gt;\n&lt;p&gt;&lt;span style=&quot;color: rgb(255\, 0\, 0)\;&quot;&gt;P
 lease email&amp;nbsp\;&lt;/span&gt;&lt;a href=&quot;mailto:roybrown@southernco.com&quot;&gt;RoyBrown
 @southernco.com&lt;/a&gt;&lt;span style=&quot;color: rgb(255\, 0\, 0)\;&quot;&gt; after attendin
 g the event if you want a PDH certificate.&lt;/span&gt;&lt;/p&gt;\n&lt;p&gt;&lt;span style=&quot;col
 or: #ff0000\;&quot;&gt;Contact &lt;span style=&quot;background-color: rgb(251\, 238\, 184)
 \;&quot;&gt;Roy lee brown&lt;/span&gt; if you cannot log in: 205-842-6761 or email for h
 elp.&amp;nbsp\;&lt;/span&gt;&lt;/p&gt;\n&lt;p&gt;&lt;span style=&quot;color: #ff0000\;&quot;&gt;I will email you
  a Link that works for me.&lt;/span&gt;&lt;/p&gt;\n&lt;p&gt;&lt;span style=&quot;color: #ff0000\;&quot;&gt;W
 e look forward to you joining us and sharing this exciting program.&lt;/span&gt;
 &lt;/p&gt;\n&lt;p&gt;&amp;nbsp\;&lt;/p&gt;&lt;br /&gt;&lt;br /&gt;Agenda: &lt;br /&gt;&lt;p&gt;&lt;span style=&quot;font-size: 1
 2pt\;&quot;&gt;&lt;span style=&quot;font-family: arial\,helvetica\,sans-serif\;&quot;&gt;4:00 PM P
 resentation&lt;/span&gt;&lt;/span&gt;&lt;/p&gt;\n&lt;p&gt;&lt;span style=&quot;font-family: arial\,helveti
 ca\,sans-serif\; font-size: 12pt\;&quot;&gt;5:00 PM - Adjourn&lt;/span&gt;&lt;/p&gt;
END:VEVENT
END:VCALENDAR

