BEGIN:VCALENDAR
VERSION:2.0
PRODID:IEEE vTools.Events//EN
CALSCALE:GREGORIAN
BEGIN:VTIMEZONE
TZID:America/Los_Angeles
BEGIN:DAYLIGHT
DTSTART:20260308T030000
TZOFFSETFROM:-0800
TZOFFSETTO:-0700
RRULE:FREQ=YEARLY;BYDAY=2SU;BYMONTH=3
TZNAME:PDT
END:DAYLIGHT
BEGIN:STANDARD
DTSTART:20251102T010000
TZOFFSETFROM:-0700
TZOFFSETTO:-0800
RRULE:FREQ=YEARLY;BYDAY=1SU;BYMONTH=11
TZNAME:PST
END:STANDARD
END:VTIMEZONE
BEGIN:VEVENT
DTSTAMP:20260219T012204Z
UID:54F545DE-5677-4B1B-96C1-BDFE3469F848
DTSTART;TZID=America/Los_Angeles:20251209T090000
DTEND;TZID=America/Los_Angeles:20251209T100000
DESCRIPTION:The Seattle Chapter of the IEEE Ultrasonics\, Ferroelectrics\, 
 and Frequency Control Society (UFFC-S) aims to provide UFFC-S members with
  opportunities for professional and personal growth as well as network wit
 h the local\, vibrant UFFC community.\n\nDr. Jack Stevenson\, PhD will be 
 our guest speaker. Jack specialises in novel piezoelectric material charac
 terisation techniques for high-power applications as well development of m
 iniaturised devices and additive manufacturing. He is a Product Designer a
 t Nami Surgical (Glasgow\, Scotland) where he applies his expertise to the
  electrical and mechanical design of miniaturised ultrasonic surgical devi
 ces. Prior to joining Nami Surgical\, Jack completed his PhD and post-doct
 oral research at the University of Glasgow which involved the design and d
 evelopment of focused ultrasound devices for robotic delivery.\n\nDr. Stev
 enson will present on &quot;A 3D printed HIFU transducer for robotic surgery.&quot;\
 n\nThis meeting will be virtual only.\n\nSpeaker(s): Dr. Jack Stevenson\, 
 PhD\, \n\nAgenda: \n9:00 AM: Welcome and Introductions\n9:10 AM: Tech Talk
 \n9:50 AM: Q&amp;A\n10:00 AM: Adjourn\n\nVirtual: https://events.vtools.ieee.o
 rg/m/517588
LOCATION:Virtual: https://events.vtools.ieee.org/m/517588
ORGANIZER:kendall.waters@ieee.org
SEQUENCE:77
SUMMARY:IEEE UFFC Seattle Tech Talk - A 3D printed HIFU transducer for robo
 tic surgery
URL;VALUE=URI:https://events.vtools.ieee.org/m/517588
X-ALT-DESC:Description: &lt;br /&gt;&lt;p&gt;The Seattle Chapter of the IEEE Ultrasonic
 s\, Ferroelectrics\, and Frequency Control Society (UFFC-S) aims to provid
 e UFFC-S members with opportunities for professional and personal growth a
 s well as network with the local\, vibrant UFFC community.&lt;/p&gt;\n&lt;p&gt;Dr. Jac
 k Stevenson\, PhD will be our guest speaker. Jack specialises in novel pie
 zoelectric material characterisation techniques for high-power application
 s as well development of miniaturised devices and additive manufacturing. 
 He is a Product Designer at Nami Surgical (Glasgow\, Scotland) where he ap
 plies his expertise to the electrical and mechanical design of miniaturise
 d ultrasonic surgical devices. Prior to joining Nami Surgical\, Jack compl
 eted his PhD and post-doctoral research at the University of Glasgow which
  involved the design and development of focused ultrasound devices for rob
 otic delivery.&lt;/p&gt;\n&lt;p&gt;Dr. Stevenson will present on &quot;A 3D printed HIFU tr
 ansducer for robotic surgery.&quot;&amp;nbsp\;&lt;/p&gt;\n&lt;p&gt;This meeting will be virtual
  only.&amp;nbsp\;&lt;/p&gt;&lt;br /&gt;&lt;br /&gt;Agenda: &lt;br /&gt;&lt;p&gt;9:00 AM: Welcome and Introdu
 ctions&lt;br&gt;9:10 AM: Tech Talk&lt;br&gt;9:50 AM: Q&amp;amp\;A&lt;br&gt;10:00 AM: Adjourn&lt;/p&gt;
END:VEVENT
END:VCALENDAR

