BEGIN:VCALENDAR
VERSION:2.0
PRODID:IEEE vTools.Events//EN
CALSCALE:GREGORIAN
BEGIN:VTIMEZONE
TZID:Europe/Madrid
BEGIN:DAYLIGHT
DTSTART:20260329T030000
TZOFFSETFROM:+0100
TZOFFSETTO:+0200
RRULE:FREQ=YEARLY;BYDAY=-1SU;BYMONTH=3
TZNAME:CEST
END:DAYLIGHT
BEGIN:STANDARD
DTSTART:20251026T020000
TZOFFSETFROM:+0200
TZOFFSETTO:+0100
RRULE:FREQ=YEARLY;BYDAY=-1SU;BYMONTH=10
TZNAME:CET
END:STANDARD
END:VTIMEZONE
BEGIN:VEVENT
DTSTAMP:20251205T103217Z
UID:C9859A8D-849F-4D89-A52E-835D420ABD7C
DTSTART;TZID=Europe/Madrid:20251204T193000
DTEND;TZID=Europe/Madrid:20251204T210000
DESCRIPTION:Presentación del Grupo Español de IEEE Life Members - Problem
 as Críticos del Consumo Energético en Sistemas Digitales Avanzados.\n\n1
 9:30 Reunión del Grupo Español de IEEE Life Members\n\n20:00 Sección es
 pañola del IEEE - Novedades - Edgardo Castronuovo\, chair de IEEE España
  - Antonio Robles\, chair elected de IEEE España.\n\n20:05 Introducción 
 - Manuel Castro\, chair del Grupo de Life Members en IEEE España.\n\n20:1
 0 &quot;Problemas Críticos del Consumo Energético en Sistemas Digitales Avanz
 ados: Pasado\, Presente y Futuro / Power consumption in advanced digital s
 ystems\, the critical problem: past\, present and future&quot;\, Antonio Rubio\
 , Catedrático Emérito de la Universidad Politécnica de Cataluña.\n\n20
 :50 Preguntas.\n\n21:00 Cierre de la sesión.\n\nRegistro obligatorio para
  recibir el enlace de videoconferencia (Teams).\n\nSpeaker(s): Antonio Rub
 io\n\nAgenda: \nPresentación del Grupo Español de IEEE Life Members - Pr
 oblemas Críticos del Consumo Energético en Sistemas Digitales Avanzados.
 \n\n19:30 Reunión del Grupo Español de IEEE Life Members\n\n20:00 Secci
 ón española del IEEE - Novedades - Edgardo Castronuovo\, chair de IEEE E
 spaña - Antonio Robles\, chair elected de IEEE España.\n\n20:05 Introduc
 ción - Manuel Castro\, chair del Grupo de Life Members en IEEE España.\n
 \n20:10 &quot;Problemas Críticos del Consumo Energético en Sistemas Digitales
  Avanzados: Pasado\, Presente y Futuro / Power consumption in advanced dig
 ital systems\, the critical problem: past\, present and future&quot;\, Antonio 
 Rubio\, Catedrático Emérito de la Universidad Politécnica de Cataluña.
 \n\n20:50 Preguntas.\n\n21:00 Cierre de la sesión.\n\nVirtual: https://ev
 ents.vtools.ieee.org/m/517772
LOCATION:Virtual: https://events.vtools.ieee.org/m/517772
ORGANIZER:mcastro@ieec.uned.es
SEQUENCE:36
SUMMARY:Grupo Español de IEEE Life Members - Consumo Energético en Sistem
 as Digitales Avanzados
URL;VALUE=URI:https://events.vtools.ieee.org/m/517772
X-ALT-DESC:Description: &lt;br /&gt;&lt;p&gt;Presentaci&amp;oacute\;n del Grupo Espa&amp;ntilde
 \;ol de IEEE Life Members - Problemas Cr&amp;iacute\;ticos del Consumo Energ&amp;e
 acute\;tico en Sistemas Digitales Avanzados.&lt;/p&gt;\n&lt;p&gt;19:30 Reuni&amp;oacute\;n
  del Grupo Espa&amp;ntilde\;ol de IEEE Life Members&lt;/p&gt;\n&lt;p&gt;20:00 Secci&amp;oacute
 \;n espa&amp;ntilde\;ola del IEEE - Novedades - Edgardo Castronuovo\, chair de
  IEEE Espa&amp;ntilde\;a - Antonio Robles\, chair elected de IEEE Espa&amp;ntilde\
 ;a.&amp;nbsp\;&lt;/p&gt;\n&lt;p&gt;20:05 Introducci&amp;oacute\;n - Manuel Castro\, chair del 
 Grupo de Life Members en IEEE Espa&amp;ntilde\;a.&amp;nbsp\;&amp;nbsp\;&lt;/p&gt;\n&lt;p&gt;20:10 
 &quot;Problemas Cr&amp;iacute\;ticos del Consumo Energ&amp;eacute\;tico en Sistemas Dig
 itales Avanzados: Pasado\, Presente y Futuro / Power consumption in advanc
 ed digital systems\, the critical problem: past\, present and future&quot;\, An
 tonio Rubio\, Catedr&amp;aacute\;tico Em&amp;eacute\;rito de la Universidad Polit&amp;
 eacute\;cnica de Catalu&amp;ntilde\;a.&lt;/p&gt;\n&lt;p&gt;20:50 Preguntas.&lt;/p&gt;\n&lt;p&gt;21:00 
 Cierre de la sesi&amp;oacute\;n.&lt;/p&gt;\n&lt;p&gt;&amp;nbsp\;&lt;/p&gt;\n&lt;p&gt;Registro obligatorio 
 para recibir el enlace de videoconferencia (Teams).&lt;/p&gt;\n&lt;p&gt;&amp;nbsp\;&lt;/p&gt;&lt;br
  /&gt;&lt;br /&gt;Agenda: &lt;br /&gt;&lt;p&gt;Presentaci&amp;oacute\;n del Grupo Espa&amp;ntilde\;ol d
 e IEEE Life Members - Problemas Cr&amp;iacute\;ticos del Consumo Energ&amp;eacute\
 ;tico en Sistemas Digitales Avanzados.&lt;/p&gt;\n&lt;p&gt;19:30 Reuni&amp;oacute\;n del G
 rupo Espa&amp;ntilde\;ol de IEEE Life Members&lt;/p&gt;\n&lt;p&gt;20:00 Secci&amp;oacute\;n es
 pa&amp;ntilde\;ola del IEEE - Novedades - Edgardo Castronuovo\, chair de IEEE 
 Espa&amp;ntilde\;a - Antonio Robles\, chair elected de IEEE Espa&amp;ntilde\;a.&amp;nb
 sp\;&lt;/p&gt;\n&lt;p&gt;20:05 Introducci&amp;oacute\;n - Manuel Castro\, chair del Grupo 
 de Life Members en IEEE Espa&amp;ntilde\;a.&amp;nbsp\;&amp;nbsp\;&lt;/p&gt;\n&lt;p&gt;20:10 &quot;Probl
 emas Cr&amp;iacute\;ticos del Consumo Energ&amp;eacute\;tico en Sistemas Digitales
  Avanzados: Pasado\, Presente y Futuro / Power consumption in advanced dig
 ital systems\, the critical problem: past\, present and future&quot;\, Antonio 
 Rubio\, Catedr&amp;aacute\;tico Em&amp;eacute\;rito de la Universidad Polit&amp;eacute
 \;cnica de Catalu&amp;ntilde\;a.&lt;/p&gt;\n&lt;p&gt;20:50 Preguntas.&lt;/p&gt;\n&lt;p&gt;21:00 Cierre
  de la sesi&amp;oacute\;n.&lt;/p&gt;\n&lt;p&gt;&amp;nbsp\;&lt;/p&gt;
END:VEVENT
END:VCALENDAR

