BEGIN:VCALENDAR
VERSION:2.0
PRODID:IEEE vTools.Events//EN
CALSCALE:GREGORIAN
BEGIN:VTIMEZONE
TZID:America/Chicago
BEGIN:DAYLIGHT
DTSTART:20260308T030000
TZOFFSETFROM:-0600
TZOFFSETTO:-0500
RRULE:FREQ=YEARLY;BYDAY=2SU;BYMONTH=3
TZNAME:CDT
END:DAYLIGHT
BEGIN:STANDARD
DTSTART:20251102T010000
TZOFFSETFROM:-0500
TZOFFSETTO:-0600
RRULE:FREQ=YEARLY;BYDAY=1SU;BYMONTH=11
TZNAME:CST
END:STANDARD
END:VTIMEZONE
BEGIN:VEVENT
DTSTAMP:20251213T121301Z
UID:8EAF00F8-35F7-43E5-A197-5F805AE6E264
DTSTART;TZID=America/Chicago:20251212T120000
DTEND;TZID=America/Chicago:20251212T130000
DESCRIPTION:The global shift toward sustainable electrification—driven by
  electric mobility and renewable energy integration—is increasing the de
 mand for high-performance battery systems that deliver efficiency\, long l
 ife\, safety\, and sustainability. A key enabler of this progress is the B
 attery Management System (BMS). In particular\, advanced cell and pack bal
 ancing has become essential for maintaining performance and safety in the 
 presence of natural cell-to-cell variations in lithium-ion and emerging ba
 ttery chemistries.\n\nIn this webinar\, Dr. Oshnoei will present state-of-
 the-art balancing methods\, including distributed and modular BMS architec
 tures that enhance scalability\, as well as advanced BMS platforms designe
 d to manage cell health under diverse operating conditions. Attendees will
  learn how intelligent balancing can reduce degradation and thermal stress
 \, improve charge/discharge uniformity\, increase usable capacity\, enable
  faster charging\, and extend battery service life.\n\nOverall\, the sessi
 on will highlight how advanced balancing and data-driven intelligence are 
 expanding BMS capabilities and supporting a more reliable\, efficient\, an
 d sustainable electrified future.\n\nSpeaker(s): Dr. Oshnoei\n\nVirtual: h
 ttps://events.vtools.ieee.org/m/518178
LOCATION:Virtual: https://events.vtools.ieee.org/m/518178
ORGANIZER:ashkansafari@ieee.org
SEQUENCE:109
SUMMARY:Next-Generation Battery Management Systems for Sustainable Electrif
 ication
URL;VALUE=URI:https://events.vtools.ieee.org/m/518178
X-ALT-DESC:Description: &lt;br /&gt;&lt;p&gt;The global shift toward sustainable electr
 ification&amp;mdash\;driven by electric mobility and renewable energy integrat
 ion&amp;mdash\;is increasing the demand for high-performance battery systems t
 hat deliver efficiency\, long life\, safety\, and sustainability. A key en
 abler of this progress is the Battery Management System (BMS). In particul
 ar\, advanced cell and pack balancing has become essential for maintaining
  performance and safety in the presence of natural cell-to-cell variations
  in lithium-ion and emerging battery chemistries.&lt;/p&gt;\n&lt;p&gt;In this webinar\
 , Dr. Oshnoei will present state-of-the-art balancing methods\, including 
 distributed and modular BMS architectures that enhance scalability\, as we
 ll as advanced BMS platforms designed&amp;nbsp\;to manage cell health under di
 verse operating conditions. Attendees will learn how intelligent balancing
  can reduce degradation and thermal stress\, improve charge/discharge unif
 ormity\, increase usable capacity\, enable faster charging\, and extend ba
 ttery service life.&amp;nbsp\;&lt;/p&gt;\n&lt;p&gt;Overall\, the session will highlight ho
 w advanced balancing and data-driven intelligence are expanding BMS capabi
 lities and supporting a more reliable\, efficient\, and sustainable electr
 ified future.&lt;/p&gt;
END:VEVENT
END:VCALENDAR

