BEGIN:VCALENDAR
VERSION:2.0
PRODID:IEEE vTools.Events//EN
CALSCALE:GREGORIAN
BEGIN:VTIMEZONE
TZID:America/Argentina/Buenos_Aires
BEGIN:DAYLIGHT
DTSTART:20380119T001407
TZOFFSETFROM:-0300
TZOFFSETTO:-0300
RRULE:FREQ=YEARLY;BYDAY=3TU;BYMONTH=1
TZNAME:-03
END:DAYLIGHT
BEGIN:STANDARD
DTSTART:20090314T230000
TZOFFSETFROM:-0200
TZOFFSETTO:-0300
RRULE:FREQ=YEARLY;BYDAY=2SA;BYMONTH=3
TZNAME:-03
END:STANDARD
END:VTIMEZONE
BEGIN:VEVENT
DTSTAMP:20251216T221455Z
UID:F8C020AF-7CE4-4A54-9F09-CE488F3A4DDF
DTSTART;TZID=America/Argentina/Buenos_Aires:20251204T144500
DTEND;TZID=America/Argentina/Buenos_Aires:20251204T151500
DESCRIPTION:Presentación de los premios 2025 a los miembros LMAG Luis Reme
 z (Premio Miembro Vitalicio Servicio Individual 2025 Región 9) y Gustavo 
 del Pino (Premio LMAG Logro 2025 Región 9).\n\nCírculo Italiano\, Libert
 ad 1264\, Buenos Aires\, C.A.B.A.\, Distrito Federal\, Argentina\, 1012
LOCATION:Círculo Italiano\, Libertad 1264\, Buenos Aires\, C.A.B.A.\, Dist
 rito Federal\, Argentina\, 1012
ORGANIZER:patricio@patriciocastro.com
SEQUENCE:28
SUMMARY:Reunión especial para presentación de premios 2025
URL;VALUE=URI:https://events.vtools.ieee.org/m/519311
X-ALT-DESC:Description: &lt;br /&gt;&lt;p&gt;Presentaci&amp;oacute\;n de los premios 2025 a
  los miembros LMAG Luis Remez (Premio Miembro Vitalicio Servicio Individua
 l 2025 Regi&amp;oacute\;n 9) y Gustavo del Pino (Premio LMAG Logro 2025 Regi&amp;o
 acute\;n 9).&lt;/p&gt;
END:VEVENT
END:VCALENDAR

