BEGIN:VCALENDAR
VERSION:2.0
PRODID:IEEE vTools.Events//EN
CALSCALE:GREGORIAN
BEGIN:VTIMEZONE
TZID:Asia/Kolkata
BEGIN:STANDARD
DTSTART:19451014T230000
TZOFFSETFROM:+0630
TZOFFSETTO:+0530
TZNAME:IST
END:STANDARD
END:VTIMEZONE
BEGIN:VEVENT
DTSTAMP:20260206T165355Z
UID:28E272EC-72B4-4106-BA2F-E43D3C070EDD
DTSTART;TZID=Asia/Kolkata:20260130T090000
DTEND;TZID=Asia/Kolkata:20260131T160000
DESCRIPTION:ImpactThon is an innovation-driven initiative designed to encou
 rage students to ideate\, collaborate\, and develop impactful technology-b
 ased solutions for real-world challenges.\n\nThis event is organized under
  the leadership of the M.M. Patel Students Research Project Cell (MMPSRPC)
 \, in collaboration with:\n\n- IEEE Student Branch\, Kadi Sarva Vishwavidy
 alaya\n- Associated Institutional Departments and Innovation Bodies\n\nImp
 actthon offers a platform for students to explore design thinking\, interd
 isciplinary teamwork\, problem solving\, and prototype development — bri
 dging academic learning with industry-oriented innovation.\n\nKey Highligh
 ts:\n\n- Hands-on innovation and project development opportunities\n- Inte
 raction with mentors\, domain experts\, and innovation facilitators\n- Exp
 osure to ideation techniques and solution-building processes\n- Opportunit
 ies to showcase outcomes and receive constructive feedback\n\nImpactthon i
 s more than an event\; it is a movement to cultivate impactful thinking\, 
 collaborative learning\, and solution-driven innovation among young minds.
 \n\n[Impactthon Event Banner]\n\nAgenda: \nImpactThon Timeline &amp; Agenda\n\
 nStage	Date	Activity\nStage 1	1st Dec 2025	Team Registration – Teams com
 plete registration.\nStage 2	—	Idea Submission – Teams submit their pr
 oposed solution idea.\nStage 3	—	Screening Round – Submitted ideas are
  reviewed by evaluators.\nStage 4	—	Shortlisted Teams Announcement – S
 elected teams are announced.\nStage 5	—	Development Phase – Teams star
 t building their prototype.\nStage 6	30th Jan 2026	Semi Final – Evaluati
 on and shortlisting.\nStage 7	31st Jan 2026	Grand Finale – Final present
 ations and result declaration.\n\nBldg: Shift 1 Building\, Seminar Hall\, 
 LDRP-ITR Campus\, Sector-15\, Gandhinagar\, Gujarat\, India\, 380015
LOCATION:Bldg: Shift 1 Building\, Seminar Hall\, LDRP-ITR Campus\, Sector-1
 5\, Gandhinagar\, Gujarat\, India\, 380015
ORGANIZER:ieeeksv@ksv.ac.in
SEQUENCE:37
SUMMARY:ImpactThon 2025-2026: Hackathon @Kadi Sarva Vishwavidyalaya
URL;VALUE=URI:https://events.vtools.ieee.org/m/519671
X-ALT-DESC:Description: &lt;br /&gt;&lt;div style=&quot;display: flex\; flex-wrap: wrap\;
 &quot;&gt;&lt;!-- Left Column: Text --&gt;\n&lt;div style=&quot;flex: 1 1 60%\; padding-right: 2
 0px\; text-align: justify\; min-width: 280px\;&quot;&gt;\n&lt;p&gt;&lt;strong&gt;ImpactThon&lt;/s
 trong&gt; is an innovation-driven initiative designed to encourage students t
 o ideate\, collaborate\, and develop impactful technology-based solutions 
 for real-world challenges.&lt;/p&gt;\n&lt;p&gt;This event is organized under the leade
 rship of the &lt;strong&gt;M.M. Patel Students Research Project Cell (MMPSRPC)&lt;/
 strong&gt;\, in collaboration with:&lt;/p&gt;\n&lt;ul style=&quot;margin-top: 0\;&quot;&gt;\n&lt;li&gt;&lt;s
 trong&gt;IEEE Student Branch\, Kadi Sarva Vishwavidyalaya&lt;/strong&gt;&lt;/li&gt;\n&lt;li&gt;
 &lt;strong&gt;Associated Institutional Departments and Innovation Bodies&lt;/strong
 &gt;&lt;/li&gt;\n&lt;/ul&gt;\n&lt;p&gt;Impactthon offers a platform for students to explore des
 ign thinking\, interdisciplinary teamwork\, problem solving\, and prototyp
 e development &amp;mdash\; bridging academic learning with industry-oriented i
 nnovation.&lt;/p&gt;\n&lt;p&gt;&lt;strong&gt;Key Highlights:&lt;/strong&gt;&lt;/p&gt;\n&lt;ul style=&quot;margin
 -top: 0\;&quot;&gt;\n&lt;li&gt;Hands-on innovation and project development opportunities
 &lt;/li&gt;\n&lt;li&gt;Interaction with mentors\, domain experts\, and innovation faci
 litators&lt;/li&gt;\n&lt;li&gt;Exposure to ideation techniques and solution-building p
 rocesses&lt;/li&gt;\n&lt;li&gt;Opportunities to showcase outcomes and receive construc
 tive feedback&lt;/li&gt;\n&lt;/ul&gt;\n&lt;p&gt;Impactthon is more than an event\; it is a m
 ovement to cultivate impactful thinking\, collaborative learning\, and sol
 ution-driven innovation among young minds.&lt;/p&gt;\n&lt;/div&gt;\n&lt;!-- Right Column:
  Poster / Banner --&gt;\n&lt;div style=&quot;flex: 1 1 35%\; min-width: 240px\;&quot;&gt;&lt;img
  style=&quot;width: 100%\; border-radius: 8px\;&quot; src=&quot;https://events.vtools.iee
 e.org/vtools_ui/media/display/71d3221f-47ec-48fd-ae2d-89a4bc7cff5b&quot; alt=&quot;I
 mpactthon Event Banner&quot;&gt;&lt;/div&gt;\n&lt;/div&gt;&lt;br /&gt;&lt;br /&gt;Agenda: &lt;br /&gt;&lt;h3&gt;Impact
 Thon Timeline &amp;amp\; Agenda&lt;/h3&gt;\n&lt;table style=&quot;border-collapse: collapse\
 ; width: 100%\; text-align: left\;&quot; border=&quot;1&quot; cellspacing=&quot;0&quot; cellpadding
 =&quot;8&quot;&gt;\n&lt;thead style=&quot;background-color: #f2f2f2\;&quot;&gt;\n&lt;tr&gt;\n&lt;th style=&quot;width
 : 25%\;&quot;&gt;Stage&lt;/th&gt;\n&lt;th&gt;Date&lt;/th&gt;\n&lt;th&gt;Activity&lt;/th&gt;\n&lt;/tr&gt;\n&lt;/thead&gt;\n&lt;t
 body&gt;\n&lt;tr&gt;\n&lt;td&gt;Stage 1&lt;/td&gt;\n&lt;td&gt;1st Dec 2025&lt;/td&gt;\n&lt;td&gt;Team Registratio
 n &amp;ndash\; Teams complete registration.&lt;/td&gt;\n&lt;/tr&gt;\n&lt;tr&gt;\n&lt;td&gt;Stage 2&lt;/td
 &gt;\n&lt;td&gt;&amp;mdash\;&lt;/td&gt;\n&lt;td&gt;Idea Submission &amp;ndash\; Teams submit their prop
 osed solution idea.&lt;/td&gt;\n&lt;/tr&gt;\n&lt;tr&gt;\n&lt;td&gt;Stage 3&lt;/td&gt;\n&lt;td&gt;&amp;mdash\;&lt;/td&gt;
 \n&lt;td&gt;Screening Round &amp;ndash\; Submitted ideas are reviewed by evaluators.
 &lt;/td&gt;\n&lt;/tr&gt;\n&lt;tr&gt;\n&lt;td&gt;Stage 4&lt;/td&gt;\n&lt;td&gt;&amp;mdash\;&lt;/td&gt;\n&lt;td&gt;Shortlisted T
 eams Announcement &amp;ndash\; Selected teams are announced.&lt;/td&gt;\n&lt;/tr&gt;\n&lt;tr&gt;
 \n&lt;td&gt;Stage 5&lt;/td&gt;\n&lt;td&gt;&amp;mdash\;&lt;/td&gt;\n&lt;td&gt;Development Phase &amp;ndash\; Team
 s start building their prototype.&lt;/td&gt;\n&lt;/tr&gt;\n&lt;tr&gt;\n&lt;td&gt;Stage 6&lt;/td&gt;\n&lt;td
 &gt;30th Jan 2026&lt;/td&gt;\n&lt;td&gt;Semi Final &amp;ndash\; Evaluation and shortlisting.&lt;
 /td&gt;\n&lt;/tr&gt;\n&lt;tr&gt;\n&lt;td&gt;Stage 7&lt;/td&gt;\n&lt;td&gt;31st Jan 2026&lt;/td&gt;\n&lt;td&gt;Grand Fin
 ale &amp;ndash\; Final presentations and result declaration.&lt;/td&gt;\n&lt;/tr&gt;\n&lt;/tb
 ody&gt;\n&lt;/table&gt;
END:VEVENT
END:VCALENDAR

