BEGIN:VCALENDAR
VERSION:2.0
PRODID:IEEE vTools.Events//EN
CALSCALE:GREGORIAN
BEGIN:VTIMEZONE
TZID:Europe/Stockholm
BEGIN:DAYLIGHT
DTSTART:20260329T030000
TZOFFSETFROM:+0100
TZOFFSETTO:+0200
RRULE:FREQ=YEARLY;BYDAY=-1SU;BYMONTH=3
TZNAME:CEST
END:DAYLIGHT
BEGIN:STANDARD
DTSTART:20251026T020000
TZOFFSETFROM:+0200
TZOFFSETTO:+0100
RRULE:FREQ=YEARLY;BYDAY=-1SU;BYMONTH=10
TZNAME:CET
END:STANDARD
END:VTIMEZONE
BEGIN:VEVENT
DTSTAMP:20260119T140305Z
UID:AE18CDC8-6847-4144-B4EA-549A8CA6FF7A
DTSTART;TZID=Europe/Stockholm:20260119T140000
DTEND;TZID=Europe/Stockholm:20260119T150000
DESCRIPTION:Telco Meeting of the IEEE Sweden VT/COM/IT Chapter Board\n\nLun
 d\, Skane lan\, Sweden
LOCATION:Lund\, Skane lan\, Sweden
ORGANIZER:michael.lentmaier@eit.lth.se
SEQUENCE:2
SUMMARY:Conf call #1 2026 IEEE VT/COM/IT Chapter Sweden
URL;VALUE=URI:https://events.vtools.ieee.org/m/519693
X-ALT-DESC:Description: &lt;br /&gt;&lt;p&gt;Telco Meeting of the IEEE Sweden VT/COM/IT
  Chapter Board&lt;/p&gt;
END:VEVENT
END:VCALENDAR

