BEGIN:VCALENDAR
VERSION:2.0
PRODID:IEEE vTools.Events//EN
CALSCALE:GREGORIAN
BEGIN:VTIMEZONE
TZID:Asia/Jerusalem
BEGIN:DAYLIGHT
DTSTART:20260327T030000
TZOFFSETFROM:+0200
TZOFFSETTO:+0300
RRULE:FREQ=YEARLY;BYDAY=-1FR;BYMONTH=3
TZNAME:IDT
END:DAYLIGHT
BEGIN:STANDARD
DTSTART:20251026T010000
TZOFFSETFROM:+0300
TZOFFSETTO:+0200
RRULE:FREQ=YEARLY;BYDAY=-1SU;BYMONTH=10
TZNAME:IST
END:STANDARD
END:VTIMEZONE
BEGIN:VEVENT
DTSTAMP:20260125T103203Z
UID:53AE9666-03D6-4502-A80C-2ECEE5FE1E19
DTSTART;TZID=Asia/Jerusalem:20260113T160000
DTEND;TZID=Asia/Jerusalem:20260113T170000
DESCRIPTION:IEEE Computer Society Israel Webinar\n\nQuantum Supercomputers\
 n\nCo-sponsored by: Freddy Gabbay\n\nAgenda: \nDr. Yonatan Cohen\n\nCo-fou
 nder and CTO of Quantum Machines (QM)\n\nTuesday\, January 13th\, 2026\n\n
 16:00 (Israel Time)\, online Zoom session\n\nRegistration is free. Please 
 register [here](https://huji.zoom.us/webinar/register/WN_4Knx52wZRHW2sZtLI
 OE2jw) ( Zoom link will be provided after registration)\n\nVirtual: https:
 //events.vtools.ieee.org/m/520835
LOCATION:Virtual: https://events.vtools.ieee.org/m/520835
ORGANIZER:freddy.gabbay@mail.huji.ac.il
SEQUENCE:2
SUMMARY:Quantum Supercomputers
URL;VALUE=URI:https://events.vtools.ieee.org/m/520835
X-ALT-DESC:Description: &lt;br /&gt;&lt;div class=&quot;WordSection1&quot;&gt;\n&lt;p class=&quot;MsoNorm
 al&quot; style=&quot;text-align: center\;&quot; align=&quot;center&quot;&gt;&lt;strong&gt;&lt;span lang=&quot;EN-US&quot;
  style=&quot;font-size: 20.0pt\; color: #2f5496\; mso-themecolor: accent1\; mso
 -themeshade: 191\;&quot;&gt;IEEE Computer Society Israel Webinar&lt;/span&gt;&lt;/strong&gt;&lt;/
 p&gt;\n&lt;p style=&quot;text-align: center\;&quot; align=&quot;center&quot;&gt;&lt;span lang=&quot;EN-US&quot; styl
 e=&quot;font-size: 14.0pt\; font-family: Helvetica\; color: #538135\; mso-theme
 color: accent6\; mso-themeshade: 191\;&quot;&gt;Quantum Supercomputers&lt;/span&gt;&lt;/p&gt;\
 n&lt;/div&gt;\n&lt;p class=&quot;MsoNormal&quot; dir=&quot;RTL&quot; style=&quot;text-align: right\; directi
 on: rtl\; unicode-bidi: embed\;&quot;&gt;&lt;span lang=&quot;HE&quot;&gt;&amp;nbsp\;&lt;/span&gt;&lt;/p&gt;&lt;br /&gt;&lt;
 br /&gt;Agenda: &lt;br /&gt;&lt;div class=&quot;WordSection1&quot;&gt;&lt;br style=&quot;mso-ignore: vglayo
 ut\;&quot; clear=&quot;ALL&quot;&gt;\n&lt;p style=&quot;text-align: center\;&quot; align=&quot;center&quot;&gt;&lt;span l
 ang=&quot;EN-US&quot; style=&quot;font-size: 11.0pt\; font-family: &#39;Arial&#39;\,sans-serif\; 
 color: #1f3864\; mso-themecolor: accent1\; mso-themeshade: 128\;&quot;&gt;Dr. Yona
 tan Cohen &lt;/span&gt;&lt;/p&gt;\n&lt;p style=&quot;text-align: center\;&quot; align=&quot;center&quot;&gt;&lt;spa
 n lang=&quot;EN-US&quot; style=&quot;font-size: 11.0pt\; font-family: &#39;Arial&#39;\,sans-serif
 \; color: #1f3864\; mso-themecolor: accent1\; mso-themeshade: 128\;&quot;&gt;Co-fo
 under and CTO of Quantum Machines (QM)&lt;/span&gt;&lt;/p&gt;\n&lt;p style=&quot;text-align: c
 enter\;&quot; align=&quot;center&quot;&gt;&amp;nbsp\;&lt;/p&gt;\n&lt;p style=&quot;text-align: center\;&quot; align
 =&quot;center&quot;&gt;&lt;span lang=&quot;EN-US&quot; style=&quot;font-family: &#39;Arial&#39;\,sans-serif\; col
 or: #1f3864\; mso-themecolor: accent1\; mso-themeshade: 128\;&quot;&gt;Tuesday\, J
 anuary 13&lt;sup&gt;th&lt;/sup&gt;\, 2026 &lt;/span&gt;&lt;/p&gt;\n&lt;p style=&quot;text-align: center\;&quot;
  align=&quot;center&quot;&gt;&lt;span lang=&quot;EN-US&quot; style=&quot;font-family: &#39;Arial&#39;\,sans-serif
 \; color: #1f3864\; mso-themecolor: accent1\; mso-themeshade: 128\;&quot;&gt;16:00
  (Israel Time)\, online Zoom session&lt;/span&gt;&lt;/p&gt;\n&lt;p style=&quot;text-align: cen
 ter\;&quot; align=&quot;center&quot;&gt;&lt;span lang=&quot;EN-US&quot; style=&quot;font-size: 11.0pt\; font-f
 amily: &#39;Arial&#39;\,sans-serif\; color: #1f3864\; mso-themecolor: accent1\; ms
 o-themeshade: 128\;&quot;&gt;Registration is free. Please register &lt;/span&gt;&lt;span la
 ng=&quot;EN-US&quot;&gt;&lt;a href=&quot;https://huji.zoom.us/webinar/register/WN_4Knx52wZRHW2s
 ZtLIOE2jw&quot;&gt;&lt;span style=&quot;font-size: 11.0pt\; font-family: &#39;Arial&#39;\,sans-ser
 if\;&quot;&gt;here&lt;/span&gt;&lt;/a&gt;&lt;/span&gt;&lt;span class=&quot;MsoHyperlink&quot;&gt;&lt;span lang=&quot;EN-US&quot; 
 style=&quot;font-size: 11.0pt\; font-family: &#39;Arial&#39;\,sans-serif\;&quot;&gt; &lt;/span&gt;&lt;/s
 pan&gt;&lt;strong&gt;&lt;span lang=&quot;EN-US&quot; style=&quot;font-size: 10.0pt\; font-family: &#39;Ar
 ial&#39;\,sans-serif\; color: #1f3864\; mso-themecolor: accent1\; mso-themesha
 de: 128\;&quot;&gt;( &lt;/span&gt;&lt;/strong&gt;&lt;span lang=&quot;EN-US&quot; style=&quot;font-size: 9.0pt\; 
 font-family: &#39;Arial&#39;\,sans-serif\; color: #1f3864\; mso-themecolor: accent
 1\; mso-themeshade: 128\;&quot;&gt;Zoom link will be provided after registration&lt;/
 span&gt;&lt;strong&gt;&lt;span lang=&quot;EN-US&quot; style=&quot;font-size: 10.0pt\; font-family: &#39;A
 rial&#39;\,sans-serif\; color: #1f3864\; mso-themecolor: accent1\; mso-themesh
 ade: 128\;&quot;&gt;)&lt;/span&gt;&lt;/strong&gt;&lt;/p&gt;\n&lt;/div&gt;\n&lt;p&gt;&lt;strong&gt;&lt;span lang=&quot;EN-US&quot; s
 tyle=&quot;font-size: 10.0pt\; font-family: &#39;Arial&#39;\,sans-serif\; mso-fareast-f
 ont-family: &#39;Times New Roman&#39;\; color: #1f3864\; mso-themecolor: accent1\;
  mso-themeshade: 128\; mso-ansi-language: EN-US\; mso-fareast-language: EN
 -US\; mso-bidi-language: HE\;&quot;&gt;&amp;nbsp\;&lt;/span&gt;&lt;/strong&gt;&lt;/p&gt;\n&lt;p style=&quot;text
 -align: justify\;&quot;&gt;&amp;nbsp\;&lt;/p&gt;\n&lt;p style=&quot;text-align: justify\;&quot;&gt;&lt;span lan
 g=&quot;EN-US&quot; style=&quot;font-size: 10.0pt\; font-family: &#39;Arial&#39;\,sans-serif\; co
 lor: black\;&quot;&gt;&amp;nbsp\;&lt;/span&gt;&lt;/p&gt;\n&lt;p class=&quot;MsoNormal&quot; dir=&quot;RTL&quot; style=&quot;te
 xt-align: right\; direction: rtl\; unicode-bidi: embed\;&quot;&gt;&lt;span lang=&quot;HE&quot;&gt;
 &amp;nbsp\;&lt;/span&gt;&lt;/p&gt;
END:VEVENT
END:VCALENDAR

