BEGIN:VCALENDAR
VERSION:2.0
PRODID:IEEE vTools.Events//EN
CALSCALE:GREGORIAN
BEGIN:VTIMEZONE
TZID:Africa/Algiers
BEGIN:STANDARD
DTSTART:19810501T010000
TZOFFSETFROM:+0000
TZOFFSETTO:+0100
TZNAME:CET
END:STANDARD
END:VTIMEZONE
BEGIN:VEVENT
DTSTAMP:20260414T213818Z
UID:3671A5FB-EDC4-4078-BA76-A6E7B27802C8
DTSTART;TZID=Africa/Algiers:20260819T080000
DTEND;TZID=Africa/Algiers:20260819T100200
DESCRIPTION:The IEEE IAS ISI Student Branch Chapter is set to organise the 
 second edition of the IEEE IAS Anniversary Conference\, continuing its tra
 dition of fostering innovation\, collaboration\, and student engagement. T
 he program will feature interactive sessions\, an IAS Chapters Expo highli
 ghting projects and achievements\, and expert panels exploring industrial 
 trends and global opportunities within IAS. Students will also benefit fro
 m mentorship workshops on leadership\, AI\, project management\, and profe
 ssional skills\, further amplifying the conference’s impact.\n\nhttps://
 maps.app.goo.gl/5PmKGLhKfrwJ8r2i6\, Tunis \, Tunis\, Tunisia
LOCATION:https://maps.app.goo.gl/5PmKGLhKfrwJ8r2i6\, Tunis \, Tunis\, Tunis
 ia
ORGANIZER:sbc.ias.isi@gmail.com
SEQUENCE:75
SUMMARY:IAC 2.0
URL;VALUE=URI:https://events.vtools.ieee.org/m/522521
X-ALT-DESC:Description: &lt;br /&gt;&lt;p&gt;&lt;strong id=&quot;docs-internal-guid-ef9a0baa-7f
 ff-8e2c-3e5d-902b87b16d14&quot;&gt;The&lt;span style=&quot;color: rgb(45\, 194\, 107)\;&quot;&gt; 
 IEEE IAS ISI Student Branch Chapter&lt;/span&gt; is set to organise &lt;span style=
 &quot;color: rgb(45\, 194\, 107)\;&quot;&gt;the second edition of the IEEE IAS Annivers
 ary Conference&lt;/span&gt;\, continuing its tradition of fostering innovation\,
  collaboration\, and student engagement. The program will feature interact
 ive sessions\, an &lt;span style=&quot;color: rgb(45\, 194\, 107)\;&quot;&gt;IAS Chapters&lt;
 /span&gt; Expo highlighting projects and achievements\, and expert panels exp
 loring industrial trends and global opportunities within&lt;span style=&quot;color
 : rgb(45\, 194\, 107)\;&quot;&gt; IAS&lt;/span&gt;. Students will also benefit from ment
 orship workshops on leadership\, AI\, project management\, and professiona
 l skills\, further amplifying the conference&amp;rsquo\;s impact.&lt;/strong&gt;&lt;/p&gt;
END:VEVENT
END:VCALENDAR

