BEGIN:VCALENDAR
VERSION:2.0
PRODID:IEEE vTools.Events//EN
CALSCALE:GREGORIAN
BEGIN:VTIMEZONE
TZID:America/Los_Angeles
BEGIN:DAYLIGHT
DTSTART:20260308T030000
TZOFFSETFROM:-0800
TZOFFSETTO:-0700
RRULE:FREQ=YEARLY;BYDAY=2SU;BYMONTH=3
TZNAME:PDT
END:DAYLIGHT
BEGIN:STANDARD
DTSTART:20251102T010000
TZOFFSETFROM:-0700
TZOFFSETTO:-0800
RRULE:FREQ=YEARLY;BYDAY=1SU;BYMONTH=11
TZNAME:PST
END:STANDARD
END:VTIMEZONE
BEGIN:VEVENT
DTSTAMP:20260114T024206Z
UID:AAE2A965-2ACD-473E-A4B1-3DDF91F02540
DTSTART;TZID=America/Los_Angeles:20260122T113000
DTEND;TZID=America/Los_Angeles:20260122T131500
DESCRIPTION:Advanced Materials and Characterization for Next Generation Bat
 teries\n\nAbstract:\n\nBatteries are foundational to modern society\, powe
 ring technologies from portable electronics and medical devices to electri
 c vehicles and large-scale grid energy storage. Among the many battery tec
 hnologies developed to date\, lithium-ion batteries have become indispensa
 ble to modern life.\n\nBut how did we arrive at this point\, and where do 
 we go next? This talk traces the historical evolution of batteries\, from 
 early systems such as the Voltaic pile to the rise of lithium-ion technolo
 gy\, highlighting the scientific breakthroughs and limitations that shaped
  their development. As global energy demands continue to grow\, critical q
 uestions arise: Can lithium-ion batteries alone meet future requirements?\
 n\nIn this context\, the presentation will delve into emerging battery tec
 hnologies\, focusing on sodium-ion batteries (SIBs) and recent breakthroug
 hs in high-performance SIB electrode materials. It will highlight how adva
 nced characterization at SLAC’s synchrotron facilities and the SLAC–St
 anford Battery Center is accelerating the development of sodium-ion batter
 ies as a low-cost\, sustainable alternative to lithium-ion systems. The ta
 lk will also provide a glimpse into next-generation high-energy technologi
 es\, including lithium-sulfur and anion-shuttle batteries.\n\nSpeaker:\n\n
 Dr. Ahamed Irshad\nAssociate Scientist\n\nSLAC-Stanford Battery Center\n\n
 SLAC National Accelerator Laboratory\n\nDr. Ahamed Irshad is an Associate 
 Scientist at the SLAC–Stanford Battery Center\, SLAC National Accelerato
 r Laboratory\, with over a decade of experience in energy conversion and s
 torage devices. His research spans both non-aqueous and aqueous battery sy
 stems\, as well as electrocatalysis\, with a particular focus on advancing
  next- generation materials\, electrochemical techniques\, and cutting-edg
 e characterization methods to propel innovation in energy storage.\n\nHe e
 arned his PhD in chemistry from the Indian Institute of Science\, Bangalor
 e\, followed by a postdoctoral position and research associateship at the 
 University of Southern California\, Los Angeles. Dr. Irshad has collaborat
 ed extensively with leading organizations\, including the National Science
  Foundation\, the U.S. Army\, and the Department of Energy\, contributing 
 to numerous high-impact battery research projects. His work has resulted i
 n several peer-reviewed publications in prominent journals\, including tho
 se of the American Chemical Society\, the Royal Society of Chemistry\, and
  the Electrochemical Society\, alongside two patents.\n\nAdditionally\, Dr
 . Irshad has served as a reviewer and topic editor for several esteemed in
 ternational journals. His professional achievements have earned him multip
 le prestigious awards\, including the Cottrell Scholar Award\, the Bristol
 -Myers Squibb Fellowship\, the Dr. J.C. Ghosh Medal\, and the Indian Acade
 my of Science Awards.\n\nAGENDA:\n\nThursday January 22\, 2026\n\n11:30 AM
 : Networking\, Pizza &amp; Drinks\n\nNoon -- 1 pm: Seminar\n\nPlease register 
 on Eventbrite before 9:30 AM on Thursday January 22\, 2026\n\n$4 IEEE memb
 ers $6 non IEEE members\n\n(discounts for unemployed and students )\n\nSee
  examplesAdd\n\nBldg: ==&gt; Use corner entrance: Kifer Road / San Lucar Cour
 t ==&gt; Do not enter at main entrance on Kifer Road\, EAG Labs\, 810 Kifer R
 oad\, Sunnyvale\, California\, California\, United States\, 95051
LOCATION:Bldg: ==&gt; Use corner entrance: Kifer Road / San Lucar Court ==&gt; Do
  not enter at main entrance on Kifer Road\, EAG Labs\, 810 Kifer Road\, Su
 nnyvale\, California\, California\, United States\, 95051
ORGANIZER:G.M.Friedman@ieee.org
SEQUENCE:29
SUMMARY:Battery Technologies &amp; Advanced Characterization Methods
URL;VALUE=URI:https://events.vtools.ieee.org/m/522589
X-ALT-DESC:Description: &lt;br /&gt;&lt;div class=&quot;eds-l-mar-vert-6 eds-l-sm-mar-ver
 t-4 eds-text-bm structured-content-rich-text&quot;&gt;\n&lt;div class=&quot;eds-text--left
 &quot;&gt;\n&lt;h1 class=&quot;event-title css-0&quot;&gt;Advanced Materials and Characterization 
 for Next Generation Batteries&lt;/h1&gt;\n&lt;/div&gt;\n&lt;/div&gt;\n&lt;div class=&quot;eds-l-mar-
 vert-6 eds-l-sm-mar-vert-4 eds-text-bm structured-content-rich-text&quot;&gt;\n&lt;di
 v class=&quot;eds-text--left&quot;&gt;\n&lt;p&gt;&amp;nbsp\;&lt;/p&gt;\n&lt;p&gt;&lt;strong&gt;Abstract:&lt;/strong&gt;&lt;/
 p&gt;\n&lt;h3&gt;Batteries are foundational to modern society\, powering technologi
 es from portable electronics and medical devices to electric vehicles and 
 large-scale grid energy storage. Among the many battery technologies devel
 oped to date\, lithium-ion batteries have become indispensable to modern l
 ife.&lt;br&gt;&lt;br&gt;But how did we arrive at this point\, and where do we go next?
  This talk traces the historical evolution of batteries\, from early syste
 ms such as the Voltaic pile to the rise of lithium-ion technology\, highli
 ghting the scientific breakthroughs and limitations that shaped their deve
 lopment. As global energy demands continue to grow\, critical questions ar
 ise: Can lithium-ion batteries alone meet future requirements?&lt;br&gt;&lt;br&gt;In t
 his context\, the presentation will delve into emerging battery technologi
 es\, focusing on sodium-ion batteries (SIBs) and recent breakthroughs in h
 igh-performance SIB electrode materials. It will highlight how advanced ch
 aracterization at SLAC&amp;rsquo\;s synchrotron facilities and the SLAC&amp;ndash\
 ;Stanford Battery Center is accelerating the development of sodium-ion bat
 teries as a low-cost\, sustainable alternative to lithium-ion systems. The
  talk will also provide a glimpse into next-generation high-energy technol
 ogies\, including lithium-sulfur and anion-shuttle batteries.&lt;/h3&gt;\n&lt;p&gt;&amp;nb
 sp\;&lt;/p&gt;\n&lt;p&gt;&lt;strong&gt;Speaker:&lt;/strong&gt;&lt;/p&gt;\n&lt;h3&gt;&lt;strong&gt;D&lt;/strong&gt;&lt;strong&gt;
 r. Ahamed Irshad&lt;/strong&gt;&lt;br&gt;&lt;strong&gt;Associate Scientist&lt;/strong&gt;&lt;/h3&gt;\n&lt;h
 3&gt;&lt;strong&gt;SLAC-Stanford Battery Center&lt;/strong&gt;&lt;/h3&gt;\n&lt;h3&gt;&lt;strong&gt;SLAC Nat
 ional Accelerator Laboratory&lt;/strong&gt;&lt;/h3&gt;\n&lt;h3&gt;&lt;strong&gt;Dr. Ahamed Irshad&lt;
 /strong&gt; is an Associate Scientist at the SLAC&amp;ndash\;Stanford Battery Cen
 ter\, SLAC National Accelerator Laboratory\, with over a decade of experie
 nce in energy conversion and storage devices. His research spans both non-
 aqueous and aqueous battery systems\, as well as electrocatalysis\, with a
  particular focus on advancing next- generation materials\, electrochemica
 l techniques\, and cutting-edge characterization methods to propel innovat
 ion in energy storage.&lt;br&gt;&lt;br&gt;He earned his PhD in chemistry from the Indi
 an Institute of Science\, Bangalore\, followed by a postdoctoral position 
 and research associateship at the University of Southern California\, Los 
 Angeles. Dr. Irshad has collaborated extensively with leading organization
 s\, including the National Science Foundation\, the U.S. Army\, and the De
 partment of Energy\, contributing to numerous high-impact battery research
  projects. His work has resulted in several peer-reviewed publications in 
 prominent journals\, including those of the American Chemical Society\, th
 e Royal Society of Chemistry\, and the Electrochemical Society\, alongside
  two patents.&lt;/h3&gt;\n&lt;h3&gt;Additionally\, Dr. Irshad has served as a reviewer
  and topic editor for several esteemed international journals. His profess
 ional achievements have earned him multiple prestigious awards\, including
  the Cottrell Scholar Award\, the Bristol-Myers Squibb Fellowship\, the Dr
 . J.C. Ghosh Medal\, and the Indian Academy of Science Awards.&lt;/h3&gt;\n&lt;h3&gt;&amp;
 nbsp\;&lt;/h3&gt;\n&lt;h3&gt;&lt;strong&gt;AGENDA:&lt;/strong&gt;&lt;/h3&gt;\n&lt;/div&gt;\n&lt;/div&gt;\n&lt;div class
 =&quot;eds-l-mar-vert-6 eds-l-sm-mar-vert-4 eds-text-bm structured-content-rich
 -text&quot;&gt;\n&lt;div class=&quot;eds-text--left&quot;&gt;\n&lt;div class=&quot;css-188aeyp e9y8vn50&quot;&gt;\
 n&lt;div id=&quot;AboutThisEventSection&quot; class=&quot;css-cd870x em1van10&quot; tabindex=&quot;0&quot; 
 role=&quot;button&quot; data-testid=&quot;AboutThisEventSection&quot; aria-label=&quot;Overview. Us
 e this section to provide more details about your event. You can include t
 hings to know\, venue information\, accessibility options&amp;mdash\;anything 
 that will help people know what to expect.&quot;&gt;\n&lt;div id=&quot;AboutThisEventPrevi
 ew&quot; class=&quot;css-1dykrq ezg9ojv5&quot; data-testid=&quot;AboutThisEventPreview&quot;&gt;\n&lt;div
  data-testid=&quot;ModulesListPreview&quot;&gt;\n&lt;div class=&quot;css-1hbyxwu e1pmrtpl0&quot;&gt;\n&lt;
 p&gt;&lt;strong&gt;Thursday January 22&lt;/strong&gt;&lt;strong&gt;\, 2026&lt;/strong&gt;&lt;/p&gt;\n&lt;p&gt;&lt;st
 rong&gt;11:30 AM: Networking\, Pizza &amp;amp\; Drinks&lt;/strong&gt;&lt;/p&gt;\n&lt;p&gt;&lt;strong&gt;N
 oon -- 1 pm: Seminar&lt;/strong&gt;&lt;/p&gt;\n&lt;p&gt;&lt;strong&gt;Please register on Eventbrit
 e before 9:30 AM on&lt;/strong&gt;&lt;strong&gt; Thursday January 22\, 2026&lt;/strong&gt;&lt;/
 p&gt;\n&lt;p&gt;&lt;strong&gt;$4 IEEE members&amp;nbsp\; $6 non IEEE members &lt;/strong&gt;&lt;/p&gt;\n&lt;
 p&gt;&lt;strong&gt;(discounts for unemployed and students&lt;/strong&gt; )&lt;/p&gt;\n&lt;/div&gt;\n&lt;
 /div&gt;\n&lt;/div&gt;\n&lt;/div&gt;\n&lt;/div&gt;\n&lt;div class=&quot;css-y3qgqv ehpy08z1&quot; tabindex=&quot;
 0&quot; data-testid=&quot;AddMore&quot;&gt;\n&lt;div class=&quot;css-q52w17 ehpy08z10&quot;&gt;&amp;nbsp\;&lt;/div&gt;
 \n&lt;div class=&quot;css-69i1ev ehpy08z2&quot; data-testid=&quot;AddMoreAgendaItem&quot; aria-la
 bel=&quot;Agenda&quot;&gt;\n&lt;div class=&quot;css-70qvj9 ehpy08z6&quot;&gt;&lt;button class=&quot;Button_root
 __j2zr8 Button_ghost__j2zr8 Button_defaultSize__j2zr8 css-1cg3r53 ehpy08z8
 &quot; type=&quot;button&quot; aria-disabled=&quot;false&quot; aria-label=&quot;See examples for agenda&quot;
  data-testid=&quot;SeeAgendaExamples&quot;&gt;See examples&lt;/button&gt;&lt;button class=&quot;Butto
 n_root__j2zr8 Button_secondary__j2zr8 Button_defaultSize__j2zr8 css-11dekj
 t ehpy08z7&quot; type=&quot;button&quot; aria-disabled=&quot;false&quot; aria-label=&quot;Agenda. Add&quot; d
 ata-testid=&quot;AddAgendaButton&quot;&gt;Add&lt;/button&gt;&lt;/div&gt;\n&lt;/div&gt;\n&lt;/div&gt;\n&lt;footer c
 lass=&quot;css-lfkaco entej860&quot;&gt;\n&lt;div class=&quot;css-r49qog entej861&quot;&gt;&amp;nbsp\;&lt;/div
 &gt;\n&lt;/footer&gt;\n&lt;h3&gt;&amp;nbsp\;&lt;/h3&gt;\n&lt;/div&gt;\n&lt;/div&gt;
END:VEVENT
END:VCALENDAR

