BEGIN:VCALENDAR
VERSION:2.0
PRODID:IEEE vTools.Events//EN
CALSCALE:GREGORIAN
BEGIN:VTIMEZONE
TZID:Europe/Paris
BEGIN:DAYLIGHT
DTSTART:20270328T030000
TZOFFSETFROM:+0100
TZOFFSETTO:+0200
RRULE:FREQ=YEARLY;BYDAY=-1SU;BYMONTH=3
TZNAME:CEST
END:DAYLIGHT
BEGIN:STANDARD
DTSTART:20261025T020000
TZOFFSETFROM:+0200
TZOFFSETTO:+0100
RRULE:FREQ=YEARLY;BYDAY=-1SU;BYMONTH=10
TZNAME:CET
END:STANDARD
END:VTIMEZONE
BEGIN:VEVENT
DTSTAMP:20251215T195134Z
UID:AE975CE1-B799-4561-9ACF-5AAFC6B0CFCF
DTSTART;TZID=Europe/Paris:20261115T080000
DTEND;TZID=Europe/Paris:20261115T180000
DESCRIPTION:Tech4Health 2.0\, scheduled for 15 November 2026\, will be the 
 second edition of our flagship innovation event organized by IEEE CASS ENE
 T’Com SBC in collaboration with IEEE EMBS ENET’Com SBC. Building on th
 e success of the first edition\, this new version will focus on next-gener
 ation healthcare innovation\, exploring how AI\, IoT\, intelligent systems
 \, and data-driven technologies can transform medical services and patient
  care. Tech4Health 2.0 will feature interactive technical workshops\, expe
 rt-led talks\, live demonstrations\, and an innovation-driven ideathon enc
 ouraging participants to design scalable and impactful healthcare solution
 s adapted to real-world needs. The event aims to strengthen interdisciplin
 ary collaboration\, promote applied research\, and position Tech4Health as
  a sustainable\, high-quality annual initiative supporting technological a
 dvancement in healthcare.\n\nsfax\, Sfax\, Tunisia\, 3018
LOCATION:sfax\, Sfax\, Tunisia\, 3018
ORGANIZER:achref.slimen@ieee.org
SEQUENCE:27
SUMMARY:Tech4Health 2.0
URL;VALUE=URI:https://events.vtools.ieee.org/m/522955
X-ALT-DESC:Description: &lt;br /&gt;&lt;p&gt;&lt;strong data-start=&quot;135&quot; data-end=&quot;154&quot;&gt;Te
 ch4Health 2.0&lt;/strong&gt;\, scheduled for &lt;strong data-start=&quot;170&quot; data-end=&quot;
 190&quot;&gt;15 November 2026&lt;/strong&gt;\, will be the second edition of our flagshi
 p innovation event organized by &lt;strong data-start=&quot;265&quot; data-end=&quot;336&quot;&gt;IE
 EE CASS ENET&amp;rsquo\;Com SBC in collaboration with IEEE EMBS ENET&amp;rsquo\;Co
 m SBC&lt;/strong&gt;. Building on the success of the first edition\, this new ve
 rsion will focus on &lt;strong data-start=&quot;415&quot; data-end=&quot;456&quot;&gt;next-generatio
 n healthcare innovation&lt;/strong&gt;\, exploring how &lt;strong data-start=&quot;472&quot; 
 data-end=&quot;534&quot;&gt;AI\, IoT\, intelligent systems\, and data-driven technologi
 es&lt;/strong&gt; can transform medical services and patient care. Tech4Health 2
 .0 will feature &lt;strong data-start=&quot;613&quot; data-end=&quot;722&quot;&gt;interactive techni
 cal workshops\, expert-led talks\, live demonstrations\, and an innovation
 -driven ideathon&lt;/strong&gt; encouraging participants to design scalable and 
 impactful healthcare solutions adapted to real-world needs. The event aims
  to strengthen interdisciplinary collaboration\, promote applied research\
 , and position Tech4Health as a &lt;strong data-start=&quot;949&quot; data-end=&quot;996&quot; da
 ta-is-only-node=&quot;&quot;&gt;sustainable\, high-quality annual initiative&lt;/strong&gt; s
 upporting technological advancement in healthcare.&lt;/p&gt;
END:VEVENT
END:VCALENDAR

