BEGIN:VCALENDAR
VERSION:2.0
PRODID:IEEE vTools.Events//EN
CALSCALE:GREGORIAN
BEGIN:VTIMEZONE
TZID:Europe/Amsterdam
BEGIN:DAYLIGHT
DTSTART:20260329T030000
TZOFFSETFROM:+0100
TZOFFSETTO:+0200
RRULE:FREQ=YEARLY;BYDAY=-1SU;BYMONTH=3
TZNAME:CEST
END:DAYLIGHT
BEGIN:STANDARD
DTSTART:20251026T020000
TZOFFSETFROM:+0200
TZOFFSETTO:+0100
RRULE:FREQ=YEARLY;BYDAY=-1SU;BYMONTH=10
TZNAME:CET
END:STANDARD
END:VTIMEZONE
BEGIN:VEVENT
DTSTAMP:20251215T204736Z
UID:AB1A0178-2634-4F51-A2BC-EF661047F649
DTSTART;TZID=Europe/Amsterdam:20260123T140000
DTEND;TZID=Europe/Amsterdam:20260124T000000
DESCRIPTION:ENIF 6.0 is officially in the making. The organizing team has a
 lready launched the journey with an initial brainstorming meeting to defin
 e the vision of this new edition and set the main directions of the event.
  This marks the beginning of an exciting preparation phase\, with a series
  of upcoming meetings dedicated to structuring\, planning\, and bringing E
 NIF 6.0 to life as a meaningful and impactful experience.\n\nTunisia\, Sfa
 x\, Tunisia
LOCATION:Tunisia\, Sfax\, Tunisia
ORGANIZER:ola.chakroun@ieee.org
SEQUENCE:7
SUMMARY:ENIF 6.0 – Shaping the Next Edition
URL;VALUE=URI:https://events.vtools.ieee.org/m/522972
X-ALT-DESC:Description: &lt;br /&gt;&lt;table style=&quot;border-collapse: collapse\; wid
 th: 99.9808%\;&quot; border=&quot;1&quot;&gt;&lt;colgroup&gt;&lt;col style=&quot;width: 49.9521%\;&quot;&gt;&lt;col s
 tyle=&quot;width: 49.9521%\;&quot;&gt;&lt;/colgroup&gt;\n&lt;tbody&gt;\n&lt;tr&gt;\n&lt;td&gt;&lt;strong&gt;&lt;span sty
 le=&quot;color: rgb(35\, 111\, 161)\;&quot;&gt;ENIF 6.0&lt;/span&gt;&lt;/strong&gt; is officially i
 n the making. The organizing team has already launched the journey with an
  initial brainstorming meeting to define the vision of this new edition an
 d set the main directions of the event. This marks the beginning of an exc
 iting preparation phase\, with a series of upcoming meetings dedicated to 
 structuring\, planning\, and bringing ENIF 6.0 to life as a meaningful and
  impactful experience.&lt;/td&gt;\n&lt;td&gt;&lt;img style=&quot;display: block\; margin-left:
  auto\; margin-right: auto\;&quot; src=&quot;https://events.vtools.ieee.org/vtools_u
 i/media/display/dbb38e50-a29a-4d34-a377-6230d07d4069&quot; width=&quot;340&quot; height=&quot;
 255&quot;&gt;&lt;/td&gt;\n&lt;/tr&gt;\n&lt;/tbody&gt;\n&lt;/table&gt;
END:VEVENT
END:VCALENDAR

