BEGIN:VCALENDAR
VERSION:2.0
PRODID:IEEE vTools.Events//EN
CALSCALE:GREGORIAN
BEGIN:VTIMEZONE
TZID:US/Michigan
BEGIN:DAYLIGHT
DTSTART:20260308T030000
TZOFFSETFROM:-0500
TZOFFSETTO:-0400
RRULE:FREQ=YEARLY;BYDAY=2SU;BYMONTH=3
TZNAME:EDT
END:DAYLIGHT
BEGIN:STANDARD
DTSTART:20251102T010000
TZOFFSETFROM:-0400
TZOFFSETTO:-0500
RRULE:FREQ=YEARLY;BYDAY=1SU;BYMONTH=11
TZNAME:EST
END:STANDARD
END:VTIMEZONE
BEGIN:VEVENT
DTSTAMP:20260113T202546Z
UID:889D7A4A-C7C7-47DF-8CCD-F2B5EE3FEA31
DTSTART;TZID=US/Michigan:20260110T093000
DTEND;TZID=US/Michigan:20260110T140000
DESCRIPTION:NO REFUNDS for the $10 Workshop\n\nLunch Sponsor: Teledyne LeCr
 oy\n\nLab Sponsor: Teledyne LeCroy\n\n[][]\n\nDid you ever wonder why a ch
 attering relay can disrupt so many signals? Did you ever wonder about the 
 consequences of a change in bandwidth? What is the difference between narr
 owband and broadband? Why does a twisted pair provide magnetic shielding? 
 Does the shape of a choke have an effect? Is a resistor ever an inductor o
 r capacitor? Is an inductor a capacitor? How can you find out? Can a trace
  that is not smooth change the inductance or capacitance of the trace? How
  does a scope work?  How can you increase the resolution of the scope?  If
  you have considered these conundrums – please come and join us at the E
 MC Basics + Workshop January 10th\, 2026 at the Teledyne Applications Test
  Center 27300 Haggerty Road Farmington Hills\, MI.\n\nCandace Suriano is a
  graduate of GMI Engineering &amp; Management Institute (BSME) and has graduat
 e degrees from Purdue University (MSME\, MSE) and the University of Dayton
  (Ph.D.). She is the author of numerous papers and magazine articles on el
 ectromagnetic compatibility\, and she chaired an antennas and probes works
 hop at several IEEE EMC symposia. Her interests are in the areas of electr
 omagnetic compatibility and electromagnetic modeling. Candace is a mom wit
 h interests in MOM. She may be contacted at: candacesuriano@gmail.com\n\nJ
 ohn Suriano is a graduate of GMI Engineering &amp; Management Institute (BSEE)
  and has graduate degrees from Purdue University (MSEE\, PhD). With Candac
 e\, he has authored numerous papers and magazine articles on electromagnet
 ic compatibility. His interests are in the areas of electromagnetic compat
 ibility and electromagnetic modeling. John supervises the EMC testing lab 
 of Nidec Automotive Motor Americas. John can be reached at: jrsuriano@gmai
 l.com\n\nAgenda: \nThe time will be 9:30-2:00 with a half hour for lunch.\
 n\nSession 1: Candace Suriano\, Basics of EMC\n\n9:30am-10:25am\n\nSession
  2: John Suriano\, Emissions and Immunity Case Studies and Considerations 
 in EMC\n\n10:30am-11:30am\n\nLunch Graciously Provided by Teledyne LeCroy\
 n\n11:30am-Noon\n\nSession 4: Teledyne LeCroy\, Basics of Oscilloscope Use
 \n\nNoon-2pm\n\nTeledyne Applications Test Center\, 27300 Haggerty Road\, 
 Farmington Hills\, Michigan\, United States\, 48331
LOCATION:Teledyne Applications Test Center\, 27300 Haggerty Road\, Farmingt
 on Hills\, Michigan\, United States\, 48331
ORGANIZER:scott@emcsociety.org
SEQUENCE:24
SUMMARY:EMC Basics+ Workshop 2026
URL;VALUE=URI:https://events.vtools.ieee.org/m/523025
X-ALT-DESC:Description: &lt;br /&gt;&lt;div&gt;&amp;nbsp\;&lt;/div&gt;\n&lt;p&gt;&lt;span style=&quot;backgroun
 d-color: #ff00ff\;&quot;&gt;NO REFUNDS for the $10 Workshop&lt;/span&gt;&lt;/p&gt;\n&lt;p&gt;&amp;nbsp\;
 &lt;/p&gt;\n&lt;h2&gt;&amp;nbsp\;&lt;/h2&gt;\n&lt;p&gt;&amp;nbsp\;&lt;/p&gt;\n&lt;p&gt;&lt;span style=&quot;color: #ff0000\; f
 ont-size: 18pt\;&quot;&gt;Lunch Sponsor: Teledyne LeCroy&lt;/span&gt;&lt;/p&gt;\n&lt;p&gt;&amp;nbsp\;&lt;/p
 &gt;\n&lt;p&gt;&lt;span style=&quot;color: #ff0000\; font-size: 18pt\;&quot;&gt;Lab Sponsor:&amp;nbsp\;
  Teledyne LeCroy&lt;/span&gt;&lt;/p&gt;\n&lt;p&gt;&amp;nbsp\;&lt;/p&gt;\n&lt;p&gt;&amp;nbsp\;&lt;/p&gt;\n&lt;p&gt;&lt;img src=&quot;
 http://www.emcsociety.org/big_iee.jpg&quot; alt=&quot;&quot; width=&quot;100&quot; height=&quot;100&quot;&gt;&lt;im
 g src=&quot;http://www.emcsociety.org/emcsociety.jpg&quot; alt=&quot;&quot; width=&quot;200&quot; height
 =&quot;100&quot;&gt;&lt;/p&gt;\n&lt;p&gt;&amp;nbsp\;&lt;/p&gt;\n&lt;p&gt;&amp;nbsp\;&lt;/p&gt;\n&lt;p&gt;&amp;nbsp\;&lt;/p&gt;\n&lt;p&gt;&lt;strong&gt;&lt;s
 pan style=&quot;font-family: comic sans ms\, sans-serif\; font-size: large\;&quot;&gt;D
 id you ever wonder why a chattering relay can disrupt so many signals? Did
  you ever wonder about the consequences of a change in bandwidth? What is 
 the difference between narrowband and broadband? Why does a twisted pair p
 rovide magnetic shielding?&amp;nbsp\; Does the shape of a choke have an effect
 ? Is a resistor ever an inductor or capacitor? Is an inductor a capacitor?
  How can you find out? Can a trace that is not smooth change the inductanc
 e or capacitance of the trace? How does a scope work?&amp;nbsp\; &lt;/span&gt;&lt;span 
 style=&quot;font-family: comic sans ms\, sans-serif\; font-size: large\;&quot;&gt;&amp;nbsp
 \;How can you increase the resolution of the scope?&lt;/span&gt;&amp;nbsp\;&lt;span sty
 le=&quot;font-family: comic sans ms\, sans-serif\; font-size: large\;&quot;&gt; If you 
 have considered these conundrums &amp;ndash\; please come and join us at the E
 MC Basics + Workshop January 10&lt;sup&gt;th&lt;/sup&gt;\, 2026 at the&amp;nbsp\;Teledyne 
 Applications Test Center 27300 Haggerty Road Farmington Hills\, MI.&amp;nbsp\;
 &lt;/span&gt;&lt;/strong&gt;&lt;/p&gt;\n&lt;p&gt;&amp;nbsp\;&lt;/p&gt;\n&lt;p&gt;&lt;strong&gt;Candace Suriano&lt;/strong&gt; 
 is a graduate of GMI Engineering &amp;amp\; Management Institute (BSME) and ha
 s graduate degrees from Purdue University (MSME\, MSE) and the University 
 of Dayton (Ph.D.). She is the author of numerous papers and magazine artic
 les on electromagnetic compatibility\, and she chaired an antennas and pro
 bes workshop at several IEEE EMC symposia. Her interests are in the areas 
 of electromagnetic compatibility and electromagnetic modeling. Candace is 
 a mom with interests in MOM. She may be contacted at: &lt;a href=&quot;mailto:cand
 acesuriano@gmail.com&quot;&gt;candacesuriano@gmail.com&lt;/a&gt;&amp;nbsp\;&lt;/p&gt;\n&lt;p&gt;&lt;strong&gt;
 John Suriano&lt;/strong&gt; is a graduate of GMI Engineering &amp;amp\; Management I
 nstitute (BSEE) and has graduate degrees from Purdue University (MSEE\, Ph
 D). With Candace\, he has authored numerous papers and magazine articles o
 n electromagnetic compatibility. His interests are in the areas of electro
 magnetic compatibility and electromagnetic modeling. John supervises the E
 MC testing lab of Nidec Automotive Motor Americas. John can be reached at:
  &lt;a href=&quot;mailto:jrsuriano@gmail.com&quot;&gt;jrsuriano@gmail.com&lt;/a&gt;&lt;/p&gt;\n&lt;p clas
 s=&quot;MsoNormal&quot;&gt;&amp;nbsp\;&lt;/p&gt;\n&lt;p class=&quot;MsoNormal&quot;&gt;&amp;nbsp\;&lt;/p&gt;&lt;br /&gt;&lt;br /&gt;Age
 nda: &lt;br /&gt;&lt;p class=&quot;MsoNormal&quot;&gt;&lt;span style=&quot;font-family: comic sans ms\, 
 sans-serif\; font-size: large\;&quot;&gt;The time will be 9:30-2:00 with a half ho
 ur for lunch.&amp;nbsp\;&amp;nbsp\;&lt;/span&gt;&lt;/p&gt;\n&lt;p class=&quot;MsoNormal&quot;&gt;&amp;nbsp\;&lt;/p&gt;\n
 &lt;p class=&quot;MsoNormal&quot;&gt;&lt;span style=&quot;font-family: comic sans ms\, sans-serif\
 ; font-size: large\;&quot;&gt;Session 1: Candace Suriano\, Basics of EMC&lt;/span&gt;&lt;/p
 &gt;\n&lt;p class=&quot;MsoNormal&quot;&gt;&lt;span style=&quot;font-family: comic sans ms\, sans-ser
 if\; font-size: large\;&quot;&gt;9:30am-10:25am&lt;/span&gt;&lt;/p&gt;\n&lt;p class=&quot;MsoNormal&quot;&gt;&amp;
 nbsp\;&lt;/p&gt;\n&lt;p class=&quot;MsoNormal&quot;&gt;&lt;span style=&quot;font-family: comic sans ms\,
  sans-serif\; font-size: large\;&quot;&gt;Session 2: John Suriano\,&amp;nbsp\;&lt;/span&gt;&lt;
 span style=&quot;font-family: comic sans ms\, sans-serif\; font-size: large\;&quot;&gt;
 Emissions and Immunity Case Studies and Considerations in EMC&lt;/span&gt;&lt;/p&gt;\n
 &lt;p class=&quot;MsoNormal&quot;&gt;&lt;span style=&quot;font-family: comic sans ms\, sans-serif\
 ; font-size: large\;&quot;&gt;10:30am-11:30am&lt;/span&gt;&lt;/p&gt;\n&lt;p class=&quot;MsoNormal&quot;&gt;&amp;nb
 sp\;&lt;/p&gt;\n&lt;p class=&quot;MsoNormal&quot;&gt;&lt;span style=&quot;font-family: comic sans ms\, s
 ans-serif\; font-size: large\;&quot;&gt;Lunch Graciously Provided by Teledyne LeCr
 oy&lt;/span&gt;&lt;/p&gt;\n&lt;p class=&quot;MsoNormal&quot;&gt;&lt;span style=&quot;font-family: comic sans m
 s\, sans-serif\; font-size: large\;&quot;&gt;11:30am-Noon&amp;nbsp\;&lt;/span&gt;&lt;/p&gt;\n&lt;p cl
 ass=&quot;MsoNormal&quot;&gt;&amp;nbsp\;&lt;/p&gt;\n&lt;p class=&quot;MsoNormal&quot;&gt;&lt;span style=&quot;font-family
 : comic sans ms\, sans-serif\; font-size: large\;&quot;&gt;Session 4:&amp;nbsp\;Teledy
 ne LeCroy\,&amp;nbsp\;Basics of Oscilloscope Use&lt;/span&gt;&lt;/p&gt;\n&lt;p class=&quot;MsoNorm
 al&quot;&gt;&lt;span style=&quot;font-family: comic sans ms\, sans-serif\; font-size: larg
 e\;&quot;&gt;Noon-2pm&lt;/span&gt;&lt;/p&gt;
END:VEVENT
END:VCALENDAR

