BEGIN:VCALENDAR
VERSION:2.0
PRODID:IEEE vTools.Events//EN
CALSCALE:GREGORIAN
BEGIN:VTIMEZONE
TZID:Europe/Paris
BEGIN:DAYLIGHT
DTSTART:20260329T030000
TZOFFSETFROM:+0100
TZOFFSETTO:+0200
RRULE:FREQ=YEARLY;BYDAY=-1SU;BYMONTH=3
TZNAME:CEST
END:DAYLIGHT
BEGIN:STANDARD
DTSTART:20261025T020000
TZOFFSETFROM:+0200
TZOFFSETTO:+0100
RRULE:FREQ=YEARLY;BYDAY=-1SU;BYMONTH=10
TZNAME:CET
END:STANDARD
END:VTIMEZONE
BEGIN:VEVENT
DTSTAMP:20251216T181539Z
UID:D71EF75B-1FD0-4855-8B55-65297A6ED88A
DTSTART;TZID=Europe/Paris:20260930T140000
DTEND;TZID=Europe/Paris:20260930T160000
DESCRIPTION:This round-table info session will introduce members to the vis
 ion\, structure\, and roadmap of the Joint Chapter. Open discussions will 
 focus on the chapter&#39;s opportunities\, collaboration\, and member engageme
 nt across technical and professional activities.\n\nPetite Ariana\, Ariana
 \, Tunisia
LOCATION:Petite Ariana\, Ariana\, Tunisia
ORGANIZER:esprit-ia-ie-pe@ieee.org
SEQUENCE:7
SUMMARY:Joint Chapter Round Table
URL;VALUE=URI:https://events.vtools.ieee.org/m/523235
X-ALT-DESC:Description: &lt;br /&gt;&lt;p dir=&quot;ltr&quot;&gt;This round-table info session wi
 ll introduce members to the vision\, structure\, and roadmap of the Joint 
 Chapter. Open discussions will focus on the chapter&#39;s opportunities\, coll
 aboration\, and member engagement across technical and professional activi
 ties.&amp;nbsp\;&lt;/p&gt;\n&lt;p&gt;&amp;nbsp\;&lt;/p&gt;
END:VEVENT
END:VCALENDAR

