BEGIN:VCALENDAR
VERSION:2.0
PRODID:IEEE vTools.Events//EN
CALSCALE:GREGORIAN
BEGIN:VTIMEZONE
TZID:Asia/Singapore
BEGIN:DAYLIGHT
DTSTART:20380119T111407
TZOFFSETFROM:+0800
TZOFFSETTO:+0800
RRULE:FREQ=YEARLY;BYDAY=3TU;BYMONTH=1
TZNAME:+08
END:DAYLIGHT
BEGIN:STANDARD
DTSTART:19820101T000000
TZOFFSETFROM:+0730
TZOFFSETTO:+0800
RRULE:FREQ=YEARLY;BYDAY=1FR;BYMONTH=1
TZNAME:+08
END:STANDARD
END:VTIMEZONE
BEGIN:VEVENT
DTSTAMP:20251227T093009Z
UID:BB5A1571-7F72-4DD1-8EEE-88A186B821F6
DTSTART;TZID=Asia/Singapore:20251227T140000
DTEND;TZID=Asia/Singapore:20251227T170000
DESCRIPTION:On behalf of Chair\, LMAG\, I would like to invite you to our Y
 ear-End Get-Together High Tea on Saturday (27 Dec 2025) at 2 pm.\n\nBites 
 of Bugis High Tea at Taste Restaurant\, IBIS SINGAPORE ON BENCOOLEN\,170 B
 encoolen Street\, SINGAPORE\, 189657\n\nhttps://restaurantsandbars.accor.c
 om/en/restaurant/6657_R002?date=2025-12-17&amp;guests=2\n\nIf you are a vegeta
 rian\, please write to LMAG Secretary\, ehbgooi@ntu.edu.sg so that we can 
 notify the restaurant accordingly.\n\nThe Taste Resaurant has a few vegeta
 rian dishes from the à la carte menu.\n\nRegistration is free for all Sin
 gapore life members\, and it will close when we reach the maximum pax supp
 orted by our budget.\n\nIbis Bencoolen is reachable via walking: about 5 m
 inutes from Rochor MRT (DT13)\, 7 minutes from Bugis MRT (DT14/EW12 and DT
 21) and 8 minutes from Bras Basah MRT (CC2). If you wish to drive\, the ca
 rpark rate at Ibis is $1.50/30 mins.\n\nH B Gooi\, IEEE LMAG Secretary\n\n
 Room: #01-03\, Bldg: Taste Restaurant\, ibis Singapore on Bencoolen\, 170 
 Bencoolen St\, Singapore \, Singapore\, Singapore\, 189657
LOCATION:Room: #01-03\, Bldg: Taste Restaurant\, ibis Singapore on Bencoole
 n\, 170 Bencoolen St\, Singapore \, Singapore\, Singapore\, 189657
ORGANIZER:ehbgooi@ntu.edu.sg
SEQUENCE:80
SUMMARY:LMAG Singapore Year-End Get-Together High Tea
URL;VALUE=URI:https://events.vtools.ieee.org/m/523565
X-ALT-DESC:Description: &lt;br /&gt;&lt;p class=&quot;MsoNormal&quot;&gt;On behalf of Chair\, LMA
 G\, I would like to invite you to our Year-End Get-Together High Tea on Sa
 turday (27 Dec 2025) at 2 pm.&lt;/p&gt;\n&lt;p class=&quot;MsoNormal&quot;&gt;&lt;span style=&quot;font-
 size: 12.0pt\; font-family: &#39;Aptos&#39;\,sans-serif\; mso-ascii-theme-font: mi
 nor-latin\; mso-fareast-font-family: PMingLiU\; mso-fareast-theme-font: mi
 nor-fareast\; mso-hansi-theme-font: minor-latin\; mso-bidi-font-family: Ar
 ial\; mso-bidi-theme-font: minor-bidi\; mso-ansi-language: EN-US\; mso-far
 east-language: ZH-TW\; mso-bidi-language: AR-SA\;&quot;&gt;Bites of Bugis High Tea
  at Taste Restaurant\, &lt;/span&gt;IBIS SINGAPORE ON BENCOOLEN\,170 Bencoolen S
 treet\, SINGAPORE\, 189657&lt;/p&gt;\n&lt;p class=&quot;MsoNormal&quot;&gt;&lt;a href=&quot;https://rest
 aurantsandbars.accor.com/en/restaurant/6657_R002?date=2025-12-17&amp;amp\;gues
 ts=2&quot;&gt;https://restaurantsandbars.accor.com/en/restaurant/6657_R002?date=20
 25-12-17&amp;amp\;guests=2&lt;/a&gt;&lt;/p&gt;\n&lt;p class=&quot;MsoNormal&quot;&gt;If you are a vegetari
 an\, please write to LMAG Secretary\, &lt;a href=&quot;mailto:ehbgooi@ntu.edu.sg&quot;&gt;
 ehbgooi@ntu.edu.sg&lt;/a&gt; so that we can notify the restaurant accordingly.&lt;/
 p&gt;\n&lt;p class=&quot;MsoNormal&quot;&gt;The Taste Resaurant has a few vegetarian dishes f
 rom the &amp;agrave\; la carte menu.&lt;/p&gt;\n&lt;p class=&quot;MsoNormal&quot;&gt;Registration is
  free for all Singapore life members\, and it will close when we reach the
  maximum pax supported by our budget.&lt;/p&gt;\n&lt;p class=&quot;MsoNormal&quot;&gt;Ibis Benco
 olen is reachable via walking: about 5 minutes from Rochor MRT (DT13)\, 7 
 minutes from Bugis MRT (DT14/EW12 and DT21) and 8 minutes from Bras Basah 
 MRT (CC2). If you wish to drive\, the carpark rate at Ibis is $1.50/30 min
 s.&lt;/p&gt;\n&lt;p class=&quot;MsoNormal&quot;&gt;H B Gooi\, IEEE LMAG Secretary&lt;/p&gt;
END:VEVENT
END:VCALENDAR

