BEGIN:VCALENDAR
VERSION:2.0
PRODID:IEEE vTools.Events//EN
CALSCALE:GREGORIAN
BEGIN:VTIMEZONE
TZID:Asia/Kuala_Lumpur
BEGIN:DAYLIGHT
DTSTART:20380119T111407
TZOFFSETFROM:+0800
TZOFFSETTO:+0800
RRULE:FREQ=YEARLY;BYDAY=3TU;BYMONTH=1
TZNAME:+08
END:DAYLIGHT
BEGIN:STANDARD
DTSTART:19820101T000000
TZOFFSETFROM:+0730
TZOFFSETTO:+0800
RRULE:FREQ=YEARLY;BYDAY=1FR;BYMONTH=1
TZNAME:+08
END:STANDARD
END:VTIMEZONE
BEGIN:VEVENT
DTSTAMP:20251219T095849Z
UID:EFCCD501-26FB-4B10-ADC8-0C8053BAC5EA
DTSTART;TZID=Asia/Kuala_Lumpur:20251208T090000
DTEND;TZID=Asia/Kuala_Lumpur:20251208T130000
DESCRIPTION:Yayasan Lembaga Tabung Angkatan Tentera (LTAT) successfully con
 ducted its first STEM Education Programme for the children of Malaysian Ar
 med Forces (ATM) personnel in collaboration with Universiti Sains Malaysia
  (USM) and IEEE Sensors and Nanotechnology Council Malaysia Joint Chapter 
 at SMK Kem Terendak\, marking an important milestone in early STEM exposur
 e for secondary school students. A total of 60 Form One students participa
 ted in a 3D Printing module\, fully designed and delivered by USM and IEEE
  Sensors and Nanotechnology Council Malaysia Joint Chapter. The session wa
 s led by Mr. Khairul Anuar bin Mohd Zain\, a Research Officer from the Col
 laborative Microelectronic Design Excellence Centre (CEDEC)\, USM. Student
 s were introduced to 3D design software\, fundamental modelling techniques
 \, real-scale dimensioning\, and the complete workflow from digital design
  to physical fabrication. To ensure experiential learning\, USM brought de
 dicated 3D printing equipment to the school\, enabling live demonstrations
  and hands-on practice. Students actively engaged in the printing process 
 and successfully produced their own 3D-printed objects by the end of the s
 ession. The main objective of the programme was to cultivate early interes
 t in Science\, Technology\, Engineering\, and Mathematics (STEM) among stu
 dents\, while enhancing their creativity\, critical thinking\, and problem
 -solving skills through hands-on engineering activities. The programme als
 o aimed to expose students to emerging technologies\, bridge the gap betwe
 en theoretical knowledge and real-world applications\, and inspire them to
  pursue future studies and careers in technical and engineering fields.\n\
 nSekolah Menengah Kebangsaan Kem Terendak\, Terendak\, Melaka\, Malaysia
LOCATION:Sekolah Menengah Kebangsaan Kem Terendak\, Terendak\, Melaka\, Mal
 aysia
ORGANIZER:eeasrulnizam@usm.my
SEQUENCE:8
SUMMARY:STEM Programme at Sek Men Kebangsaan Kem Terendak\, Melaka
URL;VALUE=URI:https://events.vtools.ieee.org/m/523864
X-ALT-DESC:Description: &lt;br /&gt;&lt;p class=&quot;MsoNormal&quot; style=&quot;text-align: justi
 fy\;&quot;&gt;&lt;span style=&quot;mso-ansi-language: EN-MY\;&quot;&gt;Yayasan Lembaga Tabung Angk
 atan Tentera (LTAT) successfully conducted its &lt;strong&gt;first STEM Educatio
 n Programme for the children of Malaysian Armed Forces (ATM) personnel&lt;/st
 rong&gt; in collaboration with &lt;strong&gt;Universiti Sains Malaysia (USM) and IE
 EE Sensors and Nanotechnology Council Malaysia Joint Chapter&lt;/strong&gt; at &lt;
 strong&gt;SMK Kem Terendak&lt;/strong&gt;\, marking an important milestone in early
  STEM exposure for secondary school students. A total of &lt;strong&gt;60 Form O
 ne students&lt;/strong&gt; participated in a &lt;strong&gt;3D Printing module&lt;/strong&gt;
 \, fully designed and delivered by USM and IEEE Sensors and Nanotechnology
  Council Malaysia Joint Chapter. The session was led by &lt;strong&gt;Mr. Khairu
 l Anuar bin Mohd Zain&lt;/strong&gt;\, a Research Officer from the &lt;strong&gt;Colla
 borative Microelectronic Design Excellence Centre (CEDEC)\, USM&lt;/strong&gt;. 
 Students were introduced to &lt;strong&gt;3D design software&lt;/strong&gt;\, fundamen
 tal modelling techniques\, real-scale dimensioning\, and the complete work
 flow from digital design to physical fabrication. To ensure experiential l
 earning\, USM brought dedicated &lt;strong&gt;3D printing equipment&lt;/strong&gt; to 
 the school\, enabling live demonstrations and hands-on practice. Students 
 actively engaged in the printing process and successfully produced their o
 wn 3D-printed objects by the end of the session. &lt;strong&gt;The main objectiv
 e of the programme&lt;/strong&gt; was to cultivate early interest in &lt;strong&gt;Sci
 ence\, Technology\, Engineering\, and Mathematics (STEM)&lt;/strong&gt; among st
 udents\, while enhancing their creativity\, critical thinking\, and proble
 m-solving skills through hands-on engineering activities. The programme al
 so aimed to expose students to emerging technologies\, bridge the gap betw
 een theoretical knowledge and real-world applications\, and inspire them t
 o pursue future studies and careers in technical and engineering fields.&lt;/
 span&gt;&lt;/p&gt;
END:VEVENT
END:VCALENDAR

