BEGIN:VCALENDAR
VERSION:2.0
PRODID:IEEE vTools.Events//EN
CALSCALE:GREGORIAN
BEGIN:VTIMEZONE
TZID:Asia/Kolkata
BEGIN:STANDARD
DTSTART:19451014T230000
TZOFFSETFROM:+0630
TZOFFSETTO:+0530
TZNAME:IST
END:STANDARD
END:VTIMEZONE
BEGIN:VEVENT
DTSTAMP:20251222T041909Z
UID:F49714D2-B3E1-41F9-96FD-7ED03D60BCCA
DTSTART;TZID=Asia/Kolkata:20251223T140000
DTEND;TZID=Asia/Kolkata:20251223T150000
DESCRIPTION:The 3rd Lecture of the IEEE Distinguished Lecture Series 2025
 –2026 features an expert talk focused on recent developments and emergin
 g challenges in nanotechnology and semiconductor research. The session is 
 designed to provide students\, researchers\, and professionals with insigh
 ts into advanced materials\, device technologies\, and future research dir
 ections\, while promoting technical learning and scholarly interaction\n\n
 Speaker(s): Dr. Nowshad Amin\, \n\nAgenda: \n-\nWelcome and Opening Remark
 s\n\n-\nIntroduction to the IEEE Distinguished Lecture Series\n\n-\nSpeake
 r Introduction\n\n-\nTechnical Lecture\n\n-\nInteractive Q&amp;A Session\n\n-\
 nClosing Remarks and Vote of Thanks\n\nVirtual: https://events.vtools.ieee
 .org/m/524494
LOCATION:Virtual: https://events.vtools.ieee.org/m/524494
ORGANIZER:ieeentc@iiitdmj.ac.in
SEQUENCE:78
SUMMARY:3rd Lecture of IEEE Distingushed Lecture Series 2025-2026
URL;VALUE=URI:https://events.vtools.ieee.org/m/524494
X-ALT-DESC:Description: &lt;br /&gt;&lt;p&gt;The 3rd Lecture of the IEEE Distinguished 
 Lecture Series 2025&amp;ndash\;2026 features an expert talk focused on recent 
 developments and emerging challenges in nanotechnology and semiconductor r
 esearch. The session is designed to provide students\, researchers\, and p
 rofessionals with insights into advanced materials\, device technologies\,
  and future research directions\, while promoting technical learning and s
 cholarly interaction&lt;/p&gt;&lt;br /&gt;&lt;br /&gt;Agenda: &lt;br /&gt;&lt;ul&gt;\n&lt;li data-start=&quot;14
 7&quot; data-end=&quot;179&quot;&gt;\n&lt;p data-start=&quot;150&quot; data-end=&quot;179&quot;&gt;Welcome and Opening
  Remarks&lt;/p&gt;\n&lt;/li&gt;\n&lt;li data-start=&quot;180&quot; data-end=&quot;238&quot;&gt;\n&lt;p data-start=&quot;
 183&quot; data-end=&quot;238&quot;&gt;Introduction to the IEEE Distinguished Lecture Series&lt;
 /p&gt;\n&lt;/li&gt;\n&lt;li data-start=&quot;239&quot; data-end=&quot;264&quot;&gt;\n&lt;p data-start=&quot;242&quot; data
 -end=&quot;264&quot;&gt;Speaker Introduction&lt;/p&gt;\n&lt;/li&gt;\n&lt;li data-start=&quot;265&quot; data-end=
 &quot;287&quot;&gt;\n&lt;p data-start=&quot;268&quot; data-end=&quot;287&quot;&gt;Technical Lecture&lt;/p&gt;\n&lt;/li&gt;\n&lt;
 li data-start=&quot;288&quot; data-end=&quot;316&quot;&gt;\n&lt;p data-start=&quot;291&quot; data-end=&quot;316&quot;&gt;In
 teractive Q&amp;amp\;A Session&lt;/p&gt;\n&lt;/li&gt;\n&lt;li data-start=&quot;317&quot; data-end=&quot;356&quot;
 &gt;\n&lt;p data-start=&quot;320&quot; data-end=&quot;356&quot;&gt;Closing Remarks and Vote of Thanks&lt;/
 p&gt;\n&lt;/li&gt;\n&lt;/ul&gt;
END:VEVENT
END:VCALENDAR

