BEGIN:VCALENDAR
VERSION:2.0
PRODID:IEEE vTools.Events//EN
CALSCALE:GREGORIAN
BEGIN:VTIMEZONE
TZID:Asia/Kolkata
BEGIN:STANDARD
DTSTART:19451014T230000
TZOFFSETFROM:+0630
TZOFFSETTO:+0530
TZNAME:IST
END:STANDARD
END:VTIMEZONE
BEGIN:VEVENT
DTSTAMP:20251225T064832Z
UID:DCB5F2AC-1CA4-4E72-A982-76F11CB39E58
DTSTART;TZID=Asia/Kolkata:20251220T190000
DTEND;TZID=Asia/Kolkata:20251220T203000
DESCRIPTION:As part of Energy Conservation Week\, we proudly present WATTS 
 App”\, an engaging quiz competition aimed at spreading awareness about e
 nergy conservation\, clean energy\, and a green future.\n\nVirtual: https:
 //events.vtools.ieee.org/m/524665
LOCATION:Virtual: https://events.vtools.ieee.org/m/524665
ORGANIZER:asiyashaji@ieee.org
SEQUENCE:12
SUMMARY:WATTS UP
URL;VALUE=URI:https://events.vtools.ieee.org/m/524665
X-ALT-DESC:Description: &lt;br /&gt;&lt;p&gt;As part of Energy Conservation Week\, we p
 roudly present &amp;nbsp\; WATTS App&amp;rdquo\;\, an engaging quiz competition ai
 med at spreading awareness about energy conservation\, clean energy\, and 
 a green future.&lt;/p&gt;
END:VEVENT
END:VCALENDAR

