BEGIN:VCALENDAR
VERSION:2.0
PRODID:IEEE vTools.Events//EN
CALSCALE:GREGORIAN
BEGIN:VTIMEZONE
TZID:America/Los_Angeles
BEGIN:DAYLIGHT
DTSTART:20260308T030000
TZOFFSETFROM:-0800
TZOFFSETTO:-0700
RRULE:FREQ=YEARLY;BYDAY=2SU;BYMONTH=3
TZNAME:PDT
END:DAYLIGHT
BEGIN:STANDARD
DTSTART:20251102T010000
TZOFFSETFROM:-0700
TZOFFSETTO:-0800
RRULE:FREQ=YEARLY;BYDAY=1SU;BYMONTH=11
TZNAME:PST
END:STANDARD
END:VTIMEZONE
BEGIN:VEVENT
DTSTAMP:20260118T180804Z
UID:2E4AA83F-F507-415E-8187-5F0ED8D75BDB
DTSTART;TZID=America/Los_Angeles:20260114T173000
DTEND;TZID=America/Los_Angeles:20260114T203000
DESCRIPTION:CHEERS OCEANEERS! January 2026\n\nOur main presenter is Martin 
 Beaulieu\, PhD\, who we know well as the former owner of Quantum Brewing\,
  but this time he will be speaking to us about his latest venture in &quot;Spec
 ialized Waste Management and Recycling&quot;. Martin and one of his business pa
 rtners\, Stephanie Harrison\, will talk about these 3 topics:\n\n- Laborat
 ory / biomedical waste management\n\n- Car wash liquid waste management an
 d recycling\n\n- Plastic recycling\n\nThe companies&#39; names are &quot;All So Gre
 en&quot; and &quot;Bellini\, Beaulieu &amp; Co&quot;.\n\nSee detailed biographies for both pr
 esenters in the section below.\n\n***\n\nWelcome to the monthly event for 
 the IEEE Oceanic Engineering Society (OES)\, San Diego Chapter\, which is 
 hosting this meeting jointly along with TMA BlueTech (The Maritime Allianc
 e)\, and MTS (Marine Technology Society).\n\nPlease join us for the main p
 resentation and also plenty of time for networking and friendly conversati
 on about everything oceanic\, engineering\, science\, Blue Tech\, and more
 . No need to be an IEEE or OES member\, or TMA\, or MTS. Everyone is invit
 ed.\n\nThis month\, we will be at Quantum Brewing again\, a cool science-t
 hemed brewery founded by a biochemist.\n\nNo ticket required\, but please 
 order something for yourself from the brewery.\n\nPlease grab a bite from 
 a nearby restaurant\, which is okay to bring into the brewery per the owne
 r.\n\nThe food and drinks are not being funded by the hosts. Please open y
 our own tab.\n\nSpeaker(s): Martin Beaulieu\, Stephanie Harrison\n\nAgenda
 : \nAgenda:\n\n5:30pm: Arrival and networking\, order food/drinks for your
 self.\n\n6:15pm: OES and other hosting group announcements.\n\n6:20pm: Mai
 n Presentation\n\n6:40pm (approximately): “open mic” for any other att
 endees to present anything they like (ocean-related\, of course).\n\nExamp
 les: employers presenting opportunities for employment\, job seekers prese
 nting a quick bio\, internship program opportunities\, promoting other eve
 nts\, seeking funding\, “show and tell” of any cool technology you are
  working on\, etc.\n\n*For the open mic portion of the event\, please obse
 rve a time-limit of 3 minutes maximum per person. If you want to give a lo
 nger presentation\, please ask to be the main presenter for an upcoming mo
 nthly event.\n\n7:00pm to close: enjoy some drinks and chatting with fello
 w oceanic engineering enthusiasts.\n\nRSVPs are appreciated for planning p
 urposes.\n\nBldg: Quantum Brewing\, 5375 Kearny Villa Rd\, #116\, San Dieg
 o\, California\, United States\, 92123
LOCATION:Bldg: Quantum Brewing\, 5375 Kearny Villa Rd\, #116\, San Diego\, 
 California\, United States\, 92123
ORGANIZER:greg_laugle@yahoo.com
SEQUENCE:29
SUMMARY:CHEERS OCEANEERS! January 2026
URL;VALUE=URI:https://events.vtools.ieee.org/m/524854
X-ALT-DESC:Description: &lt;br /&gt;&lt;p class=&quot;MsoNormal&quot; style=&quot;margin-bottom: 10
 .5pt\; background: white\;&quot;&gt;&lt;span style=&quot;font-family: arial\, helvetica\, 
 sans-serif\;&quot;&gt;&lt;strong&gt;&lt;span style=&quot;font-size: 14pt\; color: black\; text-t
 ransform: uppercase\;&quot;&gt;CHEERS OCEANEERS! January 2026&lt;/span&gt;&lt;/strong&gt;&lt;/spa
 n&gt;&lt;/p&gt;\n&lt;div&gt;\n&lt;p class=&quot;MsoNormal&quot;&gt;&lt;span style=&quot;font-family: arial\, helv
 etica\, sans-serif\; font-size: 12pt\;&quot;&gt;&lt;span style=&quot;color: rgb(68\, 68\, 
 68)\; letter-spacing: 0.25pt\;&quot;&gt;Our main presenter is Martin Beaulieu\, Ph
 D\, who we know well as the former owner of Quantum Brewing\, but this tim
 e he will be speaking to us about his latest venture in &quot;Specialized Waste
  Management and Recycling&quot;.&amp;nbsp\; Martin and one of his business partners
 \, &lt;span style=&quot;color: rgb(36\, 36\, 36)\;&quot;&gt;Stephanie Harrison\, will&lt;/spa
 n&gt;&lt;/span&gt; talk about these 3 topics:&lt;/span&gt;&lt;/p&gt;\n&lt;p&gt;&lt;span style=&quot;font-fami
 ly: arial\, helvetica\, sans-serif\; font-size: 12pt\;&quot;&gt;- Laboratory / bio
 medical waste management&lt;/span&gt;&lt;/p&gt;\n&lt;p&gt;&lt;span style=&quot;font-family: arial\, 
 helvetica\, sans-serif\; font-size: 12pt\;&quot;&gt;- Car wash liquid waste manage
 ment and recycling&lt;/span&gt;&lt;/p&gt;\n&lt;p&gt;&lt;span style=&quot;font-family: arial\, helvet
 ica\, sans-serif\; font-size: 12pt\;&quot;&gt;- Plastic recycling&lt;/span&gt;&lt;/p&gt;\n&lt;p&gt;&lt;
 span style=&quot;font-family: arial\, helvetica\, sans-serif\; font-size: 12pt\
 ;&quot;&gt;The companies&#39; names are &quot;All So Green&quot; and &quot;Bellini\, Beaulieu &amp;amp\; 
 Co&quot;.&lt;/span&gt;&lt;/p&gt;\n&lt;p class=&quot;MsoNormal&quot;&gt;&lt;span style=&quot;font-family: arial\, he
 lvetica\, sans-serif\; font-size: 12pt\;&quot;&gt;See detailed biographies for bot
 h presenters in the section below.&lt;/span&gt;&lt;/p&gt;\n&lt;p class=&quot;MsoNormal&quot;&gt;&lt;span 
 style=&quot;font-family: Calibri\, sans-serif\; font-size: 12pt\;&quot;&gt;***&lt;/span&gt;&lt;/
 p&gt;\n&lt;/div&gt;\n&lt;p class=&quot;MsoNormal&quot; style=&quot;margin-bottom: 7.5pt\; background:
  white\;&quot;&gt;&lt;span style=&quot;font-family: Calibri\, sans-serif\; font-size: 12pt
 \;&quot;&gt;Welcome to the monthly event for the IEEE Oceanic Engineering Society 
 (OES)\, San Diego Chapter\, which is hosting this meeting jointly along wi
 th TMA BlueTech (The Maritime Alliance)\, and MTS (Marine Technology Socie
 ty).&lt;/span&gt;&lt;/p&gt;\n&lt;p class=&quot;MsoNormal&quot; style=&quot;margin-bottom: 7.5pt\; backgr
 ound: white\;&quot;&gt;&lt;span style=&quot;font-size: 12.0pt\; font-family: &#39;Calibri&#39;\,sa
 ns-serif\; color: black\; mso-ligatures: none\;&quot;&gt;Please join us for the ma
 in presentation and also plenty of time for networking and friendly conver
 sation about everything oceanic\, engineering\, science\, Blue Tech\, and 
 more.&amp;nbsp\; No need to be an IEEE or OES member\, or TMA\, or MTS.&amp;nbsp\;
  Everyone is invited.&lt;/span&gt;&lt;/p&gt;\n&lt;p class=&quot;MsoNormal&quot; style=&quot;margin-botto
 m: 7.5pt\; background: white\;&quot;&gt;This month\, we will be at Quantum Brewing
  again\, a cool science-themed brewery founded by a biochemist.&lt;/p&gt;\n&lt;p cl
 ass=&quot;MsoNormal&quot; style=&quot;margin-bottom: 7.5pt\; background: white\;&quot;&gt;&lt;span s
 tyle=&quot;font-size: 12.0pt\; font-family: &#39;Calibri&#39;\,sans-serif\; color: blac
 k\; mso-ligatures: none\;&quot;&gt;No ticket required\, but please order something
  for yourself from the brewery.&lt;/span&gt;&lt;/p&gt;\n&lt;p class=&quot;MsoNormal&quot; style=&quot;ma
 rgin-bottom: 7.5pt\; background: white\;&quot;&gt;&lt;span style=&quot;font-size: 12.0pt\;
  font-family: &#39;Calibri&#39;\,sans-serif\; color: black\; mso-ligatures: none\;
 &quot;&gt;Please grab a bite from a nearby restaurant\, which is okay to bring int
 o the brewery per the owner.&lt;/span&gt;&lt;/p&gt;\n&lt;p class=&quot;MsoNormal&quot; style=&quot;margi
 n-bottom: 7.5pt\; background: white\;&quot;&gt;&lt;span style=&quot;font-size: 12.0pt\; fo
 nt-family: &#39;Calibri&#39;\,sans-serif\; color: black\; mso-ligatures: none\;&quot;&gt;T
 he food and drinks are &lt;u&gt;not&lt;/u&gt; being funded by the hosts.&amp;nbsp\; Please
  open your own tab.&lt;/span&gt;&lt;/p&gt;&lt;br /&gt;&lt;br /&gt;Agenda: &lt;br /&gt;&lt;p class=&quot;MsoNorma
 l&quot; style=&quot;margin-bottom: 7.5pt\; background: white\;&quot;&gt;&lt;span style=&quot;font-si
 ze: 12.0pt\; font-family: &#39;Calibri&#39;\,sans-serif\; color: black\; mso-ligat
 ures: none\;&quot;&gt;Agenda: &lt;/span&gt;&lt;/p&gt;\n&lt;p class=&quot;MsoNormal&quot; style=&quot;margin-bott
 om: 7.5pt\; background: white\;&quot;&gt;&lt;span style=&quot;font-size: 12.0pt\; font-fam
 ily: &#39;Calibri&#39;\,sans-serif\; color: black\; mso-ligatures: none\;&quot;&gt;5:30pm:
  Arrival and networking\, order food/drinks for yourself.&lt;/span&gt;&lt;/p&gt;\n&lt;p c
 lass=&quot;MsoNormal&quot; style=&quot;margin-bottom: 7.5pt\; background: white\;&quot;&gt;&lt;span 
 style=&quot;font-size: 12.0pt\; font-family: &#39;Calibri&#39;\,sans-serif\; color: bla
 ck\; mso-ligatures: none\;&quot;&gt;6:15pm: OES and other hosting group announceme
 nts.&lt;/span&gt;&lt;/p&gt;\n&lt;p class=&quot;MsoNormal&quot; style=&quot;margin-bottom: 7.5pt\; backgr
 ound: white\;&quot;&gt;&lt;span style=&quot;font-size: 12.0pt\; font-family: &#39;Calibri&#39;\,sa
 ns-serif\; color: black\; mso-ligatures: none\;&quot;&gt;6:20pm: Main Presentation
 &lt;/span&gt;&lt;/p&gt;\n&lt;p class=&quot;MsoNormal&quot; style=&quot;margin-bottom: 7.5pt\; background
 : white\;&quot;&gt;&lt;span style=&quot;font-size: 12.0pt\; font-family: &#39;Calibri&#39;\,sans-s
 erif\; color: black\; mso-ligatures: none\;&quot;&gt;6:40pm (approximately): &amp;ldqu
 o\;open mic&amp;rdquo\; for any other attendees to present anything they like 
 (ocean-related\, of course).&lt;/span&gt;&lt;/p&gt;\n&lt;p class=&quot;MsoNormal&quot; style=&quot;margi
 n-bottom: 7.5pt\; background: white\;&quot;&gt;&lt;span style=&quot;font-size: 12.0pt\; fo
 nt-family: &#39;Calibri&#39;\,sans-serif\; color: black\; mso-ligatures: none\;&quot;&gt;E
 xamples: employers presenting opportunities for employment\, job seekers p
 resenting a quick bio\, internship program opportunities\, promoting other
  events\, seeking funding\, &amp;ldquo\;show and tell&amp;rdquo\; of any cool tech
 nology you are working on\, etc.&lt;/span&gt;&lt;/p&gt;\n&lt;p class=&quot;MsoNormal&quot; style=&quot;m
 argin-bottom: 7.5pt\; background: white\;&quot;&gt;&lt;span style=&quot;font-size: 12.0pt\
 ; font-family: &#39;Calibri&#39;\,sans-serif\; color: black\; mso-ligatures: none\
 ;&quot;&gt;*For the open mic portion of the event\, please observe a time-limit of
  3 minutes maximum per person.&amp;nbsp\; If you want to give a longer present
 ation\, please ask to be the main presenter for an upcoming monthly event.
 &lt;/span&gt;&lt;/p&gt;\n&lt;p class=&quot;MsoNormal&quot; style=&quot;margin-bottom: 7.5pt\; background
 : white\;&quot;&gt;&lt;span style=&quot;font-size: 12.0pt\; font-family: &#39;Calibri&#39;\,sans-s
 erif\; color: black\; mso-ligatures: none\;&quot;&gt;7:00pm to close: enjoy some d
 rinks and chatting with fellow oceanic engineering enthusiasts.&lt;/span&gt;&lt;/p&gt;
 \n&lt;p class=&quot;MsoNormal&quot; style=&quot;margin-bottom: 7.5pt\; background: white\;&quot;&gt;
 &lt;span style=&quot;font-size: 12.0pt\; font-family: &#39;Calibri&#39;\,sans-serif\; colo
 r: black\; mso-ligatures: none\;&quot;&gt;RSVPs are appreciated for planning purpo
 ses.&lt;/span&gt;&lt;/p&gt;\n&lt;p class=&quot;MsoNormal&quot; style=&quot;margin-bottom: 7.5pt\; backgr
 ound: white\;&quot;&gt;&amp;nbsp\;&lt;/p&gt;
END:VEVENT
END:VCALENDAR

