BEGIN:VCALENDAR
VERSION:2.0
PRODID:IEEE vTools.Events//EN
CALSCALE:GREGORIAN
BEGIN:VTIMEZONE
TZID:Asia/Kolkata
BEGIN:STANDARD
DTSTART:19451014T230000
TZOFFSETFROM:+0630
TZOFFSETTO:+0530
TZNAME:IST
END:STANDARD
END:VTIMEZONE
BEGIN:VEVENT
DTSTAMP:20251230T111030Z
UID:D93679D5-2328-4FAC-BE32-C045E337A551
DTSTART;TZID=Asia/Kolkata:20251227T183000
DTEND;TZID=Asia/Kolkata:20251227T200000
DESCRIPTION:IEEE MTT-S Vardhaman SBC is pleased to invite you to a Distingu
 ished Microwave Lecturer Program on\n\nTopic: Millimeter-Wave System and C
 ircuit Design for Highly-Integrated Radar Transceivers\n\nSpeaker:\nProf. 
 Vadim Issakov\nMTT-S DML Speaker\nBraunschweig University of Technology\, 
 Germany\n\nDate: Saturday\, 27th December 2025\nTime: 07:00 PM – 08:30 P
 M\nMode: Google Meet\n\nThis session will provide valuable insights into m
 mWave systems\, radar transceivers\, and advanced microwave circuit design
 \, directly from an international expert.\n\nBrief Introduction of the tal
 k:\nhttps://youtu.be/2GUMCQNKWbI\n\nRegistration Link:\nhttps://forms.gle/
 Fgq3CzHiy7uVqNkWA\n\nParticipate in the post-lecture quiz and stand a chan
 ce to win a small token of appreciation!\n\nSpeaker(s): Dr. Vadim Issakov\
 , \n\nAgenda: \n- Welcome Address - MTT-S Vardhaman SBC Chair\, V. Bhavani
 \n- Introduction of the SBC - Faculty Advisor\, Dr. Sulakshana Chilukuri\n
 - Brief Introduction - Branch Counselor\, Prof. JVR Ravindra/ HoD\, Prof. 
 S. Rajender\n- Introduction of Speaker - Faculty Advisor\, Dr. Sulakshana 
 Chilukuri\n- DML talk - Prof. Vadim Issakov\n- Queries - V. Bhavani\n- Pre
 sentation of e-memento - Advisor\n- Vote of Thanks - Nitya Sri\n\nVirtual:
  https://events.vtools.ieee.org/m/524867
LOCATION:Virtual: https://events.vtools.ieee.org/m/524867
ORGANIZER:sulakshana.chilukuri@ieee.org
SEQUENCE:41
SUMMARY:IEEE DML on Millimeter-Wave System and Circuit Design for Highly-In
 tegrated Radar Transceivers
URL;VALUE=URI:https://events.vtools.ieee.org/m/524867
X-ALT-DESC:Description: &lt;br /&gt;&lt;p&gt;IEEE MTT-S Vardhaman SBC is pleased to inv
 ite you to a Distinguished Microwave Lecturer Program on&lt;/p&gt;\n&lt;p&gt;Topic: Mi
 llimeter-Wave System and Circuit Design for Highly-Integrated Radar Transc
 eivers&lt;/p&gt;\n&lt;p&gt;Speaker:&lt;br&gt;Prof. Vadim Issakov&lt;br&gt;MTT-S DML Speaker&lt;br&gt;Bra
 unschweig University of Technology\, Germany&lt;/p&gt;\n&lt;p&gt;Date: Saturday\, 27th
  December 2025&lt;br&gt;Time: 07:00 PM &amp;ndash\; 08:30 PM&lt;br&gt;Mode: Google Meet&lt;/p
 &gt;\n&lt;p&gt;This session will provide valuable insights into mmWave systems\, ra
 dar transceivers\, and advanced microwave circuit design\, directly from a
 n international expert.&lt;/p&gt;\n&lt;p&gt;Brief Introduction of the talk:&lt;br&gt;https:/
 /youtu.be/2GUMCQNKWbI&lt;/p&gt;\n&lt;p&gt;Registration Link:&lt;br&gt;https://forms.gle/Fgq3
 CzHiy7uVqNkWA&lt;/p&gt;\n&lt;p&gt;Participate in the post-lecture quiz and stand a cha
 nce to win a small token of appreciation!&lt;/p&gt;&lt;br /&gt;&lt;br /&gt;Agenda: &lt;br /&gt;&lt;ol
 &gt;\n&lt;li&gt;Welcome Address - MTT-S Vardhaman SBC Chair\, V. Bhavani&lt;/li&gt;\n&lt;li&gt;
 Introduction of the SBC - Faculty Advisor\, Dr. Sulakshana Chilukuri&lt;/li&gt;\
 n&lt;li&gt;Brief Introduction - Branch Counselor\, Prof. JVR Ravindra/ HoD\, Pro
 f. S. Rajender&lt;/li&gt;\n&lt;li&gt;Introduction of Speaker - Faculty Advisor\, Dr. S
 ulakshana Chilukuri&lt;/li&gt;\n&lt;li&gt;DML talk - Prof. Vadim Issakov&lt;/li&gt;\n&lt;li&gt;Que
 ries - V. Bhavani&lt;/li&gt;\n&lt;li&gt;Presentation of e-memento - Advisor&lt;/li&gt;\n&lt;li&gt;
 Vote of Thanks - Nitya Sri&lt;/li&gt;\n&lt;/ol&gt;\n&lt;p&gt;&lt;img src=&quot;https://events.vtools
 .ieee.org/vtools_ui/media/display/36ca64ff-37e3-45ca-af19-98c32ee19f64&quot; wi
 dth=&quot;607&quot; height=&quot;506&quot;&gt;&lt;/p&gt;
END:VEVENT
END:VCALENDAR

