BEGIN:VCALENDAR
VERSION:2.0
PRODID:IEEE vTools.Events//EN
CALSCALE:GREGORIAN
BEGIN:VTIMEZONE
TZID:Europe/Berlin
BEGIN:DAYLIGHT
DTSTART:20260329T030000
TZOFFSETFROM:+0100
TZOFFSETTO:+0200
RRULE:FREQ=YEARLY;BYDAY=-1SU;BYMONTH=3
TZNAME:CEST
END:DAYLIGHT
BEGIN:STANDARD
DTSTART:20251026T020000
TZOFFSETFROM:+0200
TZOFFSETTO:+0100
RRULE:FREQ=YEARLY;BYDAY=-1SU;BYMONTH=10
TZNAME:CET
END:STANDARD
END:VTIMEZONE
BEGIN:VEVENT
DTSTAMP:20260318T102620Z
UID:E4A13786-273C-401B-8AD9-92E5A8277662
DTSTART;TZID=Europe/Berlin:20260316T100000
DTEND;TZID=Europe/Berlin:20260316T110000
DESCRIPTION:The EDS Germany Chapter and NanoP proudly presents Radu Sporea 
 from University of Surrey\, UK for a Distinguished Lecture on “Key consi
 derations for obtaining high performance contact-controlled devices”.\n\
 nCo-sponsored by: NanoP\, Technische Hochschule Mittelhessen - University 
 of Applied Sciences\n\nRoom: S1\, Bldg: Walter Schottky Haus\, Otto-Blumen
 thal Strasse 6\, Aachen\, Nordrhein-Westfalen\, Germany\, 52074 \, Virtual
 : https://events.vtools.ieee.org/m/524918
LOCATION:Room: S1\, Bldg: Walter Schottky Haus\, Otto-Blumenthal Strasse 6\
 , Aachen\, Nordrhein-Westfalen\, Germany\, 52074 \, Virtual: https://event
 s.vtools.ieee.org/m/524918
ORGANIZER:mike.schwarz@ei.thm.de
SEQUENCE:6
SUMMARY:Radu Sporea DL - Key considerations for obtaining high performance 
 contact-controlled devices
URL;VALUE=URI:https://events.vtools.ieee.org/m/524918
X-ALT-DESC:Description: &lt;br /&gt;&lt;p&gt;&lt;span class=&quot;break-words&quot;&gt;&lt;span dir=&quot;ltr&quot;&gt;
 The EDS Germany Chapter and NanoP proudly presents Radu Sporea from Univer
 sity of Surrey\, UK for a Distinguished Lecture on &amp;ldquo\;&lt;strong&gt;Key con
 siderations for obtaining high performance contact-controlled devices&lt;/str
 ong&gt;&amp;rdquo\;.&amp;nbsp\;&lt;/span&gt;&lt;/span&gt;&lt;/p&gt;
END:VEVENT
END:VCALENDAR

