BEGIN:VCALENDAR
VERSION:2.0
PRODID:IEEE vTools.Events//EN
CALSCALE:GREGORIAN
BEGIN:VTIMEZONE
TZID:Asia/Kolkata
BEGIN:STANDARD
DTSTART:19451014T230000
TZOFFSETFROM:+0630
TZOFFSETTO:+0530
TZNAME:IST
END:STANDARD
END:VTIMEZONE
BEGIN:VEVENT
DTSTAMP:20251223T065251Z
UID:F63E104B-B331-441A-8C3B-FBDE512199B5
DTSTART;TZID=Asia/Kolkata:20251218T180000
DTEND;TZID=Asia/Kolkata:20251218T200000
DESCRIPTION:The Internet of Things (IoT) refers to a network of physical de
 vices embedded with sensors\, software\, and connectivity that allow them 
 to collect and exchange data. Artificial Intelligence (AI) and Machine Lea
 rning (ML) enhance IoT by enabling devices to analyze data\, learn from pa
 tterns\, and make intelligent decisions with minimal human intervention. T
 he integration of AI/ML with IoT is often called AIoT.\n\n-\nImproved Auto
 mation\nIoT systems can operate with minimal human intervention by learnin
 g patterns and making autonomous decisions.\n\n-\nEnhanced Decision-Making
 \nAI/ML enables real-time data analysis\, allowing faster and more accurat
 e decisions based on sensor data.\n\n-\nPredictive Capabilities\nDevices c
 an predict failures\, maintenance needs\, health risks\, or system ineffic
 iencies before they occur.\n\n-\nIncreased Efficiency and Productivity\nOp
 timized use of resources such as energy\, time\, and materials across home
 s\, industries\, and cities.\n\n-\n\nSpeaker(s): Brahmaiah\, \n\nVirtual: 
 https://events.vtools.ieee.org/m/524944
LOCATION:Virtual: https://events.vtools.ieee.org/m/524944
ORGANIZER:dharani405@gmail.com
SEQUENCE:19
SUMMARY:Applications of AI/ML In Internet of Things (IOT) Devices
URL;VALUE=URI:https://events.vtools.ieee.org/m/524944
X-ALT-DESC:Description: &lt;br /&gt;&lt;p&gt;&lt;img src=&quot;https://events.vtools.ieee.org/v
 tools_ui/media/display/913d31f6-9610-4351-8c31-fcdc04ee8a84&quot;&gt;&lt;/p&gt;\n&lt;p&gt;&lt;img
  src=&quot;https://events.vtools.ieee.org/vtools_ui/media/display/8cc184c1-0626
 -40c9-bc3e-b683a842dc5b&quot;&gt;&lt;/p&gt;\n&lt;p&gt;The Internet of Things (IoT) refers to a
  network of physical devices embedded with sensors\, software\, and connec
 tivity that allow them to collect and exchange data. Artificial Intelligen
 ce (AI) and Machine Learning (ML) enhance IoT by enabling devices to analy
 ze data\, learn from patterns\, and make intelligent decisions with minima
 l human intervention. The integration of AI/ML with IoT is often called &lt;s
 trong data-start=&quot;499&quot; data-end=&quot;507&quot;&gt;AIoT&lt;/strong&gt;.&lt;/p&gt;\n&lt;ul&gt;\n&lt;li data-s
 tart=&quot;199&quot; data-end=&quot;340&quot;&gt;\n&lt;p data-start=&quot;202&quot; data-end=&quot;340&quot;&gt;&lt;strong dat
 a-start=&quot;202&quot; data-end=&quot;225&quot;&gt;Improved Automation&lt;/strong&gt;&lt;br data-start=&quot;2
 25&quot; data-end=&quot;228&quot;&gt;IoT systems can operate with minimal human intervention
  by learning patterns and making autonomous decisions.&lt;/p&gt;\n&lt;/li&gt;\n&lt;li dat
 a-start=&quot;342&quot; data-end=&quot;483&quot;&gt;\n&lt;p data-start=&quot;345&quot; data-end=&quot;483&quot;&gt;&lt;strong 
 data-start=&quot;345&quot; data-end=&quot;373&quot;&gt;Enhanced Decision-Making&lt;/strong&gt;&lt;br data-
 start=&quot;373&quot; data-end=&quot;376&quot;&gt;AI/ML enables real-time data analysis\, allowin
 g faster and more accurate decisions based on sensor data.&lt;/p&gt;\n&lt;/li&gt;\n&lt;li
  data-start=&quot;485&quot; data-end=&quot;627&quot;&gt;\n&lt;p data-start=&quot;488&quot; data-end=&quot;627&quot;&gt;&lt;str
 ong data-start=&quot;488&quot; data-end=&quot;515&quot;&gt;Predictive Capabilities&lt;/strong&gt;&lt;br da
 ta-start=&quot;515&quot; data-end=&quot;518&quot;&gt;Devices can predict failures\, maintenance n
 eeds\, health risks\, or system inefficiencies before they occur.&lt;/p&gt;\n&lt;/l
 i&gt;\n&lt;li data-start=&quot;629&quot; data-end=&quot;779&quot;&gt;\n&lt;p data-start=&quot;632&quot; data-end=&quot;77
 9&quot;&gt;&lt;strong data-start=&quot;632&quot; data-end=&quot;673&quot;&gt;Increased Efficiency and Produc
 tivity&lt;/strong&gt;&lt;br data-start=&quot;673&quot; data-end=&quot;676&quot;&gt;Optimized use of resour
 ces such as energy\, time\, and materials across homes\, industries\, and 
 cities.&lt;/p&gt;\n&lt;/li&gt;\n&lt;li data-start=&quot;629&quot; data-end=&quot;779&quot;&gt;&lt;img src=&quot;https://
 events.vtools.ieee.org/vtools_ui/media/display/3ca376a8-234c-4be4-9470-9a0
 b02c87dbc&quot; width=&quot;436&quot; height=&quot;206&quot;&gt;&lt;img src=&quot;https://events.vtools.ieee.o
 rg/vtools_ui/media/display/45d295bf-32d3-4b3b-95c5-d55270d35ab8&quot; width=&quot;41
 7&quot; height=&quot;200&quot;&gt;&lt;/li&gt;\n&lt;/ul&gt;
END:VEVENT
END:VCALENDAR

