BEGIN:VCALENDAR
VERSION:2.0
PRODID:IEEE vTools.Events//EN
CALSCALE:GREGORIAN
BEGIN:VTIMEZONE
TZID:America/Santiago
BEGIN:DAYLIGHT
DTSTART:20250907T010000
TZOFFSETFROM:-0400
TZOFFSETTO:-0300
RRULE:FREQ=YEARLY;BYDAY=1SU;BYMONTH=9
TZNAME:-03
END:DAYLIGHT
BEGIN:STANDARD
DTSTART:20260404T230000
TZOFFSETFROM:-0300
TZOFFSETTO:-0400
RRULE:FREQ=YEARLY;BYDAY=1SA;BYMONTH=4
TZNAME:-04
END:STANDARD
END:VTIMEZONE
BEGIN:VEVENT
DTSTAMP:20260331T210654Z
UID:8525595E-73FA-43A7-B97F-1FAE239496BA
DTSTART;TZID=America/Santiago:20260327T093000
DTEND;TZID=America/Santiago:20260327T170000
DESCRIPTION:Ciclo de encuentros con mujeres profesionales que se desempeña
 n en diversos ámbitos de la industria. A través de charlas y conversaci
 ón con el público\, abordaremos rutas de entrada al mundo laboral\, habi
 lidades clave\, toma de decisiones\, liderazgo\, desafíos de género y es
 trategias para crecer profesionalmente.\n\nEste ciclo busca visibilizar re
 ferentes\, compartir herramientas concretas y fortalecer redes entre estud
 iantes\, profesionales y personas interesadas en construir entornos labora
 les más diversos e inclusivos.\n\nFormato: charlas + preguntas y respuest
 as + espacio de networking (según cada sesión).\n\nBldg: T\, Placeres 46
 6\, VALPARAISO\, Valparaiso\, Chile
LOCATION:Bldg: T\, Placeres 466\, VALPARAISO\, Valparaiso\, Chile
ORGANIZER:wie.utfsm@gmail.com
SEQUENCE:16
SUMMARY:Ciclo de Charlas de Mujeres en la Industria
URL;VALUE=URI:https://events.vtools.ieee.org/m/525199
X-ALT-DESC:Description: &lt;br /&gt;&lt;p data-start=&quot;734&quot; data-end=&quot;1152&quot;&gt;&lt;br data-
 start=&quot;818&quot; data-end=&quot;821&quot;&gt;Ciclo de encuentros con mujeres profesionales q
 ue se desempe&amp;ntilde\;an en diversos &amp;aacute\;mbitos de la industria. A tr
 av&amp;eacute\;s de charlas y conversaci&amp;oacute\;n con el p&amp;uacute\;blico\, ab
 ordaremos rutas de entrada al mundo laboral\, habilidades clave\, toma de 
 decisiones\, liderazgo\, desaf&amp;iacute\;os de g&amp;eacute\;nero y estrategias 
 para crecer profesionalmente.&lt;/p&gt;\n&lt;p data-start=&quot;1154&quot; data-end=&quot;1460&quot;&gt;Es
 te ciclo busca visibilizar referentes\, compartir herramientas concretas y
  fortalecer redes entre estudiantes\, profesionales y personas interesadas
  en construir entornos laborales m&amp;aacute\;s diversos e inclusivos.&lt;br dat
 a-start=&quot;1365&quot; data-end=&quot;1368&quot;&gt;&lt;br&gt;&lt;/p&gt;\n&lt;p data-start=&quot;1154&quot; data-end=&quot;14
 60&quot;&gt;&lt;em&gt;Formato: charlas + preguntas y respuestas + espacio de networking 
 (seg&amp;uacute\;n cada sesi&amp;oacute\;n).&lt;/em&gt;&lt;/p&gt;
END:VEVENT
END:VCALENDAR

