BEGIN:VCALENDAR
VERSION:2.0
PRODID:IEEE vTools.Events//EN
CALSCALE:GREGORIAN
BEGIN:VTIMEZONE
TZID:Asia/Kolkata
BEGIN:STANDARD
DTSTART:19451014T230000
TZOFFSETFROM:+0630
TZOFFSETTO:+0530
TZNAME:IST
END:STANDARD
END:VTIMEZONE
BEGIN:VEVENT
DTSTAMP:20251231T195147Z
UID:5C5FF560-ADDF-4A4F-ADC5-6FC2569ADAB2
DTSTART;TZID=Asia/Kolkata:20251229T163000
DTEND;TZID=Asia/Kolkata:20251229T173200
DESCRIPTION:5th IEEE EXECUIVE COMMITTEE MEMBERS MEETING\n\nAgenda: \n1. Pro
 gress Report and Data Collection for 2025-26\n2. Membership Expansion and 
 updation\n3. Account opening and Management\n4. Creation of Subsection Web
 site and Newsletter\n\nVirtual: https://events.vtools.ieee.org/m/525658
LOCATION:Virtual: https://events.vtools.ieee.org/m/525658
ORGANIZER:swain.ayas@gmail.com
SEQUENCE:15
SUMMARY:5th IEEE ROURKELA SUBSECTION EXECITIVE COMMITTEE Members Meeting
URL;VALUE=URI:https://events.vtools.ieee.org/m/525658
X-ALT-DESC:Description: &lt;br /&gt;&lt;p&gt;5th IEEE EXECUIVE COMMITTEE MEMBERS MEETIN
 G&lt;/p&gt;&lt;br /&gt;&lt;br /&gt;Agenda: &lt;br /&gt;&lt;p&gt;1. Progress Report and Data Collection f
 or 2025-26&lt;br&gt;2. Membership Expansion and updation&lt;br&gt;3. Account opening a
 nd Management&lt;br&gt;4. Creation of Subsection Website and Newsletter&lt;/p&gt;
END:VEVENT
END:VCALENDAR

