BEGIN:VCALENDAR
VERSION:2.0
PRODID:IEEE vTools.Events//EN
CALSCALE:GREGORIAN
BEGIN:VTIMEZONE
TZID:Asia/Kolkata
BEGIN:STANDARD
DTSTART:19451014T230000
TZOFFSETFROM:+0630
TZOFFSETTO:+0530
TZNAME:IST
END:STANDARD
END:VTIMEZONE
BEGIN:VEVENT
DTSTAMP:20260112T173014Z
UID:7554820B-8018-4A3D-ABF5-727CF9FB2471
DTSTART;TZID=Asia/Kolkata:20251229T190000
DTEND;TZID=Asia/Kolkata:20251229T210000
DESCRIPTION:The IEEE Aerospace and Electronic Systems Society (AESS)\, Hyde
 rabad Section Chapter (AES10 | CH11039) is pleased to announce an Inaugura
 l Technical Lecture\, followed by a 4-Week National-Level Technical Progra
 m on &quot;RFIC Design: From Fundamentals to Key Building Blocks”.\n\nSpeaker
 (s): \, Dr. Amit Jha\n\nVirtual: https://events.vtools.ieee.org/m/525698
LOCATION:Virtual: https://events.vtools.ieee.org/m/525698
ORGANIZER:bhudebc@ieee.org
SEQUENCE:28
SUMMARY:Inaugural Technical Lecture on “RFIC Design: From Fundamentals to
  Key Building Blocks”
URL;VALUE=URI:https://events.vtools.ieee.org/m/525698
X-ALT-DESC:Description: &lt;br /&gt;&lt;p&gt;The IEEE Aerospace and Electronic Systems 
 Society (AESS)\, Hyderabad Section Chapter (AES10 | CH11039) is pleased to
  announce an Inaugural Technical Lecture\, followed by a 4-Week National-L
 evel Technical Program on &quot;RFIC Design: From Fundamentals to Key Building 
 Blocks&amp;rdquo\;.&lt;/p&gt;
END:VEVENT
END:VCALENDAR

