BEGIN:VCALENDAR
VERSION:2.0
PRODID:IEEE vTools.Events//EN
CALSCALE:GREGORIAN
BEGIN:VTIMEZONE
TZID:Asia/Kolkata
BEGIN:STANDARD
DTSTART:19451014T230000
TZOFFSETFROM:+0630
TZOFFSETTO:+0530
TZNAME:IST
END:STANDARD
END:VTIMEZONE
BEGIN:VEVENT
DTSTAMP:20251228T175507Z
UID:9B526D89-5099-44B7-B7B5-0A749DADF1C2
DTSTART;TZID=Asia/Kolkata:20251227T173000
DTEND;TZID=Asia/Kolkata:20251227T190000
DESCRIPTION:[]This introductory session provides a clear overview of how an
 tennas and filters are analyzed using simulation tools\, with a focus on C
 ST Microwave Studio. The speaker will cover fundamental antenna and filter
  concepts and demonstrate how these components are modeled and evaluated t
 hrough simulation.\n\nDesigned to bridge theoretical knowledge with practi
 cal application\, the session highlights where CST fits into RF and microw
 ave engineering workflows and how it is used in real-world analysis and de
 sign.\n\nThe event is suitable for beginner-level undergraduate and postgr
 aduate students. No prior experience with CST is required.\n\nSpeaker(s): 
 Mr. Darshak Kavad\, \n\nVirtual: https://events.vtools.ieee.org/m/525838
LOCATION:Virtual: https://events.vtools.ieee.org/m/525838
ORGANIZER:adinathmc11@gmail.com
SEQUENCE:22
SUMMARY:CST Studio 101: Antennas &amp; Filter
URL;VALUE=URI:https://events.vtools.ieee.org/m/525838
X-ALT-DESC:Description: &lt;br /&gt;&lt;p data-start=&quot;23&quot; data-end=&quot;323&quot;&gt;&lt;img style=
 &quot;display: block\; margin-left: auto\; margin-right: auto\;&quot; src=&quot;https://e
 vents.vtools.ieee.org/vtools_ui/media/display/b4762d3b-cef0-45e3-b043-8476
 54781b35&quot; alt=&quot;&quot; width=&quot;237&quot; height=&quot;337&quot;&gt;This introductory session provid
 es a clear overview of how antennas and filters are analyzed using simulat
 ion tools\, with a focus on CST Microwave Studio. The speaker will cover f
 undamental antenna and filter concepts and demonstrate how these component
 s are modeled and evaluated through simulation.&lt;/p&gt;\n&lt;p data-start=&quot;325&quot; d
 ata-end=&quot;529&quot;&gt;Designed to bridge theoretical knowledge with practical appl
 ication\, the session highlights where CST fits into RF and microwave engi
 neering workflows and how it is used in real-world analysis and design.&lt;/p
 &gt;\n&lt;p data-start=&quot;531&quot; data-end=&quot;654&quot; data-is-last-node=&quot;&quot; data-is-only-no
 de=&quot;&quot;&gt;The event is suitable for beginner-level undergraduate and postgradu
 ate students. No prior experience with CST is required.&lt;/p&gt;
END:VEVENT
END:VCALENDAR

