BEGIN:VCALENDAR
VERSION:2.0
PRODID:IEEE vTools.Events//EN
CALSCALE:GREGORIAN
BEGIN:VTIMEZONE
TZID:Africa/Cairo
BEGIN:DAYLIGHT
DTSTART:20260424T010000
TZOFFSETFROM:+0200
TZOFFSETTO:+0300
RRULE:FREQ=YEARLY;BYDAY=-1FR;BYMONTH=4
TZNAME:EEST
END:DAYLIGHT
BEGIN:STANDARD
DTSTART:20251030T230000
TZOFFSETFROM:+0300
TZOFFSETTO:+0200
RRULE:FREQ=YEARLY;BYDAY=-1TH;BYMONTH=10
TZNAME:EET
END:STANDARD
END:VTIMEZONE
BEGIN:VEVENT
DTSTAMP:20251227T185706Z
UID:61079168-B3EE-4DEC-A25B-6F2E8338AA26
DTSTART;TZID=Africa/Cairo:20251225T080000
DTEND;TZID=Africa/Cairo:20251225T200000
DESCRIPTION:The HW Carnival is a prestigious national event hosted by the B
 ibliotheca Alexandrina (Library of Alexandria) in collaboration with IEEE 
 SSCS AUSC (IEEE Solid-State Circuits Society Alexandria University Student
  Branch). This event represents a significant initiative to promote electr
 onics\, hardware design\, and integrated circuit (IC) development across E
 gypt\, bringing together students\, academics\, and industry professionals
  in a collaborative learning environment.​\n\nEvent Overview and Structu
 re\n\nThe HW Carnival took place on Thursday\, December 25\, 2025\, at the
  Bibliotheca Alexandrina Conference Center (BACC) in the Delegates Hall an
 d West Exhibition Hall. The event is designed as a comprehensive showcase 
 and competition platform that combines educational sessions\, hands-on wor
 kshops\, and competitive challenges to inspire and nurture the next genera
 tion of electronics engineers in Egypt.​\n\nThe event features several k
 ey components that work together to create a dynamic learning and competit
 ion environment. Technical sessions and discussions form the core of the p
 rogramming\, featuring inspiring talks and knowledge-sharing opportunities
  with experts from academia and industry. These sessions provide participa
 nts with cutting-edge insights into solid-state circuit design\, hardware 
 innovation\, and emerging technologies in the electronics field.​\n\nSi-
 Clash: Egypt&#39;s Biggest Solid-State Design Competition\n\nOne of the most p
 restigious elements of the HW Carnival is the Si-Clash Finals\, which repr
 esents Egypt&#39;s biggest solid-state design competition. Si-Clash is a natio
 nal IC design and hardware challenge that has gained significant traction 
 among engineering students and professionals across the country.​\n\nThe
  Si-Clash competition operates under two distinct tracks\, providing multi
 ple pathways for participants to engage and compete. The Hackathon Track c
 hallenges participants to solve real-world design problems within a specif
 ied timeframe\, competing in the HW Carnival Finals in Alexandria for priz
 es and recognition. This track emphasizes practical problem-solving\, rapi
 d prototyping\, and innovative hardware solutions.​\n\nSi-Clash 2025 rep
 resents Version 1 of the competition and has expanded its reach through st
 rategic partnerships with educational communities across Egypt. The compet
 ition has established collaborations with institutions like Bibliotheca Al
 exandria\, ITIDA\, OrionX. Through such partnerships\, Si-Clash has dramat
 ically expanded opportunities for students nationwide to participate in re
 al engineering challenges with expert mentorship.​\n\nAlexDuino Fair: Sh
 owcasing Pre-University Innovation\n\nAnother significant feature of the H
 W Carnival is the AlexDuino Fair\, a dedicated exhibition space that showc
 ases innovative hardware and electronics projects developed by pre-univers
 ity students. This component emphasizes the importance of introducing youn
 g students to electronics and hardware design at an early stage of their e
 ducational journey\, fostering interest in STEM fields and engineering car
 eers.​\n\nThe AlexDuino Fair creates an open platform where younger stud
 ents can display their creativity and technical skills\, gaining exposure 
 to industry professionals and university-level engineers. This initiative 
 helps identify emerging talent and encourages early-stage innovation in th
 e electronics education pipeline.\n\nCo-sponsored by: Bibliotheca Alexandr
 ia\, ITIDA\, OrionX\n\nSpeaker(s): Karim\, Muhammad\, Mona\, Moataz \, Far
 ah \, Leena \n\nBldg: Bibliotheca Alexandria \, Alexandria\, Al-Iskandariy
 ah\, Egypt
LOCATION:Bldg: Bibliotheca Alexandria \, Alexandria\, Al-Iskandariyah\, Egy
 pt
ORGANIZER:iabdul-aal@ieee.org
SEQUENCE:50
SUMMARY:HW Carnival 2025 
URL;VALUE=URI:https://events.vtools.ieee.org/m/526669
X-ALT-DESC:Description: &lt;br /&gt;&lt;p class=&quot;my-2 [&amp;amp\;+p]:mt-4 [&amp;amp\;_strong
 :has(+br)]:inline-block [&amp;amp\;_strong:has(+br)]:pb-2&quot;&gt;The&amp;nbsp\;HW Carniv
 al&amp;nbsp\;is a prestigious national event hosted by the Bibliotheca Alexand
 rina (Library of Alexandria) in collaboration with&amp;nbsp\;IEEE SSCS AUSC&amp;nb
 sp\;(IEEE Solid-State Circuits Society Alexandria University Student Branc
 h). This event represents a significant initiative to promote electronics\
 , hardware design\, and integrated circuit (IC) development across Egypt\,
  bringing together students\, academics\, and industry professionals in a 
 collaborative learning environment.&lt;span class=&quot;inline-flex&quot; data-state=&quot;c
 losed&quot;&gt;​&lt;/span&gt;&lt;/p&gt;\n&lt;h2 id=&quot;event-overview-and-structure&quot; class=&quot;mb-2 m
 t-4 font-display font-semimedium text-base first:mt-0 md:text-lg [hr+&amp;amp\
 ;]:mt-4&quot;&gt;Event Overview and Structure&lt;/h2&gt;\n&lt;p class=&quot;my-2 [&amp;amp\;+p]:mt-4
  [&amp;amp\;_strong:has(+br)]:inline-block [&amp;amp\;_strong:has(+br)]:pb-2&quot;&gt;The 
 HW Carnival took place on&amp;nbsp\;Thursday\, December 25\, 2025\, at the Bib
 liotheca Alexandrina Conference Center (BACC) in the Delegates Hall and We
 st Exhibition Hall. The event is designed as a comprehensive showcase and 
 competition platform that combines educational sessions\, hands-on worksho
 ps\, and competitive challenges to inspire and nurture the next generation
  of electronics engineers in Egypt.&lt;span class=&quot;inline-flex&quot; data-state=&quot;c
 losed&quot;&gt;​&lt;/span&gt;&lt;/p&gt;\n&lt;p class=&quot;my-2 [&amp;amp\;+p]:mt-4 [&amp;amp\;_strong:has(+
 br)]:inline-block [&amp;amp\;_strong:has(+br)]:pb-2&quot;&gt;The event features severa
 l key components that work together to create a dynamic learning and compe
 tition environment.&amp;nbsp\;Technical sessions and discussions&amp;nbsp\;form th
 e core of the programming\, featuring inspiring talks and knowledge-sharin
 g opportunities with experts from academia and industry. These sessions pr
 ovide participants with cutting-edge insights into solid-state circuit des
 ign\, hardware innovation\, and emerging technologies in the electronics f
 ield.&lt;span class=&quot;inline-flex&quot; aria-label=&quot;HW Carnival بمكتبة الإ
 سكندرية&quot; data-state=&quot;closed&quot;&gt;​&lt;/span&gt;&lt;/p&gt;\n&lt;h2 id=&quot;si-clash-egypt
 s-biggest-solid-state-design-competi&quot; class=&quot;mb-2 mt-4 font-display font-s
 emimedium text-base first:mt-0 md:text-lg [hr+&amp;amp\;]:mt-4&quot;&gt;Si-Clash: Egyp
 t&#39;s Biggest Solid-State Design Competition&lt;/h2&gt;\n&lt;p class=&quot;my-2 [&amp;amp\;+p]
 :mt-4 [&amp;amp\;_strong:has(+br)]:inline-block [&amp;amp\;_strong:has(+br)]:pb-2&quot;
 &gt;One of the most prestigious elements of the HW Carnival is the&amp;nbsp\;Si-C
 lash Finals\, which represents&amp;nbsp\;Egypt&#39;s biggest solid-state design co
 mpetition. Si-Clash is a national IC design and hardware challenge that ha
 s gained significant traction among engineering students and professionals
  across the country.&lt;span class=&quot;inline-flex&quot; data-state=&quot;closed&quot;&gt;​&lt;/spa
 n&gt;&lt;/p&gt;\n&lt;p class=&quot;my-2 [&amp;amp\;+p]:mt-4 [&amp;amp\;_strong:has(+br)]:inline-blo
 ck [&amp;amp\;_strong:has(+br)]:pb-2&quot;&gt;The Si-Clash competition operates under 
 two distinct tracks\, providing multiple pathways for participants to enga
 ge and compete. The&amp;nbsp\;Hackathon Track&amp;nbsp\;challenges participants to
  solve real-world design problems within a specified timeframe\, competing
  in the HW Carnival Finals in Alexandria for prizes and recognition. This 
 track emphasizes practical problem-solving\, rapid prototyping\, and innov
 ative hardware solutions.&lt;span class=&quot;inline-flex&quot; aria-label=&quot;Si-Clash by
  IEEE SSCS AUSC X SemiLab - LinkedIn&quot; data-state=&quot;closed&quot;&gt;​&lt;/span&gt;&lt;/p&gt;\n
 &lt;p class=&quot;my-2 [&amp;amp\;+p]:mt-4 [&amp;amp\;_strong:has(+br)]:inline-block [&amp;amp
 \;_strong:has(+br)]:pb-2&quot;&gt;Si-Clash 2025 represents Version 1 of the compet
 ition and has expanded its reach through strategic partnerships with educa
 tional communities across Egypt. The competition has established collabora
 tions with institutions like Bibliotheca Alexandria\, ITIDA\, OrionX. Thro
 ugh such partnerships\, Si-Clash has dramatically expanded opportunities f
 or students nationwide to participate in real engineering challenges with 
 expert mentorship.&lt;span class=&quot;inline-flex&quot; aria-label=&quot;Si-Clash by IEEE S
 SCS AUSC X SemiLab - LinkedIn&quot; data-state=&quot;closed&quot;&gt;​&lt;/span&gt;&lt;/p&gt;\n&lt;h2 id=
 &quot;alexduino-fair-showcasing-pre-university-innovatio&quot; class=&quot;mb-2 mt-4 font
 -display font-semimedium text-base first:mt-0 md:text-lg [hr+&amp;amp\;]:mt-4&quot;
 &gt;AlexDuino Fair: Showcasing Pre-University Innovation&lt;/h2&gt;\n&lt;p class=&quot;my-2
  [&amp;amp\;+p]:mt-4 [&amp;amp\;_strong:has(+br)]:inline-block [&amp;amp\;_strong:has(
 +br)]:pb-2&quot;&gt;Another significant feature of the HW Carnival is the&amp;nbsp\;Al
 exDuino Fair\, a dedicated exhibition space that showcases innovative hard
 ware and electronics projects developed by&amp;nbsp\;pre-university students. 
 This component emphasizes the importance of introducing young students to 
 electronics and hardware design at an early stage of their educational jou
 rney\, fostering interest in STEM fields and engineering careers.&lt;span cla
 ss=&quot;inline-flex&quot; data-state=&quot;closed&quot;&gt;​&lt;/span&gt;&lt;/p&gt;\n&lt;p class=&quot;my-2 [&amp;amp\
 ;+p]:mt-4 [&amp;amp\;_strong:has(+br)]:inline-block [&amp;amp\;_strong:has(+br)]:p
 b-2&quot;&gt;The AlexDuino Fair creates an open platform where younger students ca
 n display their creativity and technical skills\, gaining exposure to indu
 stry professionals and university-level engineers. This initiative helps i
 dentify emerging talent and encourages early-stage innovation in the elect
 ronics education pipeline.&lt;/p&gt;
END:VEVENT
END:VCALENDAR

