BEGIN:VCALENDAR
VERSION:2.0
PRODID:IEEE vTools.Events//EN
CALSCALE:GREGORIAN
BEGIN:VTIMEZONE
TZID:America/Chicago
BEGIN:DAYLIGHT
DTSTART:20260308T030000
TZOFFSETFROM:-0600
TZOFFSETTO:-0500
RRULE:FREQ=YEARLY;BYDAY=2SU;BYMONTH=3
TZNAME:CDT
END:DAYLIGHT
BEGIN:STANDARD
DTSTART:20261101T010000
TZOFFSETFROM:-0500
TZOFFSETTO:-0600
RRULE:FREQ=YEARLY;BYDAY=1SU;BYMONTH=11
TZNAME:CST
END:STANDARD
END:VTIMEZONE
BEGIN:VEVENT
DTSTAMP:20260318T021353Z
UID:6A9D5D22-CA52-4F80-9F0F-9FA6C7DC5176
DTSTART;TZID=America/Chicago:20260313T200000
DTEND;TZID=America/Chicago:20260313T213000
DESCRIPTION:🚀 IEEE SoutheastCon 2026 WIE &amp; YP Rooftop Dessert Reception:
  Huntsville’s Next Frontier\n\nEngineering is more than just equations\;
  it’s about the community and connections that propel your career forwar
 d. In the heart of the &quot;Rocket City\,&quot; the next frontier of technology is 
 being built by diverse voices. Whether you are a student looking for your 
 first role\, a young professional navigating the early years of your caree
 r\, or a seasoned veteran looking to give back\, this reception is your sp
 ace to connect with the leaders shaping the future of aerospace\, defense\
 , and innovation in the Southeast.\n--------------------------------------
 -------------------------\n\nWhat is it?\n\nA high-energy\, focused evenin
 g rooftop reception. Enjoy a premium dessert bar and structured networking
  designed to bridge the gap between today’s students and tomorrow’s in
 dustry pioneers.\n\n-\nTheme: Huntsville&#39;s Next Frontier.\n\n-\nAtmosphere
 : Professional yet relaxed\, focused on mentorship and authentic connectio
 n.\n\nWhy Attend?\n\n-\nBuild Your Network: Meet local industry recruiters
  and senior IEEE members in a low-pressure\, high-value environment.\n\n-\
 nProfessional Insight: Gain &quot;real-world&quot; career strategies that you won&#39;t 
 find in a textbook.\n\n-\nCommunity Support: Connect with the IEEE Huntsvi
 lle Section Women in Engineering (WIE) and Young Professionals Affinity Gr
 oups— communities dedicated to your recruitment and retention in STEM.\n
 \n-\nSweet Benefits: Enjoy a curated selection of gourmet desserts and bev
 erages at the world-class Von Braun Center.\n\nWhen &amp; Where?\n\n-\nDate: F
 riday\, March 13\, 2026\n\n-\nTime: 8:00 PM – 9:30 PM\n\n-\nLocation: Tr
 ilogy Hotel\, Huntsville\, AL\n\n-\nRoom: Vesper Rooftop\n\nAgenda: \n-\n8
 :00 PM: Doors Open &amp; Dessert Bar/Beverages Available. Casual Mixing.\n\n-\
 n8:20 PM: Welcome from WiE Chair &amp; Sponsor Recognition.\n\n-\n8:30 PM: Key
 note Address: &quot;Huntsville&#39;s Next Frontier&quot; (20-25 minutes)\n\n-\n8:55 PM: 
 Q&amp;A with Speaker (10-15 minutes)\n\n-\n9:10 PM: Open Networking &amp; Continue
 d Dessert Service.\n\n-\n9:30 PM: Event Ends.\n\nVesper Rooftop\, Trilogy 
 Hotel\, Huntsville\, Alabama\, United States
LOCATION:Vesper Rooftop\, Trilogy Hotel\, Huntsville\, Alabama\, United Sta
 tes
ORGANIZER:ebonee.a.walker@ieee.org
SEQUENCE:36
SUMMARY:IEEE SoutheastCon 2026 WiE &amp; YP Rooftop Dessert Reception
URL;VALUE=URI:https://events.vtools.ieee.org/m/528316
X-ALT-DESC:Description: &lt;br /&gt;&lt;h2 data-path-to-node=&quot;2&quot;&gt;🚀 &lt;strong data-p
 ath-to-node=&quot;2&quot; data-index-in-node=&quot;3&quot;&gt;IEEE SoutheastCon 2026 WIE &amp;amp\; Y
 P Rooftop Dessert Reception: Huntsville&amp;rsquo\;s Next Frontier&lt;/strong&gt;&lt;/h
 2&gt;\n&lt;p data-path-to-node=&quot;4&quot;&gt;Engineering is more than just equations\; it&amp;
 rsquo\;s about the community and connections that propel your career forwa
 rd. In the heart of the &quot;Rocket City\,&quot; the next frontier of technology is
  being built by diverse voices. Whether you are a student looking for your
  first role\, a young professional navigating the early years of your care
 er\, or a seasoned veteran looking to give back\, this reception is your s
 pace to connect with the leaders shaping the future of aerospace\, defense
 \, and innovation in the Southeast.&lt;/p&gt;\n&lt;hr data-path-to-node=&quot;5&quot;&gt;\n&lt;h3 d
 ata-path-to-node=&quot;6&quot;&gt;&lt;strong data-path-to-node=&quot;6&quot; data-index-in-node=&quot;0&quot;&gt;
 What is it?&lt;/strong&gt;&lt;/h3&gt;\n&lt;p data-path-to-node=&quot;7&quot;&gt;A high-energy\, focuse
 d evening rooftop reception. Enjoy a&amp;nbsp\;&lt;strong data-path-to-node=&quot;7&quot; d
 ata-index-in-node=&quot;181&quot;&gt;premium dessert bar&lt;/strong&gt; and structured networ
 king designed to bridge the gap between today&amp;rsquo\;s students and tomorr
 ow&amp;rsquo\;s industry pioneers.&lt;/p&gt;\n&lt;ul data-path-to-node=&quot;8&quot;&gt;\n&lt;li&gt;\n&lt;p d
 ata-path-to-node=&quot;8\,0\,0&quot;&gt;&lt;strong data-path-to-node=&quot;8\,0\,0&quot; data-index-
 in-node=&quot;0&quot;&gt;Theme:&lt;/strong&gt;&amp;nbsp\;&lt;em data-path-to-node=&quot;8\,0\,0&quot; data-ind
 ex-in-node=&quot;15&quot;&gt;Huntsville&#39;s Next Frontier.&lt;/em&gt;&lt;/p&gt;\n&lt;/li&gt;\n&lt;li&gt;\n&lt;p data
 -path-to-node=&quot;8\,1\,0&quot;&gt;&lt;strong data-path-to-node=&quot;8\,1\,0&quot; data-index-in-
 node=&quot;0&quot;&gt;Atmosphere:&lt;/strong&gt; Professional yet relaxed\, focused on mentor
 ship and authentic connection.&lt;/p&gt;\n&lt;/li&gt;\n&lt;/ul&gt;\n&lt;h3 data-path-to-node=&quot;9
 &quot;&gt;&lt;strong data-path-to-node=&quot;9&quot; data-index-in-node=&quot;0&quot;&gt;Why Attend?&lt;/strong
 &gt;&lt;/h3&gt;\n&lt;ul data-path-to-node=&quot;10&quot;&gt;\n&lt;li&gt;\n&lt;p data-path-to-node=&quot;10\,0\,0&quot;
 &gt;&lt;strong data-path-to-node=&quot;10\,0\,0&quot; data-index-in-node=&quot;0&quot;&gt;Build Your Ne
 twork:&lt;/strong&gt; Meet local industry recruiters and senior IEEE members in 
 a low-pressure\, high-value environment.&lt;/p&gt;\n&lt;/li&gt;\n&lt;li&gt;\n&lt;p data-path-to
 -node=&quot;10\,1\,0&quot;&gt;&lt;strong data-path-to-node=&quot;10\,1\,0&quot; data-index-in-node=&quot;
 0&quot;&gt;Professional Insight:&lt;/strong&gt; Gain &quot;real-world&quot; career strategies that
  you won&#39;t find in a textbook.&lt;/p&gt;\n&lt;/li&gt;\n&lt;li&gt;\n&lt;p data-path-to-node=&quot;10\
 ,2\,0&quot;&gt;&lt;strong data-path-to-node=&quot;10\,2\,0&quot; data-index-in-node=&quot;0&quot;&gt;Communi
 ty Support:&lt;/strong&gt; Connect with the IEEE Huntsville Section Women in Eng
 ineering (WIE) and Young Professionals Affinity Groups&amp;mdash\; communities
  dedicated to your recruitment and retention in STEM.&lt;/p&gt;\n&lt;/li&gt;\n&lt;li&gt;\n&lt;p
  data-path-to-node=&quot;10\,3\,0&quot;&gt;&lt;strong data-path-to-node=&quot;10\,3\,0&quot; data-in
 dex-in-node=&quot;0&quot;&gt;Sweet Benefits:&lt;/strong&gt; Enjoy a curated selection of gour
 met desserts and beverages at the world-class Von Braun Center.&lt;/p&gt;\n&lt;/li&gt;
 \n&lt;/ul&gt;\n&lt;h3 data-path-to-node=&quot;11&quot;&gt;&lt;strong data-path-to-node=&quot;11&quot; data-in
 dex-in-node=&quot;0&quot;&gt;When &amp;amp\; Where?&lt;/strong&gt;&lt;/h3&gt;\n&lt;ul data-path-to-node=&quot;1
 2&quot;&gt;\n&lt;li&gt;\n&lt;p data-path-to-node=&quot;12\,0\,0&quot;&gt;&lt;strong data-path-to-node=&quot;12\,
 0\,0&quot; data-index-in-node=&quot;0&quot;&gt;Date:&lt;/strong&gt; Friday\, March 13\, 2026&lt;/p&gt;\n
 &lt;/li&gt;\n&lt;li&gt;\n&lt;p data-path-to-node=&quot;12\,1\,0&quot;&gt;&lt;strong data-path-to-node=&quot;12
 \,1\,0&quot; data-index-in-node=&quot;0&quot;&gt;Time:&lt;/strong&gt; 8:00 PM &amp;ndash\; 9:30 PM&lt;/p&gt;
 \n&lt;/li&gt;\n&lt;li&gt;\n&lt;p data-path-to-node=&quot;12\,2\,0&quot;&gt;&lt;strong data-path-to-node=&quot;
 12\,2\,0&quot; data-index-in-node=&quot;0&quot;&gt;Location:&lt;/strong&gt; Trilogy Hotel\, Huntsv
 ille\, AL&lt;/p&gt;\n&lt;/li&gt;\n&lt;li&gt;\n&lt;p data-path-to-node=&quot;12\,3\,0&quot;&gt;&lt;strong data-p
 ath-to-node=&quot;12\,3\,0&quot; data-index-in-node=&quot;0&quot;&gt;Room:&lt;/strong&gt; Vesper Roofto
 p&lt;/p&gt;\n&lt;/li&gt;\n&lt;/ul&gt;&lt;br /&gt;&lt;br /&gt;Agenda: &lt;br /&gt;&lt;ul&gt;\n&lt;li&gt;\n&lt;p data-path-to-n
 ode=&quot;6\,2\,1\,0\,0&quot;&gt;&lt;strong data-path-to-node=&quot;6\,2\,1\,0\,0&quot; data-index-i
 n-node=&quot;0&quot;&gt;8:00 PM:&lt;/strong&gt; Doors Open &amp;amp\; Dessert Bar/Beverages Avail
 able. Casual Mixing.&lt;/p&gt;\n&lt;/li&gt;\n&lt;li&gt;\n&lt;p data-path-to-node=&quot;6\,2\,1\,1\,0
 &quot;&gt;&lt;strong data-path-to-node=&quot;6\,2\,1\,1\,0&quot; data-index-in-node=&quot;0&quot;&gt;8:20 PM
 :&lt;/strong&gt; Welcome from WiE Chair &amp;amp\; Sponsor Recognition.&lt;/p&gt;\n&lt;/li&gt;\n
 &lt;li&gt;\n&lt;p data-path-to-node=&quot;6\,2\,1\,2\,0&quot;&gt;&lt;strong data-path-to-node=&quot;6\,2
 \,1\,2\,0&quot; data-index-in-node=&quot;0&quot;&gt;8:30 PM:&lt;/strong&gt; &lt;strong data-path-to-n
 ode=&quot;6\,2\,1\,2\,0&quot; data-index-in-node=&quot;9&quot;&gt;Keynote Address: &quot;Huntsville&#39;s 
 Next Frontier&quot;&lt;/strong&gt; (20-25 minutes)&lt;/p&gt;\n&lt;/li&gt;\n&lt;li&gt;\n&lt;p data-path-to-
 node=&quot;6\,2\,1\,3\,0&quot;&gt;&lt;strong data-path-to-node=&quot;6\,2\,1\,3\,0&quot; data-index-
 in-node=&quot;0&quot;&gt;8:55 PM:&lt;/strong&gt; Q&amp;amp\;A with Speaker (10-15 minutes)&lt;/p&gt;\n&lt;
 /li&gt;\n&lt;li&gt;\n&lt;p data-path-to-node=&quot;6\,2\,1\,4\,0&quot;&gt;&lt;strong data-path-to-node
 =&quot;6\,2\,1\,4\,0&quot; data-index-in-node=&quot;0&quot;&gt;9:10 PM:&lt;/strong&gt; Open Networking 
 &amp;amp\; Continued Dessert Service.&lt;/p&gt;\n&lt;/li&gt;\n&lt;li&gt;\n&lt;p data-path-to-node=&quot;
 6\,2\,1\,5\,0&quot;&gt;&lt;strong data-path-to-node=&quot;6\,2\,1\,5\,0&quot; data-index-in-nod
 e=&quot;0&quot;&gt;9:30 PM:&lt;/strong&gt; Event Ends.&lt;/p&gt;\n&lt;/li&gt;\n&lt;/ul&gt;
END:VEVENT
END:VCALENDAR

