BEGIN:VCALENDAR
VERSION:2.0
PRODID:IEEE vTools.Events//EN
CALSCALE:GREGORIAN
BEGIN:VTIMEZONE
TZID:Europe/Tallinn
BEGIN:DAYLIGHT
DTSTART:20260329T040000
TZOFFSETFROM:+0200
TZOFFSETTO:+0300
RRULE:FREQ=YEARLY;BYDAY=-1SU;BYMONTH=3
TZNAME:EEST
END:DAYLIGHT
BEGIN:STANDARD
DTSTART:20251026T030000
TZOFFSETFROM:+0300
TZOFFSETTO:+0200
RRULE:FREQ=YEARLY;BYDAY=-1SU;BYMONTH=10
TZNAME:EET
END:STANDARD
END:VTIMEZONE
BEGIN:VEVENT
DTSTAMP:20260112T170011Z
UID:AAA9C3F1-3C32-470A-9D22-3FD511DF4D66
DTSTART;TZID=Europe/Tallinn:20260108T200000
DTEND;TZID=Europe/Tallinn:20260108T230000
DESCRIPTION:As a part of doctoral school\, IEEE Estonia Section will organi
 se a social event for participants of doctoral school on 8th January. It i
 s our pleasure to invite you to this networking event\, consisting of mult
 iple sessions in informal settings. The tentative schedule is given below.
 \n\nCo-sponsored by: IEEE Students and Young Professionals&#39; Night\n\nAgend
 a: \n20:00–20:15 — Welcome &amp; Introduction\nOpening remarks\, overview 
 of the event\, and housekeeping notes\n20:15–20:30 — Introduction to I
 EEE\nPresentation about IEEE’s mission\, membership benefits\, and oppor
 tunities\n20:30–21:00 — Round Table: Use of GenAI tools in Academic Wr
 iting: Boon or Bane\nInformal conversation on increasing research producti
 vity while avoiding the pitfalls\n21:00–21:20 — Quiz Competition\nInte
 ractive quiz session with fun questions and gifts to winners\n21:20–22:5
 0 — Social networking Event\nIt is encouraged to wear traditional clothi
 ng and bring food items i.e representing participant’s country. Also\, s
 nacks &amp; drinks will be provided\n22:50–23:00 — Concluding Remarks\nOpe
 nmic\, acknowledgments\, and final message\n\n Hestia Hotel Strand\, Parnu
 \, Estonia\, Estonia
LOCATION: Hestia Hotel Strand\, Parnu\, Estonia\, Estonia
ORGANIZER:sreenathphd@ieee.org
SEQUENCE:9
SUMMARY:IEEE Students and Young Professionals&#39; Night
URL;VALUE=URI:https://events.vtools.ieee.org/m/529282
X-ALT-DESC:Description: &lt;br /&gt;&lt;p&gt;As a part of doctoral school\, IEEE Estoni
 a Section will organise a social event for participants of doctoral school
  on 8th January. It is our pleasure to invite you to this networking event
 \, consisting of multiple sessions in informal settings. The tentative sch
 edule is given below. &amp;nbsp\;&lt;/p&gt;\n&lt;p&gt;&amp;nbsp\;&lt;/p&gt;&lt;br /&gt;&lt;br /&gt;Agenda: &lt;br /
 &gt;&lt;p&gt;20:00&amp;ndash\;20:15 &amp;mdash\; Welcome &amp;amp\; Introduction&lt;br&gt;Opening rem
 arks\, overview of the event\, and housekeeping notes&lt;br&gt;20:15&amp;ndash\;20:3
 0 &amp;mdash\; Introduction to IEEE&amp;nbsp\;&lt;br&gt;Presentation about IEEE&amp;rsquo\;s
  mission\, membership benefits\, and opportunities&lt;br&gt;20:30&amp;ndash\;21:00 &amp;
 mdash\; Round Table: Use of GenAI tools in Academic Writing: Boon or Bane&amp;
 nbsp\;&lt;br&gt;Informal conversation on increasing research productivity while 
 avoiding the pitfalls&lt;br&gt;21:00&amp;ndash\;21:20 &amp;mdash\; Quiz Competition&amp;nbsp
 \;&lt;br&gt;Interactive quiz session with fun questions and gifts to winners&lt;br&gt;
 21:20&amp;ndash\;22:50 &amp;mdash\; Social networking Event&amp;nbsp\;&lt;br&gt;It is encour
 aged to wear traditional clothing and bring food items i.e representing pa
 rticipant&amp;rsquo\;s country. Also\, snacks &amp;amp\; drinks will be provided&amp;n
 bsp\;&lt;br&gt;22:50&amp;ndash\;23:00 &amp;mdash\; Concluding Remarks&amp;nbsp\;&lt;br&gt;Openmic\
 , acknowledgments\, and final message&lt;/p&gt;
END:VEVENT
END:VCALENDAR

