BEGIN:VCALENDAR
VERSION:2.0
PRODID:IEEE vTools.Events//EN
CALSCALE:GREGORIAN
BEGIN:VTIMEZONE
TZID:America/New_York
BEGIN:DAYLIGHT
DTSTART:20260308T030000
TZOFFSETFROM:-0500
TZOFFSETTO:-0400
RRULE:FREQ=YEARLY;BYDAY=2SU;BYMONTH=3
TZNAME:EDT
END:DAYLIGHT
BEGIN:STANDARD
DTSTART:20261101T010000
TZOFFSETFROM:-0400
TZOFFSETTO:-0500
RRULE:FREQ=YEARLY;BYDAY=1SU;BYMONTH=11
TZNAME:EST
END:STANDARD
END:VTIMEZONE
BEGIN:VEVENT
DTSTAMP:20260407T150503Z
UID:3FBFE731-AB13-42A9-8E33-60E0AB3CF8EB
DTSTART;TZID=America/New_York:20260407T120000
DTEND;TZID=America/New_York:20260407T133000
DESCRIPTION:The monthly Rochester IEEE Executive Committee meeting brings t
 ogether all of the leaders of the Section\, Chapters\, and Groups.\n\nExCo
 m members: Please report past using vTools. Share plans for upcoming event
 s in our Open Discussion.\n\nWe review plans for upcoming Rochester meetin
 gs within our Section\, Chapters\, and groups at this meeting. If you are 
 looking to become more engaged in IEEE in the Rochester Section\, please p
 lan on attending our Executive Committee meeting!\n\nAgenda: \n- SECTION O
 FFICER ACTIONS\n- Section Chair: [Gene Saltzberg](mailto:gene.saltzerg@iee
 e.org)\n- Section Vice-Chair: [Emmett Ientilucci](mailto:Emmett@cis.rit.ed
 u)\n- Section Treasurer: [Eric Zeise](mailto:ekzeise@IEEE.ORG)\n- Section 
 Secretary: [Danny Lai](mailto:danny232577@gmail.com)\n\n- EXECUTIVE COMMIT
 TEE PROGRESS\n- Newsletter: [Mark Schrader](mailto:m.schrader@ieee.org)\n-
  Awards: [Jean Kendrick](mailto:jeankendrick@ieee.org)\n- Membership: [Eri
 c Brown](mailto:eric.t.brown@gmail.com)\n- Electronic Communications: [Eri
 c Brown](mailto:eric.t.brown@gmail.com)\n- IEEE R1 Western New York: [Emme
 tt Ientilucci](mailto:Emmett@cis.rit.edu)\n- Rochester Engineering Society
 : [Kelly Robinson](mailto:Kelly.Robinson@electrostaticanswers.com)\n\n- CH
 APTERS\, AFFINITY GROUPS\, TECHICAL COMMUNITY\, STUDENT GROUPS OPEN DISCUS
 SION\n- Young Professionals: [Isaac Southwell](mailto:Isaac.Southwell@nati
 onalgrid.com)\n- Life Members Group: [Jean Kendrick](mailto:jeankendrick@i
 eee.org)\n- Women In Engineering (WIE): [Dimah Dera](mailto:dimah.dera@iee
 e.org)\n- Sustainability and Climate Change Group: [Eric Zeise](mailto:ekz
 eise@ieee.org)\n- Aerospace and Electronic Systems Society and Communicati
 ons Society (AES10/COMM19)\; [Nirmala Shenoy](mailto:nxsvks@rit.edu)\n- Co
 mputer Society and Computational Intelligence Society (C16/CIS11)\; [Cory 
 Merkel](mailto:cemeec@rit.edu)\n- Electron Devices and Circuits and System
 s: [Karl Hirshman](mailto:kdhemc@rit.edu)\n- Engineering in Medicine and B
 iology Society (EMB18): [Cristian Linte](mailto:christian.linte@ieee.org)\
 n- Rochester/Binghamton/Buffalo/Ithaca/Syracuse Geoscience and Remote Sens
 ing Society (GRS29): [Emmett Ientilucci](mailto:emmett@cis.rit.edu)\n- Mic
 rowave Theory and Techniques Society / Antennas and Propagation Society (M
 TT17/AP03): [Jayanti Venkataraman](mailto:jnveee@rit.edu)\n- Photonics Soc
 iety (PHO36): [Parsian K. Mohseni](mailto:pkmohseni@rit.edu)\n- Power and 
 Energy Society / Industry Applications Society (PE31/IA34): [Kelly Robinso
 n](mailto:Kelly.Robinson@electrostaticanswers.com)\; [Jean Kendrick](mailt
 o:jeankendrick@ieee.org)\n- Signal Processing Society (SP01): [Eric Zeise]
 (mailto:ekzeise@ieee.org)\n- Technology Management Council (TM14): [Paul L
 ee](mailto:ppklee@ieee.org)Open Discussion of Upcoming Events\n- Rochester
  Institute of Technology: [Jamison Heard](mailto:jrheee@rit.edu)\n- Univer
 sity of Rochester: [Ming-Lun Lee](mailto:minglunlee@rochester.edu)\n- Alfr
 ed University: [John Simmons](mailto:simmins@alfred.edu)\n- SUNY Alfred St
 ate: [Aric Bryant](mailto:BryantAM@Alfredstate.edub)\n\n- ADJOURN\n\nRoom:
  Back\, Bldg: Back Room\, Tandoor of India\, 376 Jefferson Road\, Rocheste
 r\, New York\, United States\, 14623\, Virtual: https://events.vtools.ieee
 .org/m/530847
LOCATION:Room: Back\, Bldg: Back Room\, Tandoor of India\, 376 Jefferson Ro
 ad\, Rochester\, New York\, United States\, 14623\, Virtual: https://event
 s.vtools.ieee.org/m/530847
ORGANIZER:roc.sec.chair@ieee.org
SEQUENCE:14
SUMMARY:IEEE Rochester Section ExCom Meeting - April 2026
URL;VALUE=URI:https://events.vtools.ieee.org/m/530847
X-ALT-DESC:Description: &lt;br /&gt;&lt;p&gt;&lt;span style=&quot;font-size: 10pt\;&quot;&gt;&lt;em&gt;&lt;stron
 g&gt;The monthly Rochester IEEE Executive Committee meeting brings together a
 ll of the leaders of the Section\, Chapters\, and Groups.&amp;nbsp\;&amp;nbsp\;&lt;/s
 trong&gt;&lt;/em&gt;&lt;/span&gt;&lt;/p&gt;\n&lt;p&gt;&lt;span style=&quot;color: #ff0000\; font-size: 14pt\;
 &quot;&gt;&lt;strong&gt;&lt;span style=&quot;text-decoration: underline\;&quot;&gt;ExCom members&lt;/span&gt;:
  &lt;/strong&gt;Please report past using vTools. Share plans for upcoming events
  in our Open Discussion.&amp;nbsp\;&lt;/span&gt;&lt;/p&gt;\n&lt;p&gt;We review plans for upcomin
 g Rochester meetings within our Section\, Chapters\, and groups at this me
 eting. &amp;nbsp\;If you are looking to become more engaged in IEEE in the Roc
 hester Section\, please plan on attending our Executive Committee meeting!
 &amp;nbsp\;&lt;/p&gt;&lt;br /&gt;&lt;br /&gt;Agenda: &lt;br /&gt;&lt;ol type=&quot;I&quot;&gt;\n&lt;li&gt;&lt;strong&gt;SECTION OF
 FICER ACTIONS&lt;/strong&gt;\n&lt;ol type=&quot;1&quot;&gt;\n&lt;li&gt;Section Chair: &lt;a href=&quot;mailto:
 gene.saltzerg@ieee.org&quot;&gt;Gene Saltzberg&lt;/a&gt;&lt;/li&gt;\n&lt;li&gt;Section Vice-Chair:&amp;n
 bsp\;&lt;a href=&quot;mailto:Emmett@cis.rit.edu&quot;&gt;Emmett Ientilucci&lt;/a&gt;&lt;/li&gt;\n&lt;li&gt;S
 ection Treasurer:&amp;nbsp\;&lt;a href=&quot;mailto:ekzeise@IEEE.ORG&quot;&gt;Eric Zeise&lt;/a&gt;&lt;/
 li&gt;\n&lt;li&gt;Section Secretary: &lt;a href=&quot;mailto:danny232577@gmail.com&quot; target=
 &quot;_blank&quot; rel=&quot;noopener&quot;&gt;Danny Lai&lt;/a&gt;&lt;/li&gt;\n&lt;/ol&gt;\n&lt;/li&gt;\n&lt;li&gt;&lt;strong&gt;EXEC
 UTIVE COMMITTEE PROGRESS&lt;/strong&gt;\n&lt;ol type=&quot;1&quot;&gt;\n&lt;li&gt;Newsletter:&amp;nbsp\;&lt;a
  href=&quot;mailto:m.schrader@ieee.org&quot;&gt;Mark Schrader&lt;/a&gt;&lt;/li&gt;\n&lt;li&gt;Awards:&amp;nbs
 p\;&lt;a href=&quot;mailto:jeankendrick@ieee.org&quot;&gt;Jean Kendrick&lt;/a&gt;&lt;/li&gt;\n&lt;li&gt;Memb
 ership:&amp;nbsp\;&lt;a href=&quot;mailto:eric.t.brown@gmail.com&quot;&gt;Eric Brown&lt;/a&gt;&lt;/li&gt;\
 n&lt;li&gt;Electronic Communications:&amp;nbsp\;&lt;a href=&quot;mailto:eric.t.brown@gmail.c
 om&quot;&gt;Eric Brown&lt;/a&gt;&lt;/li&gt;\n&lt;li&gt;IEEE R1 Western New York: &lt;a href=&quot;mailto:Emm
 ett@cis.rit.edu&quot;&gt;Emmett Ientilucci&lt;/a&gt;&lt;/li&gt;\n&lt;li&gt;Rochester Engineering Soc
 iety:&amp;nbsp\;&lt;a href=&quot;mailto:Kelly.Robinson@electrostaticanswers.com&quot;&gt;Kelly
  Robinson&lt;/a&gt;&amp;nbsp\;\n&lt;div&gt;&amp;nbsp\;&lt;/div&gt;\n&lt;/li&gt;\n&lt;/ol&gt;\n&lt;/li&gt;\n&lt;li&gt;&lt;strong
 &gt;CHAPTERS\, AFFINITY GROUPS\, TECHICAL COMMUNITY\, STUDENT GROUPS OPEN DIS
 CUSSION&lt;/strong&gt;\n&lt;ol type=&quot;1&quot;&gt;\n&lt;li&gt;Young Professionals:&amp;nbsp\;&lt;a href=&quot;m
 ailto:Isaac.Southwell@nationalgrid.com&quot;&gt;Isaac Southwell&lt;/a&gt;&lt;/li&gt;\n&lt;li&gt;Life
  Members Group:&amp;nbsp\;&lt;a href=&quot;mailto:jeankendrick@ieee.org&quot;&gt;Jean Kendrick
 &lt;/a&gt;&lt;/li&gt;\n&lt;li&gt;Women In Engineering (WIE):&amp;nbsp\;&lt;a href=&quot;mailto:dimah.der
 a@ieee.org&quot; target=&quot;_blank&quot; rel=&quot;noopener&quot;&gt;Dimah Dera&lt;/a&gt;&lt;/li&gt;\n&lt;li&gt;Sustai
 nability and Climate Change Group: &lt;a href=&quot;mailto:ekzeise@ieee.org&quot;&gt;Eric 
 Zeise&lt;/a&gt;&lt;/li&gt;\n&lt;li&gt;Aerospace and Electronic Systems Society and Communica
 tions Society (AES10/COMM19)\; &lt;a href=&quot;mailto:nxsvks@rit.edu&quot;&gt;Nirmala She
 noy&lt;/a&gt;&lt;/li&gt;\n&lt;li&gt;Computer Society and Computational Intelligence Society 
 (C16/CIS11)\; &lt;a href=&quot;mailto:cemeec@rit.edu&quot;&gt;Cory Merkel&lt;/a&gt;&lt;/li&gt;\n&lt;li&gt;El
 ectron Devices and Circuits and Systems: &lt;a href=&quot;mailto:kdhemc@rit.edu&quot;&gt;K
 arl Hirshman&lt;/a&gt;&lt;/li&gt;\n&lt;li&gt;Engineering in Medicine and Biology Society (EM
 B18): &lt;a href=&quot;mailto:christian.linte@ieee.org&quot;&gt;Cristian Linte&lt;/a&gt;&lt;/li&gt;\n&lt;
 li&gt;Rochester/Binghamton/Buffalo/Ithaca/Syracuse Geoscience and Remote Sens
 ing Society (GRS29): &lt;a href=&quot;mailto:emmett@cis.rit.edu&quot;&gt;Emmett Ientilucci
 &lt;/a&gt;&lt;/li&gt;\n&lt;li&gt;Microwave Theory and Techniques Society / Antennas and Prop
 agation Society (MTT17/AP03):&amp;nbsp\;&lt;a href=&quot;mailto:jnveee@rit.edu&quot;&gt;Jayant
 i Venkataraman&lt;/a&gt;&lt;/li&gt;\n&lt;li&gt;Photonics Society (PHO36): &lt;a href=&quot;mailto:pk
 mohseni@rit.edu&quot;&gt;Parsian K. Mohseni&lt;/a&gt;&lt;/li&gt;\n&lt;li&gt;Power and Energy Society
  / Industry Applications Society (PE31/IA34): &lt;a href=&quot;mailto:Kelly.Robins
 on@electrostaticanswers.com&quot;&gt;Kelly Robinson&lt;/a&gt;\;&amp;nbsp\;&lt;a href=&quot;mailto:je
 ankendrick@ieee.org&quot;&gt;Jean Kendrick&lt;/a&gt;&lt;/li&gt;\n&lt;li&gt;Signal Processing Society
  (SP01): &lt;a href=&quot;mailto:ekzeise@ieee.org&quot;&gt;Eric Zeise&lt;/a&gt;&lt;/li&gt;\n&lt;li&gt;Techno
 logy Management Council (TM14): &lt;a href=&quot;mailto:ppklee@ieee.org&quot;&gt;Paul Lee&lt;
 /a&gt;Open Discussion of Upcoming Events&lt;/li&gt;\n&lt;li&gt;Rochester Institute of Tec
 hnology: &lt;a href=&quot;mailto:jrheee@rit.edu&quot;&gt;Jamison Heard&lt;/a&gt;&lt;/li&gt;\n&lt;li&gt;Unive
 rsity of Rochester:&amp;nbsp\;&lt;a href=&quot;mailto:minglunlee@rochester.edu&quot;&gt;Ming-L
 un Lee&lt;/a&gt;&lt;/li&gt;\n&lt;li&gt;Alfred University: &lt;a href=&quot;mailto:simmins@alfred.edu
 &quot;&gt;John Simmons&lt;/a&gt;&lt;/li&gt;\n&lt;li&gt;SUNY Alfred State: &lt;a href=&quot;mailto:BryantAM@A
 lfredstate.edub&quot;&gt;Aric Bryant&lt;/a&gt;&lt;/li&gt;\n&lt;/ol&gt;\n&lt;/li&gt;\n&lt;li style=&quot;font-weigh
 t: bold\;&quot;&gt;&lt;strong&gt;ADJOURN&lt;/strong&gt;&lt;/li&gt;\n&lt;/ol&gt;
END:VEVENT
END:VCALENDAR

