BEGIN:VCALENDAR
VERSION:2.0
PRODID:IEEE vTools.Events//EN
CALSCALE:GREGORIAN
BEGIN:VTIMEZONE
TZID:Europe/Istanbul
BEGIN:DAYLIGHT
DTSTART:20380119T061407
TZOFFSETFROM:+0300
TZOFFSETTO:+0300
RRULE:FREQ=YEARLY;BYDAY=3TU;BYMONTH=1
TZNAME:+03
END:DAYLIGHT
BEGIN:STANDARD
DTSTART:20160907T000000
TZOFFSETFROM:+0300
TZOFFSETTO:+0300
RRULE:FREQ=YEARLY;BYDAY=1WE;BYMONTH=9
TZNAME:+03
END:STANDARD
END:VTIMEZONE
BEGIN:VEVENT
DTSTAMP:20260130T211408Z
UID:61DEFAE3-3D35-4438-BD33-1EB0EBCD6A0A
DTSTART;TZID=Europe/Istanbul:20251129T090000
DTEND;TZID=Europe/Istanbul:20251129T163000
DESCRIPTION:Organized by the Boğaziçi University IEEE Student Branch PES 
 (Power &amp; Energy Society)Committee\, the Boğaziçi Energy Summit successfu
 lly established itself as a premier hub for engineering talent and industr
 ial innovation. Held at the prestigious Boğaziçi University campus\, the
  event was distinguished by its ability to bring together the entire spect
 rum of the energy ecosystem—from traditional fuels and nuclear power to 
 renewable resources and electric mobility—under one roof.\n\nA Convergen
 ce of Diverse Energy Disciplines The summit’s defining feature was its h
 olistic approach to the energy sector. Rather than focusing on a single ni
 che\, the PES team curated a program that reflected the complex\, intercon
 nected nature of the modern energy grid. The event created a unique dialog
 ue between diverse industries:\n\n-\nRenewable &amp; Wind Energy: Represented 
 by TÜREB and Goldstein Renewable.\n\n-\nNuclear Energy: Addressed through
  the academic lens of Prof. Dr. Nilgün Baydoğan.\n\n-\nEnergy Trading: S
 howcased by Pure Energy.\n\n-\nAutomotive &amp; EV Technology: Highlighted by 
 Oyak Renault.\n\n-\nFuel &amp; Logistics: Represented by OPET.\n\nThis multidi
 sciplinary mix allowed attendees to see the &quot;big picture&quot; of how these dif
 ferent sectors coexist and collaborate to power the future.\n\nA Hub for E
 ngineering Talent and Career Opportunities Beyond technical knowledge\, th
 e summit was designed with a clear career-oriented objective. The audience
 \, composed primarily of ambitious engineering students\, attended with a 
 specific goal: to bridge the gap between academic theory and professional 
 practice.\n\nThe event served as a critical platform for networking and re
 cruitment. Students seized the opportunity to interact directly with compa
 ny directors and HR representatives. The coffee breaks and networking inte
 rvals were not merely pauses in the schedule\; they were active sessions w
 here students pitched themselves\, inquired about internship programs\, an
 d sought guidance on navigating career paths in engineering.\n\nConclusion
  By combining technical depth with tangible career opportunities\, the Bo
 ğaziçi Energy Summit achieved its dual mission. It provided companies wi
 th access to top-tier engineering talent while equipping students with the
  connections and insights necessary to secure internships and launch succe
 ssful careers in the dynamic world of energy.\n\nBldg: Demir Demirgil Hall
 \, Bogazici Universitesi\, Guney Kampus\, Bebek\, Besiktas\, Istanbul\, T
 ürkiye\, 34342
LOCATION:Bldg: Demir Demirgil Hall\, Bogazici Universitesi\, Guney Kampus\,
  Bebek\, Besiktas\, Istanbul\, Türkiye\, 34342
ORGANIZER:crndamar@gmail.com
SEQUENCE:18
SUMMARY:BOGAZICI ENERGY SUMMIT
URL;VALUE=URI:https://events.vtools.ieee.org/m/531019
X-ALT-DESC:Description: &lt;br /&gt;&lt;p data-path-to-node=&quot;3&quot;&gt;Organized by the Bo
 ğazi&amp;ccedil\;i University IEEE Student Branch PES (Power &amp;amp\; Energy So
 ciety)Committee\, the Boğazi&amp;ccedil\;i Energy Summit successfully establi
 shed itself as a premier hub for engineering talent and industrial innovat
 ion. Held at the prestigious Boğazi&amp;ccedil\;i University campus\, the eve
 nt was distinguished by its ability to bring together the entire spectrum 
 of the energy ecosystem&amp;mdash\;from traditional fuels and nuclear power to
  renewable resources and electric mobility&amp;mdash\;under one roof.&lt;/p&gt;\n&lt;p 
 data-path-to-node=&quot;4&quot;&gt;A Convergence of Diverse Energy Disciplines The summ
 it&amp;rsquo\;s defining feature was its holistic approach to the energy secto
 r. Rather than focusing on a single niche\, the PES team curated a program
  that reflected the complex\, interconnected nature of the modern energy g
 rid. The event created a unique dialogue between diverse industries:&lt;/p&gt;\n
 &lt;ul data-path-to-node=&quot;5&quot;&gt;\n&lt;li&gt;\n&lt;p data-path-to-node=&quot;5\,0\,0&quot;&gt;Renewable
  &amp;amp\; Wind Energy: Represented by T&amp;Uuml\;REB and Goldstein Renewable.&lt;/
 p&gt;\n&lt;/li&gt;\n&lt;li&gt;\n&lt;p data-path-to-node=&quot;5\,1\,0&quot;&gt;Nuclear Energy: Addressed 
 through the academic lens of Prof. Dr. Nilg&amp;uuml\;n Baydoğan.&lt;/p&gt;\n&lt;/li&gt;\
 n&lt;li&gt;\n&lt;p data-path-to-node=&quot;5\,2\,0&quot;&gt;Energy Trading: Showcased by Pure En
 ergy.&lt;/p&gt;\n&lt;/li&gt;\n&lt;li&gt;\n&lt;p data-path-to-node=&quot;5\,3\,0&quot;&gt;Automotive &amp;amp\; E
 V Technology: Highlighted by Oyak Renault.&lt;/p&gt;\n&lt;/li&gt;\n&lt;li&gt;\n&lt;p data-path-
 to-node=&quot;5\,4\,0&quot;&gt;Fuel &amp;amp\; Logistics: Represented by OPET.&lt;/p&gt;\n&lt;/li&gt;\n
 &lt;/ul&gt;\n&lt;p data-path-to-node=&quot;6&quot;&gt;This multidisciplinary mix allowed attende
 es to see the &quot;big picture&quot; of how these different sectors coexist and col
 laborate to power the future.&lt;/p&gt;\n&lt;p data-path-to-node=&quot;7&quot;&gt;A Hub for Engi
 neering Talent and Career Opportunities Beyond technical knowledge\, the s
 ummit was designed with a clear career-oriented objective. The audience\, 
 composed primarily of ambitious engineering students\, attended with a spe
 cific goal: to bridge the gap between academic theory and professional pra
 ctice.&lt;/p&gt;\n&lt;p data-path-to-node=&quot;8&quot;&gt;The event served as a critical platfo
 rm for networking and recruitment. Students seized the opportunity to inte
 ract directly with company directors and HR representatives. The coffee br
 eaks and networking intervals were not merely pauses in the schedule\; the
 y were active sessions where students pitched themselves\, inquired about 
 internship programs\, and sought guidance on navigating career paths in en
 gineering.&lt;/p&gt;\n&lt;p data-path-to-node=&quot;9&quot;&gt;Conclusion By combining technical
  depth with tangible career opportunities\, the Boğazi&amp;ccedil\;i Energy S
 ummit achieved its dual mission. It provided companies with access to top-
 tier engineering talent while equipping students with the connections and 
 insights necessary to secure internships and launch successful careers in 
 the dynamic world of energy.&lt;/p&gt;
END:VEVENT
END:VCALENDAR

