BEGIN:VCALENDAR
VERSION:2.0
PRODID:IEEE vTools.Events//EN
CALSCALE:GREGORIAN
BEGIN:VTIMEZONE
TZID:Asia/Kolkata
BEGIN:STANDARD
DTSTART:19451014T230000
TZOFFSETFROM:+0630
TZOFFSETTO:+0530
TZNAME:IST
END:STANDARD
END:VTIMEZONE
BEGIN:VEVENT
DTSTAMP:20260117T164708Z
UID:06893BE5-31AF-4F77-B0E4-70E9ECBF2DD9
DTSTART;TZID=Asia/Kolkata:20260117T093000
DTEND;TZID=Asia/Kolkata:20260117T140000
DESCRIPTION:IEEE CAS Bangalore Chapter AGM (Annual General Body Meeting) 20
 25\n\nDate - January 17th\, 2026\nTimings - 9.30 am to 2.00 pm\nVenue - R.
  V. College of Engineering\n\nEvent Info:\n\nThe IEEE Circuits and Systems
  (CAS) Society Bangalore Chapter&#39;s Annual General Meeting (AGM) serves as 
 a vital platform for members to reflect on achievements\, review activitie
 s\, and plan future initiatives. It is a moment to recognize the collectiv
 e efforts of members and reinforce the commitment to advancing innovation 
 and knowledge sharing in the field.\n\nAs we approach the end of the year\
 , it is an opportunity for us to reflect on our collective achievements an
 d evaluate our performance against the goals we set at the beginning of th
 is year. In this regard\, the IEEE CAS Bangalore Chapter is hosting the An
 nual General Meeting (AGM) on the 17th of January 2026. During the AGM\, t
 here will be presentations on the yearly activity report\, financial repor
 t\, and plans for 2025. Your insights and feedback are invaluable\, and yo
 ur presence would greatly enhance the depth of our discussions.\n\nAgenda:
  \nAgenda for AGM 2025:\n\n9:30 AM	Registration and Networking\n10:00 AM	W
 elcome Address by Chair – 2025 - Dr Aloke Kumar Das\n10:20 AM	Approval o
 f the Minutes of AGM 2025 by the Secretary\n10:30 AM	Presentation of the 2
 025 Activities Report by the Secretary - Dr. Sarfraz Hussain\n10:50 AM	Pre
 sentation of the 2025 Financial Report by the Treasurer - Dr. Sumantra Sar
 kar\n11.10 AM	Report on Student Activities- Vice Chair\n11.30 AM	High Tea\
 n11.45 AM	Felicitation Ceremony for IEEE Life Member and Senior Member\n11
 .55 AM	Felicitation of Immediate Past Chair – 2024\n12.00 NOON	IEEE CAS 
 Bangalore Chapter Awards\n12.20 PM	2026 Slate Presentation\nby Slate &amp; Nom
 ination Committee Chair\n12:40 PM	Handover to New Chair – 2026\nAddress 
 by Incoming Chair – 2026 - Mr. Jayesh Tanwani\n12:55 PM	General Queries 
 by Members\n01:00 PM	Vote of Thanks\nby Jt. Secretary - Mr. Kiran K Raman\
 n01.10 PM	Lunch and Disperse\nIf any changes or additions to the agenda ar
 e required\, please feel free to reach out to the Secretary at [sarfraz_06
 @ieee.org](mailto:secretary@ieeebangalore.org).\n\nWe look forward to your
  gracious presence and active participation at the AGM.\n\nRV College of E
 ngineering (RVCE)\, Bangalore\, Karnataka\, India
LOCATION:RV College of Engineering (RVCE)\, Bangalore\, Karnataka\, India
ORGANIZER:s.hussainec@gmail.com
SEQUENCE:101
SUMMARY:AGM of IEEE CAS Bangalore Chapter R10
URL;VALUE=URI:https://events.vtools.ieee.org/m/531564
X-ALT-DESC:Description: &lt;br /&gt;&lt;p style=&quot;text-align: justify\;&quot;&gt;&lt;span style=
 &quot;font-family: &#39;times new roman&#39;\, times\, serif\;&quot;&gt;&lt;strong&gt;IEEE CAS Bangal
 ore Chapter AGM (Annual Genera&lt;/strong&gt;&lt;strong&gt;l Body Meeting) 2025&lt;/stron
 g&gt;&lt;/span&gt;&lt;/p&gt;\n&lt;p style=&quot;text-align: justify\;&quot;&gt;&lt;span style=&quot;font-family: 
 &#39;times new roman&#39;\, times\, serif\;&quot;&gt;&lt;strong&gt;Date - January 17th\, 2026&lt;br
 &gt;Timings - 9.30 am to 2.00 pm&lt;br&gt;Venue - R. V. College of Engineering&lt;/str
 ong&gt;&lt;/span&gt;&lt;/p&gt;\n&lt;p style=&quot;text-align: justify\;&quot;&gt;&lt;span style=&quot;font-family
 : &#39;times new roman&#39;\, times\, serif\;&quot;&gt;&lt;strong&gt;Event Info:&lt;/strong&gt;&lt;/span&gt;
 &lt;/p&gt;\n&lt;p style=&quot;text-align: justify\;&quot;&gt;&lt;span style=&quot;font-family: &#39;times ne
 w roman&#39;\, times\, serif\;&quot;&gt;The IEEE Circuits and Systems (CAS) Society Ba
 ngalore Chapter&#39;s Annual General Meeting (AGM)&amp;nbsp\;serves as a vital pla
 tform for members to reflect on achievements\, review activities\, and pla
 n future initiatives. It is a moment to recognize the collective efforts o
 f members and reinforce the commitment to advancing innovation and knowled
 ge sharing in the field.&lt;/span&gt;&lt;/p&gt;\n&lt;p style=&quot;text-align: justify\;&quot;&gt;&lt;spa
 n style=&quot;font-family: &#39;times new roman&#39;\, times\, serif\;&quot;&gt;As we approach 
 the end of the year\, it is an opportunity for us to reflect on our collec
 tive achievements and evaluate our performance against the goals we set at
  the beginning of this year. In this regard\, the IEEE CAS Bangalore Chapt
 er is hosting the Annual General Meeting (AGM) on the 17th of January 2026
 . During the AGM\, there will be presentations on the yearly activity repo
 rt\, financial report\, and plans for 2025. Your insights and feedback are
  invaluable\, and your presence would greatly enhance the depth of our dis
 cussions.&lt;/span&gt;&lt;/p&gt;\n&lt;p style=&quot;text-align: justify\;&quot;&gt;&amp;nbsp\;&lt;/p&gt;\n&lt;p sty
 le=&quot;text-align: justify\;&quot;&gt;&amp;nbsp\;&lt;/p&gt;&lt;br /&gt;&lt;br /&gt;Agenda: &lt;br /&gt;&lt;p&gt;&lt;span s
 tyle=&quot;font-family: &#39;times new roman&#39;\, times\, serif\;&quot;&gt;&lt;strong&gt;Agenda for
  AGM 2025:&lt;/strong&gt;&lt;/span&gt;&lt;/p&gt;\n&lt;table style=&quot;border-collapse: collapse\; 
 width: 71.7899%\; height: 394.4px\;&quot; border=&quot;1&quot;&gt;&lt;colgroup&gt;&lt;col style=&quot;widt
 h: 15.0642%\;&quot;&gt;&lt;col style=&quot;width: 84.9087%\;&quot;&gt;&lt;/colgroup&gt;\n&lt;tbody&gt;\n&lt;tr st
 yle=&quot;height: 23.2px\;&quot;&gt;\n&lt;td style=&quot;height: 23.2px\;&quot;&gt;&lt;span style=&quot;font-fa
 mily: &#39;times new roman&#39;\, times\, serif\;&quot;&gt;&lt;strong&gt;9:30 AM&lt;/strong&gt;&lt;/span&gt;
 &lt;/td&gt;\n&lt;td style=&quot;height: 23.2px\;&quot;&gt;&lt;span style=&quot;font-family: &#39;times new r
 oman&#39;\, times\, serif\;&quot;&gt;Registration and Networking&lt;/span&gt;&lt;/td&gt;\n&lt;/tr&gt;\n&lt;
 tr style=&quot;height: 23.2px\;&quot;&gt;\n&lt;td style=&quot;height: 23.2px\;&quot;&gt;&lt;span style=&quot;fo
 nt-family: &#39;times new roman&#39;\, times\, serif\;&quot;&gt;&lt;strong&gt;10:00 AM&lt;/strong&gt;&lt;
 /span&gt;&lt;/td&gt;\n&lt;td style=&quot;height: 23.2px\;&quot;&gt;&lt;span style=&quot;font-family: &#39;times
  new roman&#39;\, times\, serif\;&quot;&gt;Welcome Address by Chair &amp;ndash\; 2025 - Dr
  Aloke Kumar Das&lt;/span&gt;&lt;/td&gt;\n&lt;/tr&gt;\n&lt;tr style=&quot;height: 23.2px\;&quot;&gt;\n&lt;td st
 yle=&quot;height: 23.2px\;&quot;&gt;&lt;span style=&quot;font-family: &#39;times new roman&#39;\, times
 \, serif\;&quot;&gt;&lt;strong&gt;10:20 AM&lt;/strong&gt;&lt;/span&gt;&lt;/td&gt;\n&lt;td style=&quot;height: 23.2
 px\;&quot;&gt;&lt;span style=&quot;font-family: &#39;times new roman&#39;\, times\, serif\;&quot;&gt;Appro
 val of the Minutes of AGM 2025 by the Secretary&lt;/span&gt;&lt;/td&gt;\n&lt;/tr&gt;\n&lt;tr st
 yle=&quot;height: 23.2px\;&quot;&gt;\n&lt;td style=&quot;height: 23.2px\;&quot;&gt;&lt;span style=&quot;font-fa
 mily: &#39;times new roman&#39;\, times\, serif\;&quot;&gt;&lt;strong&gt;10:30 AM&lt;/strong&gt;&lt;/span
 &gt;&lt;/td&gt;\n&lt;td style=&quot;height: 23.2px\;&quot;&gt;&lt;span style=&quot;font-family: &#39;times new 
 roman&#39;\, times\, serif\;&quot;&gt;Presentation of the 2025 Activities Report by th
 e Secretary - Dr. Sarfraz Hussain&lt;/span&gt;&lt;/td&gt;\n&lt;/tr&gt;\n&lt;tr style=&quot;height: 2
 3.2px\;&quot;&gt;\n&lt;td style=&quot;height: 23.2px\;&quot;&gt;&lt;span style=&quot;font-family: &#39;times n
 ew roman&#39;\, times\, serif\;&quot;&gt;&lt;strong&gt;10:50 AM&lt;/strong&gt;&lt;/span&gt;&lt;/td&gt;\n&lt;td st
 yle=&quot;height: 23.2px\;&quot;&gt;&lt;span style=&quot;font-family: &#39;times new roman&#39;\, times
 \, serif\;&quot;&gt;Presentation of the 2025 Financial Report by the Treasurer - D
 r. Sumantra Sarkar&lt;/span&gt;&lt;/td&gt;\n&lt;/tr&gt;\n&lt;tr style=&quot;height: 23.2px\;&quot;&gt;\n&lt;td 
 style=&quot;height: 23.2px\;&quot;&gt;&lt;span style=&quot;font-family: &#39;times new roman&#39;\, tim
 es\, serif\;&quot;&gt;&lt;strong&gt;11.10 AM&lt;/strong&gt;&lt;/span&gt;&lt;/td&gt;\n&lt;td style=&quot;height: 23
 .2px\;&quot;&gt;&lt;span style=&quot;font-family: &#39;times new roman&#39;\, times\, serif\;&quot;&gt;Rep
 ort on Student Activities- Vice Chair&lt;/span&gt;&lt;/td&gt;\n&lt;/tr&gt;\n&lt;tr&gt;\n&lt;td&gt;&lt;span 
 style=&quot;font-family: &#39;times new roman&#39;\, times\, serif\;&quot;&gt;&lt;strong&gt;11.30 AM&lt;
 /strong&gt;&lt;/span&gt;&lt;/td&gt;\n&lt;td&gt;&lt;span style=&quot;font-family: &#39;times new roman&#39;\, ti
 mes\, serif\;&quot;&gt;High Tea&lt;/span&gt;&lt;/td&gt;\n&lt;/tr&gt;\n&lt;tr style=&quot;height: 23.2px\;&quot;&gt;\
 n&lt;td style=&quot;height: 23.2px\;&quot;&gt;&lt;span style=&quot;font-family: &#39;times new roman&#39;\
 , times\, serif\;&quot;&gt;&lt;strong&gt;11.45 AM&lt;/strong&gt;&lt;/span&gt;&lt;/td&gt;\n&lt;td style=&quot;heigh
 t: 23.2px\;&quot;&gt;&lt;span style=&quot;font-family: &#39;times new roman&#39;\, times\, serif\;
 &quot;&gt;Felicitation Ceremony for IEEE Life Member and Senior Member&lt;/span&gt;&lt;/td&gt;
 \n&lt;/tr&gt;\n&lt;tr style=&quot;height: 23.2px\;&quot;&gt;\n&lt;td style=&quot;height: 23.2px\;&quot;&gt;&lt;span
  style=&quot;font-family: &#39;times new roman&#39;\, times\, serif\;&quot;&gt;&lt;strong&gt;11.55 AM
 &lt;/strong&gt;&lt;/span&gt;&lt;/td&gt;\n&lt;td style=&quot;height: 23.2px\;&quot;&gt;&lt;span style=&quot;font-fami
 ly: &#39;times new roman&#39;\, times\, serif\;&quot;&gt;Felicitation of Immediate Past Ch
 air &amp;ndash\; 2024&lt;/span&gt;&lt;/td&gt;\n&lt;/tr&gt;\n&lt;tr style=&quot;height: 23.2px\;&quot;&gt;\n&lt;td s
 tyle=&quot;height: 23.2px\;&quot;&gt;&lt;span style=&quot;font-family: &#39;times new roman&#39;\, time
 s\, serif\;&quot;&gt;&lt;strong&gt;12.00 NOON&lt;/strong&gt;&lt;/span&gt;&lt;/td&gt;\n&lt;td style=&quot;height: 2
 3.2px\;&quot;&gt;&lt;span style=&quot;font-family: &#39;times new roman&#39;\, times\, serif\;&quot;&gt;IE
 EE CAS Bangalore Chapter Awards&lt;/span&gt;&lt;/td&gt;\n&lt;/tr&gt;\n&lt;tr style=&quot;height: 46.
 4px\;&quot;&gt;\n&lt;td style=&quot;height: 46.4px\;&quot;&gt;&lt;span style=&quot;font-family: &#39;times new
  roman&#39;\, times\, serif\;&quot;&gt;&lt;strong&gt;12.20 PM&lt;/strong&gt;&lt;/span&gt;&lt;/td&gt;\n&lt;td styl
 e=&quot;height: 46.4px\;&quot;&gt;&lt;span style=&quot;font-family: &#39;times new roman&#39;\, times\,
  serif\;&quot;&gt;2026 Slate Presentation&amp;nbsp\;&lt;br&gt;by Slate &amp;amp\; Nomination Com
 mittee Chair&lt;/span&gt;&lt;/td&gt;\n&lt;/tr&gt;\n&lt;tr style=&quot;height: 46.4px\;&quot;&gt;\n&lt;td style=
 &quot;height: 46.4px\;&quot;&gt;&lt;span style=&quot;font-family: &#39;times new roman&#39;\, times\, s
 erif\;&quot;&gt;&lt;strong&gt;12:40 PM&lt;/strong&gt;&lt;/span&gt;&lt;/td&gt;\n&lt;td style=&quot;height: 46.4px\;
 &quot;&gt;&lt;span style=&quot;font-family: &#39;times new roman&#39;\, times\, serif\;&quot;&gt;Handover 
 to New Chair &amp;ndash\; 2026&lt;br&gt;Address by Incoming Chair &amp;ndash\; 2026 - Mr
 . Jayesh Tanwani&lt;/span&gt;&lt;/td&gt;\n&lt;/tr&gt;\n&lt;tr style=&quot;height: 23.2px\;&quot;&gt;\n&lt;td st
 yle=&quot;height: 23.2px\;&quot;&gt;&lt;span style=&quot;font-family: &#39;times new roman&#39;\, times
 \, serif\;&quot;&gt;&lt;strong&gt;12:55 PM&lt;/strong&gt;&lt;/span&gt;&lt;/td&gt;\n&lt;td style=&quot;height: 23.2
 px\;&quot;&gt;&lt;span style=&quot;font-family: &#39;times new roman&#39;\, times\, serif\;&quot;&gt;Gener
 al Queries by Members&lt;/span&gt;&lt;/td&gt;\n&lt;/tr&gt;\n&lt;tr style=&quot;height: 46.4px\;&quot;&gt;\n&lt;
 td style=&quot;height: 46.4px\;&quot;&gt;&lt;span style=&quot;font-family: &#39;times new roman&#39;\, 
 times\, serif\;&quot;&gt;&lt;strong&gt;01:00 PM&lt;/strong&gt;&lt;/span&gt;&lt;/td&gt;\n&lt;td style=&quot;height:
  46.4px\;&quot;&gt;&lt;span style=&quot;font-family: &#39;times new roman&#39;\, times\, serif\;&quot;&gt;
 Vote of Thanks&lt;br&gt;by Jt. Secretary - Mr. Kiran K Raman&lt;/span&gt;&lt;/td&gt;\n&lt;/tr&gt;\
 n&lt;tr style=&quot;height: 23.2px\;&quot;&gt;\n&lt;td style=&quot;height: 23.2px\;&quot;&gt;&lt;span style=&quot;
 font-family: &#39;times new roman&#39;\, times\, serif\;&quot;&gt;&lt;strong&gt;01.10 PM&lt;/strong
 &gt;&lt;/span&gt;&lt;/td&gt;\n&lt;td style=&quot;height: 23.2px\;&quot;&gt;&lt;span style=&quot;font-family: &#39;tim
 es new roman&#39;\, times\, serif\;&quot;&gt;Lunch and Disperse&lt;/span&gt;&lt;/td&gt;\n&lt;/tr&gt;\n&lt;/
 tbody&gt;\n&lt;/table&gt;\n&lt;p class=&quot;MsoNormal&quot;&gt;&lt;span style=&quot;font-family: &#39;times ne
 w roman&#39;\, times\, serif\;&quot;&gt;If any changes or additions to the agenda are 
 required\, please feel free to reach out to the Secretary at &lt;a href=&quot;mail
 to:secretary@ieeebangalore.org&quot; target=&quot;_blank&quot; rel=&quot;noopener&quot;&gt;sarfraz_06@
 ieee.org&lt;/a&gt;&lt;wbr&gt;.&lt;/span&gt;&lt;/p&gt;\n&lt;p class=&quot;MsoNormal&quot;&gt;&lt;span style=&quot;font-fami
 ly: &#39;times new roman&#39;\, times\, serif\;&quot;&gt;We look forward to your gracious 
 presence and active participation at the AGM.&lt;/span&gt;&lt;/p&gt;
END:VEVENT
END:VCALENDAR

