BEGIN:VCALENDAR
VERSION:2.0
PRODID:IEEE vTools.Events//EN
CALSCALE:GREGORIAN
BEGIN:VTIMEZONE
TZID:America/Chicago
BEGIN:DAYLIGHT
DTSTART:20260308T030000
TZOFFSETFROM:-0600
TZOFFSETTO:-0500
RRULE:FREQ=YEARLY;BYDAY=2SU;BYMONTH=3
TZNAME:CDT
END:DAYLIGHT
BEGIN:STANDARD
DTSTART:20251102T010000
TZOFFSETFROM:-0500
TZOFFSETTO:-0600
RRULE:FREQ=YEARLY;BYDAY=1SU;BYMONTH=11
TZNAME:CST
END:STANDARD
END:VTIMEZONE
BEGIN:VEVENT
DTSTAMP:20260226T222858Z
UID:32C7545E-A149-49AB-957A-ED6510BDFF8C
DTSTART;TZID=America/Chicago:20260223T173000
DTEND;TZID=America/Chicago:20260223T183000
DESCRIPTION:Come join us for a tour of the Arkansas Razorback Stadium!\n\n*
 Gate Location and Meeting Instructions will be emailed to registered atten
 dees on Friday\, 20Feb2026.\n\n[]\n\nDonald W. Reynolds Razorback Stadium 
 has been the home of the Razorback football team since 1938. The stadium w
 as renovated to the tune of $160 million in 2018 that included complete re
 -construction of the North End Zone and Frank Broyles Athletic Center. Inc
 luded in the new North End Zone is a new game day locker room and coaches 
 game day offices\, a field-level club\, three levels of suites and two lev
 els of club seats.\n\nhttps://arkansasrazorbacks.com/facility/dwrrs/\n\nBl
 dg: Donald W. Reynolds Razorback Stadium\, 350 N Razorback Rd\, Fayettevil
 le\, Arkansas\, United States\, 72701
LOCATION:Bldg: Donald W. Reynolds Razorback Stadium\, 350 N Razorback Rd\, 
 Fayetteville\, Arkansas\, United States\, 72701
ORGANIZER:cfarnell@uark.edu
SEQUENCE:56
SUMMARY:IEEE Tour: Donald W. Reynolds Razorback Stadium
URL;VALUE=URI:https://events.vtools.ieee.org/m/531697
X-ALT-DESC:Description: &lt;br /&gt;&lt;p&gt;&lt;strong&gt;Come join us for a tour of the Ark
 ansas Razorback Stadium!&lt;/strong&gt;&lt;/p&gt;\n&lt;p&gt;&lt;strong&gt;*Gate Location and Meeti
 ng Instructions will be emailed to registered attendees on Friday\, 20Feb2
 026.&lt;/strong&gt;&lt;/p&gt;\n&lt;p&gt;&lt;img src=&quot;https://events.vtools.ieee.org/vtools_ui/m
 edia/display/9b6bea05-d4ec-4d85-afdf-aeed4e173b67&quot; alt=&quot;&quot; width=&quot;879&quot; heig
 ht=&quot;659&quot;&gt;&lt;/p&gt;\n&lt;p&gt;&amp;nbsp\;&lt;/p&gt;\n&lt;p&gt;Donald W. Reynolds Razorback Stadium has
  been the home of the Razorback football team since 1938. The stadium was 
 renovated to the tune of $160 million in 2018 that included complete re-co
 nstruction of the North End Zone and Frank Broyles Athletic Center. Includ
 ed in the new North End Zone is a new game day locker room and coaches gam
 e day offices\, a field-level club\, three levels of suites and two levels
  of club seats.&lt;/p&gt;\n&lt;p&gt;&lt;a href=&quot;https://arkansasrazorbacks.com/facility/d
 wrrs/&quot;&gt;https://arkansasrazorbacks.com/facility/dwrrs/&lt;/a&gt;&lt;/p&gt;\n&lt;p&gt;&amp;nbsp\;&lt;
 /p&gt;\n&lt;p&gt;&amp;nbsp\;&lt;/p&gt;
END:VEVENT
END:VCALENDAR

