BEGIN:VCALENDAR
VERSION:2.0
PRODID:IEEE vTools.Events//EN
CALSCALE:GREGORIAN
BEGIN:VTIMEZONE
TZID:America/New_York
BEGIN:DAYLIGHT
DTSTART:20260308T030000
TZOFFSETFROM:-0500
TZOFFSETTO:-0400
RRULE:FREQ=YEARLY;BYDAY=2SU;BYMONTH=3
TZNAME:EDT
END:DAYLIGHT
BEGIN:STANDARD
DTSTART:20261101T010000
TZOFFSETFROM:-0400
TZOFFSETTO:-0500
RRULE:FREQ=YEARLY;BYDAY=1SU;BYMONTH=11
TZNAME:EST
END:STANDARD
END:VTIMEZONE
BEGIN:VEVENT
DTSTAMP:20260107T190227Z
UID:3EEBC122-5E4A-40BA-8DE4-74BA8D400A6F
DTSTART;TZID=America/New_York:20261001T183000
DTEND;TZID=America/New_York:20261001T193000
DESCRIPTION:Monthly Team Meeting for FWCCS\n\nVirtual: https://events.vtool
 s.ieee.org/m/531727
LOCATION:Virtual: https://events.vtools.ieee.org/m/531727
ORGANIZER:fwccs@ieee.org
SEQUENCE:1
SUMMARY:Monthly FWCCS Meeting Oct
URL;VALUE=URI:https://events.vtools.ieee.org/m/531727
X-ALT-DESC:Description: &lt;br /&gt;&lt;p&gt;Monthly Team Meeting for FWCCS&lt;/p&gt;
END:VEVENT
END:VCALENDAR

