BEGIN:VCALENDAR
VERSION:2.0
PRODID:IEEE vTools.Events//EN
CALSCALE:GREGORIAN
BEGIN:VTIMEZONE
TZID:America/New_York
BEGIN:DAYLIGHT
DTSTART:20260308T030000
TZOFFSETFROM:-0500
TZOFFSETTO:-0400
RRULE:FREQ=YEARLY;BYDAY=2SU;BYMONTH=3
TZNAME:EDT
END:DAYLIGHT
BEGIN:STANDARD
DTSTART:20251102T010000
TZOFFSETFROM:-0400
TZOFFSETTO:-0500
RRULE:FREQ=YEARLY;BYDAY=1SU;BYMONTH=11
TZNAME:EST
END:STANDARD
END:VTIMEZONE
BEGIN:VEVENT
DTSTAMP:20260214T225633Z
UID:C023C99C-E7EC-4BBC-AEED-7F9C0B6C7C6C
DTSTART;TZID=America/New_York:20260109T183000
DTEND;TZID=America/New_York:20260109T210000
DESCRIPTION:Annual ExCom Dinner Meeting\n\nAt Black and Blue Steak and Crab
 \n\n5493 Sheridan Drive\n\nWilliamsville Ny\n\nAgenda: \nBrief Agenda\n\nW
 illiamsville\, New York\, United States
LOCATION:Williamsville\, New York\, United States
ORGANIZER:jmmoskal@ieee.org
SEQUENCE:8
SUMMARY:Annual ExCom Dinner Meeting
URL;VALUE=URI:https://events.vtools.ieee.org/m/531989
X-ALT-DESC:Description: &lt;br /&gt;&lt;p&gt;Annual ExCom Dinner Meeting&lt;/p&gt;\n&lt;p&gt;At Bla
 ck and Blue Steak and Crab&lt;/p&gt;\n&lt;p&gt;5493 Sheridan Drive&lt;/p&gt;\n&lt;p&gt;Williamsvil
 le Ny&lt;/p&gt;&lt;br /&gt;&lt;br /&gt;Agenda: &lt;br /&gt;&lt;p&gt;Brief Agenda&lt;/p&gt;
END:VEVENT
END:VCALENDAR

