BEGIN:VCALENDAR
VERSION:2.0
PRODID:IEEE vTools.Events//EN
CALSCALE:GREGORIAN
BEGIN:VTIMEZONE
TZID:Asia/Muscat
BEGIN:DAYLIGHT
DTSTART:20380119T071407
TZOFFSETFROM:+0400
TZOFFSETTO:+0400
RRULE:FREQ=YEARLY;BYDAY=3TU;BYMONTH=1
TZNAME:+04
END:DAYLIGHT
BEGIN:STANDARD
DTSTART:19200101T001848
TZOFFSETFROM:+0341
TZOFFSETTO:+0400
RRULE:FREQ=YEARLY;BYDAY=1TH;BYMONTH=1
TZNAME:+04
END:STANDARD
END:VTIMEZONE
BEGIN:VEVENT
DTSTAMP:20260203T081913Z
UID:1200A50D-27F5-4CDC-96B6-E446702CD16C
DTSTART;TZID=Asia/Muscat:20260131T083000
DTEND;TZID=Asia/Muscat:20260131T133000
DESCRIPTION:Dear IEEE Members\,\n\nOn behalf of IEEE UAE Section\, we are p
 leased to invite you to attend the Annual General Meeting (AGM) 2025\, whi
 ch will be held at The Lana - Dorchester Collection\, on Saturday\, 31 Jan
 uary 2026 from 8:30 AM to 1:30 PM\, and sponsored by Dubai Department of E
 conomy and Tourism.\n\nThe agenda for the AGM is as follows:\n\n- 08:30 - 
 10:00 Registration and networking\n- 10:00 - 10:10 Opening Remarks\n- 10:1
 0 - 10:30 Dubai Department of Economy and Tourism Talk\n- 10:30 - 11:30 UA
 E Section Report\n- 11:30 - 12:00 Awarding and Recognition\n- 12:00 - 13:3
 0 Group Photo and Lunch\n\nPlease use the [registration link](https://www.
 eventbrite.com/e/the-2025-annual-general-meeting-agm-of-ieee-uae-section-t
 ickets-1980070823134?aff=oddtdtcreator) to provide your name and affiliati
 on and receive your access ticket to the venue. Kindly note that the regis
 tration process consists of two pages\; to confirm your registration succe
 ssfully\, you must complete the information form on the second page.\n\nIf
  you have any inquiries\, please don&#39;t hesitate to contact me.\n\nBest Reg
 ards\,\n\nDr. Husameldin Mukhtar\n\nIEEE UAE Section Secretary\n\nThe Lana
  - Dorchester Collection\, Marasi Drive\, Dubai\, United Arab Emirates\, U
 nited Arab Emirates
LOCATION:The Lana - Dorchester Collection\, Marasi Drive\, Dubai\, United A
 rab Emirates\, United Arab Emirates
ORGANIZER:hhadam@ud.ac.ae
SEQUENCE:57
SUMMARY:Invitation: The 2025 Annual General Meeting (AGM) of IEEE UAE Secti
 on
URL;VALUE=URI:https://events.vtools.ieee.org/m/532041
X-ALT-DESC:Description: &lt;br /&gt;&lt;p&gt;&lt;img src=&quot;https://events.vtools.ieee.org/v
 tools_ui/media/display/692d6935-bc19-4c1d-80db-74daecdbd3a9&quot; width=&quot;1022&quot; 
 height=&quot;425&quot;&gt;&lt;/p&gt;\n&lt;p&gt;Dear IEEE Members\,&lt;/p&gt;\n&lt;p&gt;On behalf of IEEE UAE Se
 ction\, we are pleased to invite you to attend the&amp;nbsp\;&lt;span class=&quot;il&quot;&gt;
 Annual&lt;/span&gt;&amp;nbsp\;&lt;span class=&quot;il&quot;&gt;General&lt;/span&gt;&amp;nbsp\;&lt;span class=&quot;il&quot;
 &gt;Meeting&lt;/span&gt; (AGM) 2025\, which will be held at The Lana - Dorchester C
 ollection\, on Saturday\, 31 January 2026 from 8:30 AM to 1:30 PM\, and sp
 onsored by Dubai Department of Economy and Tourism.&lt;/p&gt;\n&lt;p&gt;The agenda for
  the AGM is as follows:&lt;/p&gt;\n&lt;div&gt;\n&lt;div&gt;\n&lt;ul&gt;\n&lt;li&gt;08:30 - 10:00 Registr
 ation and networking&lt;/li&gt;\n&lt;li&gt;10:00 - 10:10 Opening Remarks&lt;/li&gt;\n&lt;li&gt;10:
 10 - 10:30 Dubai Department of Economy and Tourism Talk&lt;/li&gt;\n&lt;li&gt;10:30 - 
 11:30 UAE Section Report&lt;/li&gt;\n&lt;li&gt;11:30 - 12:00 Awarding and Recognition&lt;
 /li&gt;\n&lt;li&gt;12:00 - 13:30 Group Photo and Lunch&lt;/li&gt;\n&lt;/ul&gt;\n&lt;/div&gt;\n&lt;/div&gt;\
 n&lt;p&gt;Please use the &lt;a href=&quot;https://www.eventbrite.com/e/the-2025-annual-g
 eneral-meeting-agm-of-ieee-uae-section-tickets-1980070823134?aff=oddtdtcre
 ator&quot; target=&quot;_blank&quot; rel=&quot;noopener&quot;&gt;registration link&lt;/a&gt; to provide your
  name and affiliation and receive your access ticket to the venue. &lt;span s
 tyle=&quot;background-color: rgb(241\, 196\, 15)\;&quot;&gt;Kindly note that the regist
 ration process consists of two pages\; to confirm your registration succes
 sfully\, you must complete the information form on the second page.&lt;/span&gt;
 &lt;/p&gt;\n&lt;p&gt;If you have any inquiries\, please don&#39;t hesitate to contact me.&lt;
 /p&gt;\n&lt;p&gt;Best Regards\,&lt;/p&gt;\n&lt;p&gt;Dr. Husameldin Mukhtar&lt;/p&gt;\n&lt;p&gt;IEEE UAE Sec
 tion Secretary&lt;/p&gt;
END:VEVENT
END:VCALENDAR

