BEGIN:VCALENDAR
VERSION:2.0
PRODID:IEEE vTools.Events//EN
CALSCALE:GREGORIAN
BEGIN:VTIMEZONE
TZID:America/Chicago
BEGIN:DAYLIGHT
DTSTART:20260308T030000
TZOFFSETFROM:-0600
TZOFFSETTO:-0500
RRULE:FREQ=YEARLY;BYDAY=2SU;BYMONTH=3
TZNAME:CDT
END:DAYLIGHT
BEGIN:STANDARD
DTSTART:20251102T010000
TZOFFSETFROM:-0500
TZOFFSETTO:-0600
RRULE:FREQ=YEARLY;BYDAY=1SU;BYMONTH=11
TZNAME:CST
END:STANDARD
END:VTIMEZONE
BEGIN:VEVENT
DTSTAMP:20260109T202541Z
UID:0D7774DB-9AA7-4312-B7DE-13C07A70CDA6
DTSTART;TZID=America/Chicago:20260126T180000
DTEND;TZID=America/Chicago:20260126T210000
DESCRIPTION:IEEE NOLA Members\,\n\nPlease join us for an IEEE New Orleans P
 ES/ComSoc joint meeting on Monday\, January 26\, 2026.\n\nDate: Monday\, J
 anuary 26\, 2026\n\nTime: Social Hour 6:00pm\n\nDinner and Presentation 7:
 00pm\n\nLocation: Drago’s Seafood Restaurant Metairie: 2nd Floor\n\n3232
  N Arnoult Rd.\n\nMetairie\, LA\n\nPresentation Title:\n\nEnhancing Grid S
 tability with STATCOM\n\nSummary:\n\nThis presentation provides an overvie
 w of STATCOM technology\, focusing on its operating principles and the pri
 mary components that enable dynamic reactive power support. It explains ho
 w STATCOMs regulate voltage and support grid stability through power elect
 ronics–based control. The presentation also highlights recent advancemen
 ts in STATCOM technology\, including the integration of energy storage and
  grid-forming capabilities\, and discusses their role in enhancing overall
  power system performance and stability.\n\nSpeaker Bio:\n\nBinit Patel is
  a Senior Systems Engineer at Mitsubishi Electric Power Products Inc. (MEP
 PI)\, a role he has held since 2024. At MEPPI\, he primarily focuses on th
 e design and application of STATCOMs. Prior to joining MEPPI\, Binit was a
  Lead Project Engineer at General Electric (GE)\, where he specialized in 
 Fixed Series Capacitor projects. He holds a Master’s degree from Purdue 
 University.\n\nPDH: 1 PDH available\n\nDinner Cost:\n\n$25.00 for IEEE Mem
 bers\; $25.00 Member Guest\n\n$15.00 for Life Members\; $15.00 Life Member
  Guest\n\n$15.00 for Student Members\n\n$30.00 for Non-members\; $30.00 No
 n-Member Guest\n\nPAYMENT: Cash\, Check\,\n\nNOTE: Room Capacity is 36 per
 sons! RSVP SOON!\n\nPLEASE RSVP BY 5 PM WEDNESDAY JANUARY 21\, 2026 TO:\n\
 nRICHARD MILLER: lighth@bellsouth.net or 504-905-3524 (cell) REMEMBER TO I
 NCLUDE YOUR ENTRÉE SELECTION WITH RSVP ! !\n\nDINNER MENU:\n\nAppetizers\
 n\nCharbroiled Oysters (3 per person)\n\nSalad: Tossed Mediterranean\n\nEn
 trees: Choice of One\n\nMaine Lobster with potatoes\n\nFried Shrimp Platte
 r\n\nPan Seared Chicken with Alfredo pasta\n\nDessert: Cheesecake\n\nBever
 age: Soft drinks\, Unsweetened Iced Tea\, &amp; Coffee\n\nNOTE: CASH BAR – S
 EPARATE TAB PER GUEST\n\nRoom: 2nd Floor\,  3232 N Arnoult Rd.\, Metairie
 \, Louisiana\, United States\, 70002
LOCATION:Room: 2nd Floor\,  3232 N Arnoult Rd.\, Metairie\, Louisiana\, Un
 ited States\, 70002
ORGANIZER:katm995@ieee.org
SEQUENCE:7
SUMMARY:NOLA IEEE PES/ComSoc: Enhancing Grid Stability with STATCOM
URL;VALUE=URI:https://events.vtools.ieee.org/m/532153
X-ALT-DESC:Description: &lt;br /&gt;&lt;p class=&quot;MsoPlainText&quot;&gt;IEEE NOLA Members\,&lt;/
 p&gt;\n&lt;p class=&quot;MsoPlainText&quot;&gt;&amp;nbsp\;&lt;/p&gt;\n&lt;p class=&quot;MsoPlainText&quot;&gt;Please jo
 in us for an IEEE New Orleans PES/ComSoc joint meeting on Monday\, January
  26\, 2026.&lt;/p&gt;\n&lt;p class=&quot;MsoPlainText&quot;&gt;&amp;nbsp\;&lt;/p&gt;\n&lt;p class=&quot;MsoPlainTe
 xt&quot;&gt;&amp;nbsp\;&lt;/p&gt;\n&lt;p class=&quot;MsoPlainText&quot;&gt;&amp;nbsp\;&lt;/p&gt;\n&lt;p class=&quot;MsoPlainTe
 xt&quot;&gt;Date:&lt;span style=&quot;mso-spacerun: yes\;&quot;&gt;&amp;nbsp\; &lt;/span&gt;Monday\, January
  26\, 2026&lt;/p&gt;\n&lt;p class=&quot;MsoPlainText&quot;&gt;&amp;nbsp\;&lt;/p&gt;\n&lt;p class=&quot;MsoPlainTex
 t&quot;&gt;Time:&lt;span style=&quot;mso-spacerun: yes\;&quot;&gt;&amp;nbsp\; &lt;/span&gt;Social Hour 6:00p
 m&lt;/p&gt;\n&lt;p class=&quot;MsoPlainText&quot;&gt;&lt;span style=&quot;mso-spacerun: yes\;&quot;&gt;&amp;nbsp\;&amp;n
 bsp\;&amp;nbsp\;&amp;nbsp\;&amp;nbsp\;&amp;nbsp\;&amp;nbsp\;&amp;nbsp\;&amp;nbsp\;&amp;nbsp\;&amp;nbsp\; &lt;/spa
 n&gt;Dinner and Presentation 7:00pm&lt;/p&gt;\n&lt;p class=&quot;MsoPlainText&quot;&gt;&amp;nbsp\;&lt;/p&gt;\
 n&lt;p class=&quot;MsoPlainText&quot;&gt;Location:&lt;span style=&quot;mso-spacerun: yes\;&quot;&gt;&amp;nbsp\
 ; &lt;/span&gt;Drago&amp;rsquo\;s Seafood Restaurant Metairie: 2nd Floor&lt;/p&gt;\n&lt;p cla
 ss=&quot;MsoPlainText&quot;&gt;&lt;span style=&quot;mso-spacerun: yes\;&quot;&gt;&amp;nbsp\;&amp;nbsp\;&amp;nbsp\;&amp;
 nbsp\;&amp;nbsp\;&amp;nbsp\;&amp;nbsp\;&amp;nbsp\;&amp;nbsp\;&amp;nbsp\;&amp;nbsp\;&amp;nbsp\;&amp;nbsp\;&amp;nbsp
 \;&amp;nbsp\;&amp;nbsp\;&amp;nbsp\;&amp;nbsp\; &lt;/span&gt;3232 N Arnoult Rd.&lt;/p&gt;\n&lt;p class=&quot;Ms
 oPlainText&quot;&gt;&lt;span style=&quot;mso-spacerun: yes\;&quot;&gt;&amp;nbsp\;&amp;nbsp\;&amp;nbsp\;&amp;nbsp\;
 &amp;nbsp\;&amp;nbsp\;&amp;nbsp\;&amp;nbsp\;&amp;nbsp\;&amp;nbsp\;&amp;nbsp\;&amp;nbsp\;&amp;nbsp\;&amp;nbsp\;&amp;nbs
 p\;&amp;nbsp\;&amp;nbsp\;&amp;nbsp\; &lt;/span&gt;Metairie\, LA&lt;/p&gt;\n&lt;p class=&quot;MsoPlainText&quot;
 &gt;&amp;nbsp\;&lt;/p&gt;\n&lt;p class=&quot;MsoPlainText&quot;&gt;Presentation Title:&lt;/p&gt;\n&lt;p class=&quot;M
 soPlainText&quot;&gt;Enhancing Grid Stability with STATCOM&lt;/p&gt;\n&lt;p class=&quot;MsoPlain
 Text&quot;&gt;&amp;nbsp\;&lt;/p&gt;\n&lt;p class=&quot;MsoPlainText&quot;&gt;Summary:&lt;/p&gt;\n&lt;p class=&quot;MsoPlai
 nText&quot;&gt;This presentation provides an overview of STATCOM technology\, focu
 sing on its operating principles and the primary components that enable dy
 namic reactive power support. It explains how STATCOMs regulate voltage an
 d support grid stability through power electronics&amp;ndash\;based control. T
 he presentation also highlights recent advancements in STATCOM technology\
 , including the integration of energy storage and grid-forming capabilitie
 s\, and discusses their role in enhancing overall power system performance
  and stability.&lt;/p&gt;\n&lt;p class=&quot;MsoPlainText&quot;&gt;&amp;nbsp\;&lt;/p&gt;\n&lt;p class=&quot;MsoPla
 inText&quot;&gt;Speaker Bio:&lt;/p&gt;\n&lt;p class=&quot;MsoPlainText&quot;&gt;Binit Patel is a Senior 
 Systems Engineer at Mitsubishi Electric Power Products Inc. (MEPPI)\, a ro
 le he has held since 2024. At MEPPI\, he primarily focuses on the design a
 nd application of STATCOMs. Prior to joining MEPPI\, Binit was a Lead Proj
 ect Engineer at General Electric (GE)\, where he specialized in Fixed Seri
 es Capacitor projects. He holds a Master&amp;rsquo\;s degree from Purdue Unive
 rsity.&lt;/p&gt;\n&lt;p class=&quot;MsoPlainText&quot;&gt;&amp;nbsp\;&lt;/p&gt;\n&lt;p class=&quot;MsoPlainText&quot;&gt;P
 DH: 1 PDH available&lt;/p&gt;\n&lt;p class=&quot;MsoPlainText&quot;&gt;&amp;nbsp\;&lt;/p&gt;\n&lt;p class=&quot;Ms
 oPlainText&quot;&gt;Dinner Cost:&lt;/p&gt;\n&lt;p class=&quot;MsoPlainText&quot;&gt;$25.00 for IEEE Memb
 ers\; $25.00 Member Guest&lt;/p&gt;\n&lt;p class=&quot;MsoPlainText&quot;&gt;$15.00 for Life Mem
 bers\; $15.00 Life Member Guest&lt;/p&gt;\n&lt;p class=&quot;MsoPlainText&quot;&gt;$15.00 for St
 udent Members&lt;/p&gt;\n&lt;p class=&quot;MsoPlainText&quot;&gt;$30.00 for Non-members\; $30.00
  Non-Member Guest&lt;/p&gt;\n&lt;p class=&quot;MsoPlainText&quot;&gt;PAYMENT: Cash\, Check\,&lt;/p&gt;
 \n&lt;p class=&quot;MsoPlainText&quot;&gt;&amp;nbsp\;&lt;/p&gt;\n&lt;p class=&quot;MsoPlainText&quot;&gt;NOTE: Room 
 Capacity is 36 persons! RSVP SOON!&lt;/p&gt;\n&lt;p class=&quot;MsoPlainText&quot;&gt;PLEASE RSV
 P BY 5 PM WEDNESDAY JANUARY 21\, 2026 TO:&lt;/p&gt;\n&lt;p class=&quot;MsoPlainText&quot;&gt;RIC
 HARD MILLER: &lt;a href=&quot;mailto:lighth@bellsouth.net&quot;&gt;lighth@bellsouth.net&lt;/a
 &gt; or 504-905-3524 (cell) REMEMBER TO INCLUDE YOUR ENTR&amp;Eacute\;E SELECTION
  WITH RSVP ! !&lt;/p&gt;\n&lt;p class=&quot;MsoPlainText&quot;&gt;&amp;nbsp\;&lt;/p&gt;\n&lt;p class=&quot;MsoPlai
 nText&quot;&gt;DINNER MENU:&lt;/p&gt;\n&lt;p class=&quot;MsoPlainText&quot;&gt;Appetizers&lt;/p&gt;\n&lt;p class=
 &quot;MsoPlainText&quot;&gt;Charbroiled Oysters (3 per person)&lt;/p&gt;\n&lt;p class=&quot;MsoPlainT
 ext&quot;&gt;&amp;nbsp\;&lt;/p&gt;\n&lt;p class=&quot;MsoPlainText&quot;&gt;Salad: Tossed Mediterranean&lt;/p&gt;\
 n&lt;p class=&quot;MsoPlainText&quot;&gt;&amp;nbsp\;&lt;/p&gt;\n&lt;p class=&quot;MsoPlainText&quot;&gt;Entrees: Cho
 ice of One&lt;/p&gt;\n&lt;p class=&quot;MsoPlainText&quot;&gt;Maine Lobster with potatoes&lt;/p&gt;\n&lt;
 p class=&quot;MsoPlainText&quot;&gt;Fried Shrimp Platter&lt;/p&gt;\n&lt;p class=&quot;MsoPlainText&quot;&gt;P
 an Seared Chicken with Alfredo pasta&lt;/p&gt;\n&lt;p class=&quot;MsoPlainText&quot;&gt;&amp;nbsp\;&lt;
 /p&gt;\n&lt;p class=&quot;MsoPlainText&quot;&gt;Dessert: Cheesecake&lt;/p&gt;\n&lt;p class=&quot;MsoPlainTe
 xt&quot;&gt;&amp;nbsp\;&lt;/p&gt;\n&lt;p class=&quot;MsoPlainText&quot;&gt;Beverage: Soft drinks\, Unsweeten
 ed Iced Tea\, &amp;amp\; Coffee&lt;/p&gt;\n&lt;p class=&quot;MsoPlainText&quot;&gt;&amp;nbsp\;&lt;/p&gt;\n&lt;p c
 lass=&quot;MsoPlainText&quot;&gt;NOTE: CASH BAR &amp;ndash\; SEPARATE TAB PER GUEST&lt;/p&gt;
END:VEVENT
END:VCALENDAR

