BEGIN:VCALENDAR
VERSION:2.0
PRODID:IEEE vTools.Events//EN
CALSCALE:GREGORIAN
BEGIN:VTIMEZONE
TZID:Asia/Kolkata
BEGIN:STANDARD
DTSTART:19451014T230000
TZOFFSETFROM:+0630
TZOFFSETTO:+0530
TZNAME:IST
END:STANDARD
END:VTIMEZONE
BEGIN:VEVENT
DTSTAMP:20260110T060201Z
UID:6735DE7E-DE0C-409A-93CD-7596767B3127
DTSTART;TZID=Asia/Kolkata:20260219T083000
DTEND;TZID=Asia/Kolkata:20260219T150500
DESCRIPTION:The Inauguration of the RFID Chapter 2026 marks the official la
 unch of a dynamic platform dedicated to fostering innovation\, knowledge s
 haring\, and professional growth in the field of Radio Frequency Identific
 ation and related technologies. This event brings together students\, facu
 lty\, and industry professionals to celebrate the beginning of a new chapt
 er focused on technical excellence\, collaborative learning\, and real-wor
 ld applications of RFID. The inauguration sets the stage for a year of wor
 kshops\, seminars\, industry interactions\, and hands-on projects aimed at
  empowering members with practical skills and insights into emerging trend
 s and advancements in RFID technology.\n\nBldg: RJ BLOCK SEMINAR HALL\, R.
 M.K. ENGINEERING COLLEGE\, KAVARAIPETTAI\, KAVARAIPETTAI\, Tamil Nadu\, In
 dia\, 601206
LOCATION:Bldg: RJ BLOCK SEMINAR HALL\, R.M.K. ENGINEERING COLLEGE\, KAVARAI
 PETTAI\, KAVARAIPETTAI\, Tamil Nadu\, India\, 601206
ORGANIZER:tdsubha2010@gmail.com
SEQUENCE:13
SUMMARY:Inauguration of RFID Chapter 2026
URL;VALUE=URI:https://events.vtools.ieee.org/m/532190
X-ALT-DESC:Description: &lt;br /&gt;&lt;div class=&quot;flex max-w-full flex-col grow&quot;&gt;\n
 &lt;div class=&quot;min-h-8 text-message relative flex w-full flex-col items-end g
 ap-2 text-start break-words whitespace-normal [.text-message+&amp;amp\;]:mt-1&quot;
  dir=&quot;auto&quot; data-message-author-role=&quot;assistant&quot; data-message-id=&quot;e108db2d
 -fe79-482b-b68d-dc809311426f&quot; data-message-model-slug=&quot;gpt-5-2&quot;&gt;\n&lt;div cla
 ss=&quot;flex w-full flex-col gap-1 empty:hidden first:pt-[1px]&quot;&gt;\n&lt;div class=&quot;
 markdown prose dark:prose-invert w-full break-words dark markdown-new-styl
 ing&quot;&gt;\n&lt;p data-start=&quot;0&quot; data-end=&quot;688&quot; data-is-last-node=&quot;&quot; data-is-only-
 node=&quot;&quot;&gt;The &lt;strong data-start=&quot;4&quot; data-end=&quot;45&quot;&gt;Inauguration of the RFID 
 Chapter 2026&lt;/strong&gt; marks the official launch of a dynamic platform dedi
 cated to fostering innovation\, knowledge sharing\, and professional growt
 h in the field of Radio Frequency Identification and related technologies.
  This event brings together students\, faculty\, and industry professional
 s to celebrate the beginning of a new chapter focused on technical excelle
 nce\, collaborative learning\, and real-world applications of RFID. The in
 auguration sets the stage for a year of workshops\, seminars\, industry in
 teractions\, and hands-on projects aimed at empowering members with practi
 cal skills and insights into emerging trends and advancements in RFID tech
 nology.&lt;/p&gt;\n&lt;/div&gt;\n&lt;/div&gt;\n&lt;/div&gt;\n&lt;/div&gt;\n&lt;div class=&quot;z-0 flex min-h-[4
 6px] justify-start&quot;&gt;&amp;nbsp\;&lt;/div&gt;\n&lt;div class=&quot;mt-3 w-full empty:hidden&quot;&gt;\
 n&lt;div class=&quot;text-center&quot;&gt;\n&lt;div&gt;\n&lt;div class=&quot;inline-flex border border-g
 ray-100 dark:border-gray-700 rounded-xl&quot;&gt;\n&lt;div class=&quot;text-token-text-sec
 ondary flex items-center justify-center gap-4 px-4 py-2.5 text-sm whitespa
 ce-nowrap&quot;&gt;&amp;nbsp\;&lt;/div&gt;\n&lt;/div&gt;\n&lt;/div&gt;\n&lt;/div&gt;\n&lt;/div&gt;
END:VEVENT
END:VCALENDAR

