BEGIN:VCALENDAR
VERSION:2.0
PRODID:IEEE vTools.Events//EN
CALSCALE:GREGORIAN
BEGIN:VTIMEZONE
TZID:Asia/Kolkata
BEGIN:STANDARD
DTSTART:19451014T230000
TZOFFSETFROM:+0630
TZOFFSETTO:+0530
TZNAME:IST
END:STANDARD
END:VTIMEZONE
BEGIN:VEVENT
DTSTAMP:20260110T073437Z
UID:11AB4D4D-7092-4D37-93B8-B106FAC666F6
DTSTART;TZID=Asia/Kolkata:20260219T083000
DTEND;TZID=Asia/Kolkata:20260219T150500
DESCRIPTION:The Inauguration of the CSC Chapter 2026 marks the official lau
 nch of a dynamic platform focused on strengthening knowledge\, innovation\
 , and professional skills in the field of computer science and computing t
 echnologies. This inaugural event brings together students\, faculty\, and
  industry professionals to begin a collaborative journey of learning\, res
 earch\, and technological advancement. The CSC Chapter aims to facilitate 
 workshops\, technical talks\, coding sessions\, and industry interactions 
 throughout the year\, empowering members to stay current with emerging tre
 nds and to develop practical\, problem-solving skills aligned with real-wo
 rld computing challenges.\n\nBldg: RJ BLOCK SEMINAR HALL\, R.M.K. ENGINEER
 ING COLLEGE\, KAVARAIPETTAI\, KAVARAIPETTAI\, Tamil Nadu\, India\, 601206
LOCATION:Bldg: RJ BLOCK SEMINAR HALL\, R.M.K. ENGINEERING COLLEGE\, KAVARAI
 PETTAI\, KAVARAIPETTAI\, Tamil Nadu\, India\, 601206
ORGANIZER:tdsubha2010@gmail.com
SEQUENCE:7
SUMMARY:Inauguration of CSC Chapter 2026
URL;VALUE=URI:https://events.vtools.ieee.org/m/532207
X-ALT-DESC:Description: &lt;br /&gt;&lt;p&gt;The &lt;strong&gt;Inauguration of the CSC Chapte
 r 2026&lt;/strong&gt; marks the official launch of a dynamic platform focused on
  strengthening knowledge\, innovation\, and professional skills in the fie
 ld of computer science and computing technologies. This inaugural event br
 ings together students\, faculty\, and industry professionals to begin a c
 ollaborative journey of learning\, research\, and technological advancemen
 t. The CSC Chapter aims to facilitate workshops\, technical talks\, coding
  sessions\, and industry interactions throughout the year\, empowering mem
 bers to stay current with emerging trends and to develop practical\, probl
 em-solving skills aligned with real-world computing challenges.&lt;/p&gt;
END:VEVENT
END:VCALENDAR

