BEGIN:VCALENDAR
VERSION:2.0
PRODID:IEEE vTools.Events//EN
CALSCALE:GREGORIAN
BEGIN:VTIMEZONE
TZID:Asia/Kolkata
BEGIN:STANDARD
DTSTART:19451014T230000
TZOFFSETFROM:+0630
TZOFFSETTO:+0530
TZNAME:IST
END:STANDARD
END:VTIMEZONE
BEGIN:VEVENT
DTSTAMP:20260110T080440Z
UID:0079FA75-18FB-4A98-A1BE-625B2D65D88F
DTSTART;TZID=Asia/Kolkata:20260219T083000
DTEND;TZID=Asia/Kolkata:20260219T150500
DESCRIPTION:The Inauguration of the SEN39 Chapter 2026 marks the formal est
 ablishment of a dedicated platform aimed at fostering technical excellence
 \, innovation\, and professional development in the domain of SEN39. This 
 inaugural event brings together students\, faculty members\, and industry 
 experts to commence a collaborative journey of learning\, knowledge sharin
 g\, and hands-on engagement. The SEN39 Chapter envisions organizing worksh
 ops\, technical sessions\, expert lectures\, and practical activities thro
 ughout the year\, enabling members to stay updated with emerging technolog
 ies and to apply their skills effectively in real-world scenarios.\n\nBldg
 : RJ BLOCK SEMINAR HALL\, R.M.K. ENGINEERING COLLEGE\, KAVARAIPETTAI\, KAV
 ARAIPETTAI\, Tamil Nadu\, India\, 601206
LOCATION:Bldg: RJ BLOCK SEMINAR HALL\, R.M.K. ENGINEERING COLLEGE\, KAVARAI
 PETTAI\, KAVARAIPETTAI\, Tamil Nadu\, India\, 601206
ORGANIZER:tdsubha2010@gmail.com
SEQUENCE:6
SUMMARY:Inauguration of SEN39 Chapter 2026
URL;VALUE=URI:https://events.vtools.ieee.org/m/532220
X-ALT-DESC:Description: &lt;br /&gt;&lt;p&gt;The &lt;strong&gt;Inauguration of the SEN39 Chap
 ter 2026&lt;/strong&gt; marks the formal establishment of a dedicated platform a
 imed at fostering technical excellence\, innovation\, and professional dev
 elopment in the domain of SEN39. This inaugural event brings together stud
 ents\, faculty members\, and industry experts to commence a collaborative 
 journey of learning\, knowledge sharing\, and hands-on engagement. The SEN
 39 Chapter envisions organizing workshops\, technical sessions\, expert le
 ctures\, and practical activities throughout the year\, enabling members t
 o stay updated with emerging technologies and to apply their skills effect
 ively in real-world scenarios.&lt;/p&gt;
END:VEVENT
END:VCALENDAR

