BEGIN:VCALENDAR
VERSION:2.0
PRODID:IEEE vTools.Events//EN
CALSCALE:GREGORIAN
BEGIN:VTIMEZONE
TZID:America/Los_Angeles
BEGIN:DAYLIGHT
DTSTART:20260308T030000
TZOFFSETFROM:-0800
TZOFFSETTO:-0700
RRULE:FREQ=YEARLY;BYDAY=2SU;BYMONTH=3
TZNAME:PDT
END:DAYLIGHT
BEGIN:STANDARD
DTSTART:20251102T010000
TZOFFSETFROM:-0700
TZOFFSETTO:-0800
RRULE:FREQ=YEARLY;BYDAY=1SU;BYMONTH=11
TZNAME:PST
END:STANDARD
END:VTIMEZONE
BEGIN:VEVENT
DTSTAMP:20260131T085818Z
UID:EBECBFF1-9583-48C2-9A3F-B175B4E4CF9A
DTSTART;TZID=America/Los_Angeles:20260121T180000
DTEND;TZID=America/Los_Angeles:20260121T200200
DESCRIPTION:Location - Rusty’s Pizza\n\n5934 Calle Real\, Goleta\, CA 931
 17\n\n6:00 PM – Complimentary Pizza\, Salad\, Beverage\n\n6:30 PM – Ce
 ntral Coast Status\n\n6:35 PM – Mike Ricci Presents\n\nPlease Register B
 elow and join us on for the January Tech talk\, where Mike will honor us w
 ith an interesting talk on LaunchPoint&#39;s patented lightweight permanent ma
 gnet starter generator and discuss our applications of it to hybrid-electr
 ic flight. Mike is my CTO\, he is a brilliant engineer\, IEEE Central Coas
 t is lucky to have him come and talk with us! He is a great presenter and 
 I am also excited to hear his talk and I’ve been working with him for th
 e past 3 years! Best regards\, Jordan Ross IEEE Central Coast PACE Chair.\
 n\nLink to Register yourself and Guests\n\nSpeaker(s): \, Mike Ricci\n\nRo
 om: Room Number: Event Room\, Rusty&#39;s Pizza 5934 Calle Real \, Goleta\, Ca
 lifornia\, United States\, 93117\, Virtual: https://events.vtools.ieee.org
 /m/532698
LOCATION:Room: Room Number: Event Room\, Rusty&#39;s Pizza 5934 Calle Real \, G
 oleta\, California\, United States\, 93117\, Virtual: https://events.vtool
 s.ieee.org/m/532698
ORGANIZER:rfranklin.ieee@gmail.com
SEQUENCE:24
SUMMARY:IEEE CENTRAL COAST EVENT - 21 JANUARY @ 6PM @ RUSTY&#39;S “The promis
 e and peril of hybrid electric aircraft” Mike Ricci\, Chief Technology O
 fficer at LaunchPoint EPS
URL;VALUE=URI:https://events.vtools.ieee.org/m/532698
X-ALT-DESC:Description: &lt;br /&gt;&lt;p dir=&quot;ltr&quot;&gt;&lt;strong&gt;&lt;span style=&quot;color: rgb(
 224\, 62\, 45)\;&quot;&gt;Location - Rusty&amp;rsquo\;s Pizza &lt;/span&gt;&lt;/strong&gt;&amp;nbsp\;&amp;
 nbsp\;&amp;nbsp\;&amp;nbsp\;&amp;nbsp\;&amp;nbsp\;&amp;nbsp\;&amp;nbsp\;&amp;nbsp\;&amp;nbsp\;&amp;nbsp\;&amp;nbsp
 \;&amp;nbsp\;&amp;nbsp\;&amp;nbsp\;&amp;nbsp\;&amp;nbsp\;&amp;nbsp\;&amp;nbsp\;&amp;nbsp\;&amp;nbsp\;&amp;nbsp\;&amp;n
 bsp\;&amp;nbsp\;&amp;nbsp\;&amp;nbsp\;&amp;nbsp\;&amp;nbsp\;&amp;nbsp\;&amp;nbsp\;&amp;nbsp\;&amp;nbsp\;&amp;nbsp\
 ;&amp;nbsp\;&amp;nbsp\;&amp;nbsp\;&amp;nbsp\;&amp;nbsp\;&amp;nbsp\;&amp;nbsp\;&amp;nbsp\;&amp;nbsp\;&amp;nbsp\;&amp;nb
 sp\;&amp;nbsp\;&amp;nbsp\;&amp;nbsp\;&amp;nbsp\;&amp;nbsp\;&amp;nbsp\;&lt;/p&gt;\n&lt;p dir=&quot;ltr&quot;&gt;5934 Call
 e Real\, Goleta\, CA 93117&lt;/p&gt;\n&lt;p dir=&quot;ltr&quot;&gt;&lt;img src=&quot;https://events.vtoo
 ls.ieee.org/vtools_ui/media/display/9a02030e-7d84-42f5-9a66-cbf09018d769&quot; 
 width=&quot;233&quot; height=&quot;175&quot;&gt;&lt;/p&gt;\n&lt;p dir=&quot;ltr&quot;&gt;6:00 PM &amp;ndash\; Complimentary
  Pizza\, Salad\, Beverage&lt;/p&gt;\n&lt;p dir=&quot;ltr&quot;&gt;6:30 PM &amp;ndash\; Central Coast
  Status&lt;/p&gt;\n&lt;p dir=&quot;ltr&quot;&gt;6:35 PM &amp;ndash\; Mike Ricci Presents&lt;/p&gt;\n&lt;p dir
 =&quot;ltr&quot;&gt;Please Register Below and join us on for the January Tech talk\, wh
 ere Mike will honor us with an interesting talk on LaunchPoint&#39;s patented 
 lightweight permanent magnet starter generator and discuss our application
 s of it to hybrid-electric flight. Mike is my CTO\, he is a brilliant engi
 neer\, IEEE Central Coast is lucky to have him come and talk with us! He i
 s a great presenter and I am also excited to hear his talk and I&amp;rsquo\;ve
  been working with him for the past 3 years! &amp;nbsp\;Best regards\, Jordan 
 Ross IEEE Central Coast PACE Chair.&lt;/p&gt;\n&lt;p dir=&quot;ltr&quot;&gt;Link to Register you
 rself and Guests&lt;/p&gt;\n&lt;p&gt;&amp;nbsp\;&lt;/p&gt;
END:VEVENT
END:VCALENDAR

