BEGIN:VCALENDAR
VERSION:2.0
PRODID:IEEE vTools.Events//EN
CALSCALE:GREGORIAN
BEGIN:VTIMEZONE
TZID:America/Phoenix
BEGIN:STANDARD
DTSTART:19671029T010000
TZOFFSETFROM:-0600
TZOFFSETTO:-0700
TZNAME:MST
END:STANDARD
END:VTIMEZONE
BEGIN:VEVENT
DTSTAMP:20260114T001907Z
UID:246819FA-CC79-47C6-B409-996BBA68EC62
DTSTART;TZID=America/Phoenix:20260123T170000
DTEND;TZID=America/Phoenix:20260123T193000
DESCRIPTION:DInner meeting at Blacksheep Wine bar and merchant in Chandler 
 downtown\n\nBlacksheep Wine Bar and Merchant\, 98 S San Marcos Pl\, Chandl
 er\, Arizona\, United States\, 85226
LOCATION:Blacksheep Wine Bar and Merchant\, 98 S San Marcos Pl\, Chandler\,
  Arizona\, United States\, 85226
ORGANIZER:harshini.yerra@microchip.com
SEQUENCE:7
SUMMARY:IEEE WIE Dinner Meeting
URL;VALUE=URI:https://events.vtools.ieee.org/m/532758
X-ALT-DESC:Description: &lt;br /&gt;&lt;p&gt;DInner meeting at Blacksheep Wine bar and 
 merchant in Chandler downtown&lt;/p&gt;
END:VEVENT
END:VCALENDAR

