BEGIN:VCALENDAR
VERSION:2.0
PRODID:IEEE vTools.Events//EN
CALSCALE:GREGORIAN
BEGIN:VTIMEZONE
TZID:Asia/Singapore
BEGIN:DAYLIGHT
DTSTART:20380119T111407
TZOFFSETFROM:+0800
TZOFFSETTO:+0800
RRULE:FREQ=YEARLY;BYDAY=3TU;BYMONTH=1
TZNAME:+08
END:DAYLIGHT
BEGIN:STANDARD
DTSTART:19820101T000000
TZOFFSETFROM:+0730
TZOFFSETTO:+0800
RRULE:FREQ=YEARLY;BYDAY=1FR;BYMONTH=1
TZNAME:+08
END:STANDARD
END:VTIMEZONE
BEGIN:VEVENT
DTSTAMP:20260128T145128Z
UID:ACC8FA6E-C552-4D4E-B7D6-7E745A38F95D
DTSTART;TZID=Asia/Singapore:20260121T100000
DTEND;TZID=Asia/Singapore:20260121T110000
DESCRIPTION:Seminar by Professor Jack (Xuejun) Li\, Auckland University of 
 Technology\, New Zealand\n\nTitle: Towards Software-Defined Hardware: Past
 \, Present and Prospective\n\nDate: Wednesday\, 21 January 2026\, 10am.\n\
 nVenue: COSMO Lab meeting Room\, School of EEE S2-B3b-10\, NTU\n\nHost: Pr
 of Guan Yong Liang\, EEE NTU\n\nSynopsis (45 minutes): The past three deca
 des have witnessed a shift from rigid\, hardware-specific wireless systems
  to flexible\, software-defined radios. Yet\, the analog RF frontend remai
 ns a bottleneck\, limiting adaptability across emerging standards such as 
 6G\, IoT\, and beyond. This seminar explores the evolution towards softwar
 e-defined hardware—where antennas\, filters\, power amplifiers\, and oth
 er RF components become programmable and reconfigurable in real time. Draw
 ing on examples from reconfigurable antennas and low noise amplifiers\, I 
 will discuss both the technological advances and the remaining challenges.
  The talk will conclude with a forward-looking vision of fully software-de
 fined hardware ecosystems in 2035 and their implications for wireless netw
 orking research and practice.\n\n[Our people - Centre for Wireless and Int
 elligent Systems Engineering - AUT]\n\nBiography: Xuejun Li is a Full Prof
 essor and Programme Director for the Bachelor of Engineering (Honours) Pro
 gramme at the School of Engineering\, Computer and Mathematical Sciences\,
  Auckland University of Technology (AUT)\, New Zealand. He received his B.
 Eng (First Class Honors) and PhD in electrical and electronic engineering 
 from Nanyang Technological University (NTU)\, Singapore\, in 2004 and 2008
 \, respectively. Between November 2007 and July 2008\, he worked as a Rese
 arch Engineer and then as a Research Fellow at the Network Technology Rese
 arch Centre\, NTU. Between August 2008 and September 2008\, he worked as a
  Research Scientist in Temasek Laboratories @ NTU. From September 2008 to 
 May 2011\, he was with the School of Electrical and Electronic Engineering
 \, NTU as a faculty member. Between June 2011 and January 2013\, he worked
  as a Research Scientist at the Institute for Infocomm Research (I2R)\, Ag
 ency for Science\, Technology and Research (A*STAR)\, Singapore. Since Jan
 uary 2013\, he has been with the Department of Electrical and Electronic E
 ngineering\, School of Engineering\, Computer and Mathematical Science\, A
 UT. His research interests include design/analysis of wireless networking 
 protocols\, modelling/design of radio frequency integrated circuits\, syst
 em optimizations\, video compression and artificial intelligence.\n\nSinga
 pore\, Singapore\, Singapore
LOCATION:Singapore\, Singapore\, Singapore
ORGANIZER:eylguan@ntu.edu.sg
SEQUENCE:5
SUMMARY:Seminar: Towards Software-Defined Hardware: Past\, Present and Pros
 pective
URL;VALUE=URI:https://events.vtools.ieee.org/m/532871
X-ALT-DESC:Description: &lt;br /&gt;&lt;p class=&quot;MsoNormal&quot;&gt;&lt;strong&gt;Seminar by Profe
 ssor Jack (Xuejun) Li\, Auckland University of Technology\, New Zealand&lt;/s
 trong&gt;&lt;/p&gt;\n&lt;p class=&quot;MsoNormal&quot;&gt;&lt;strong&gt;&amp;nbsp\;&lt;/strong&gt;&lt;strong&gt;&amp;nbsp\;&lt;/
 strong&gt;&lt;/p&gt;\n&lt;p class=&quot;MsoNormal&quot;&gt;&lt;strong&gt;Title&lt;/strong&gt;: Towards Software
 -Defined Hardware: Past\, Present and Prospective&lt;/p&gt;\n&lt;p class=&quot;MsoNormal
 &quot;&gt;&lt;strong&gt;&amp;nbsp\;&lt;/strong&gt;&lt;/p&gt;\n&lt;p class=&quot;MsoNormal&quot;&gt;&lt;strong&gt;Date&lt;/strong&gt;
 :&amp;nbsp\; Wednesday\, 21 January 2026\, 10am.&lt;/p&gt;\n&lt;p class=&quot;MsoNormal&quot;&gt;&lt;st
 rong&gt;&amp;nbsp\;&lt;/strong&gt;&lt;/p&gt;\n&lt;p class=&quot;MsoNormal&quot;&gt;&lt;strong&gt;Venue&lt;/strong&gt;: CO
 SMO Lab meeting Room\, School of EEE S2-B3b-10\, NTU&lt;/p&gt;\n&lt;p class=&quot;MsoNor
 mal&quot;&gt;&lt;strong&gt;&amp;nbsp\;&lt;/strong&gt;&lt;/p&gt;\n&lt;p class=&quot;MsoNormal&quot;&gt;&lt;strong&gt;Host:&lt;/str
 ong&gt;&lt;span style=&quot;font-size: 11.0pt\; line-height: 115%\; font-family: &#39;Tim
 es New Roman&#39;\,serif\; mso-bidi-theme-font: minor-bidi\;&quot;&gt; &lt;/span&gt;Prof Gua
 n Yong Liang\, EEE NTU&lt;/p&gt;\n&lt;p class=&quot;MsoNormal&quot;&gt;&lt;strong&gt;&amp;nbsp\;&lt;/strong&gt;&lt;
 /p&gt;\n&lt;p class=&quot;MsoNormal&quot;&gt;&lt;strong&gt;Synopsis (45 minutes)&lt;/strong&gt;: The past
  three decades have witnessed a shift from rigid\, hardware-specific wirel
 ess systems to flexible\, software-defined radios. Yet\, the analog RF fro
 ntend remains a bottleneck\, limiting adaptability across emerging standar
 ds such as 6G\, IoT\, and beyond. This seminar explores the evolution towa
 rds software-defined hardware&amp;mdash\;where antennas\, filters\, power ampl
 ifiers\, and other RF components become programmable and reconfigurable in
  real time. Drawing on examples from reconfigurable antennas and low noise
  amplifiers\, I will discuss both the technological advances and the remai
 ning challenges. The talk will conclude with a forward-looking vision of f
 ully software-defined hardware ecosystems in 2035 and their implications f
 or wireless networking research and practice.&lt;/p&gt;\n&lt;p class=&quot;MsoNormal&quot;&gt;&amp;n
 bsp\;&lt;/p&gt;\n&lt;p class=&quot;MsoNormal&quot;&gt;&lt;strong&gt;&lt;span style=&quot;mso-no-proof: yes\;&quot;&gt;
 &lt;img src=&quot;https://events.vtools.ieee.org/vtools_ui/media/display/3162c9d3-
 2179-44ca-a4f9-54b007aa537a&quot; alt=&quot;Our people - Centre for Wireless and Int
 elligent Systems Engineering - AUT&quot; width=&quot;143&quot; height=&quot;191&quot;&gt;&lt;/span&gt;&lt;/stro
 ng&gt;&lt;/p&gt;\n&lt;p class=&quot;MsoNormal&quot;&gt;&lt;strong&gt;Biography&lt;/strong&gt;: Xuejun Li is a F
 ull Professor and Programme Director for the Bachelor of Engineering (Hono
 urs) Programme at the School of Engineering\, Computer and Mathematical Sc
 iences\, Auckland University of Technology (AUT)\, New Zealand. He receive
 d his B.Eng (First Class Honors) and PhD in electrical and electronic engi
 neering from Nanyang Technological University (NTU)\, Singapore\, in 2004 
 and 2008\, respectively. Between November 2007 and July 2008\, he worked a
 s a Research Engineer and then as a Research Fellow at the Network Technol
 ogy Research Centre\, NTU. Between August 2008 and September 2008\, he wor
 ked as a Research Scientist in Temasek Laboratories @ NTU. From September 
 2008 to May 2011\, he was with the School of Electrical and Electronic Eng
 ineering\, NTU as a faculty member. Between June 2011 and January 2013\, h
 e worked as a Research Scientist at the Institute for Infocomm Research (I
 2R)\, Agency for Science\, Technology and Research (A*STAR)\, Singapore. S
 ince January 2013\, he has been with the Department of Electrical and Elec
 tronic Engineering\, School of Engineering\, Computer and Mathematical Sci
 ence\, AUT. His research interests include design/analysis of wireless net
 working protocols\, modelling/design of radio frequency integrated circuit
 s\, system optimizations\, video compression and artificial intelligence.&lt;
 /p&gt;
END:VEVENT
END:VCALENDAR

